BEGIN:VCALENDAR
VERSION:2.0
PRODID:-//Actaea - ECPv6.15.20//NONSGML v1.0//EN
CALSCALE:GREGORIAN
METHOD:PUBLISH
X-ORIGINAL-URL:https://actaea.cz
X-WR-CALDESC:Akce na Actaea
REFRESH-INTERVAL;VALUE=DURATION:PT1H
X-Robots-Tag:noindex
X-PUBLISHED-TTL:PT1H
BEGIN:VTIMEZONE
TZID:Europe/Prague
BEGIN:DAYLIGHT
TZOFFSETFROM:+0100
TZOFFSETTO:+0200
TZNAME:CEST
DTSTART:20240331T010000
END:DAYLIGHT
BEGIN:STANDARD
TZOFFSETFROM:+0200
TZOFFSETTO:+0100
TZNAME:CET
DTSTART:20241027T010000
END:STANDARD
BEGIN:DAYLIGHT
TZOFFSETFROM:+0100
TZOFFSETTO:+0200
TZNAME:CEST
DTSTART:20250330T010000
END:DAYLIGHT
BEGIN:STANDARD
TZOFFSETFROM:+0200
TZOFFSETTO:+0100
TZNAME:CET
DTSTART:20251026T010000
END:STANDARD
BEGIN:DAYLIGHT
TZOFFSETFROM:+0100
TZOFFSETTO:+0200
TZNAME:CEST
DTSTART:20260329T010000
END:DAYLIGHT
BEGIN:STANDARD
TZOFFSETFROM:+0200
TZOFFSETTO:+0100
TZNAME:CET
DTSTART:20261025T010000
END:STANDARD
END:VTIMEZONE
BEGIN:VEVENT
DTSTART;TZID=Europe/Prague:20250417T090000
DTEND;TZID=Europe/Prague:20250417T170000
DTSTAMP:20260421T234430
CREATED:20250401T172253Z
LAST-MODIFIED:20250401T172819Z
UID:10002069-1744880400-1744909200@actaea.cz
SUMMARY:Velikonoční tvoření
DESCRIPTION:První akce letošního roku je konečně tady! \nAčkoliv byla letošní zimní pauza z důvodu zářijových povodní dlouhá\, 17. dubna 2025 to u nás opět ožije\, a to rovnou na celý den! \nBudeme vyrábět\, malovat\, hrát si\, užívat si Zelený čtvrtek se vším všudy. Děti můžete poslat i bez doprovodu\, rádi se o ně postaráme. A když dorazíte s nimi\, pohostíme Vás dobrým nápojem či sladkou pochutinou. V rámci tohoto dne také proběhne workshop k letnímu táboru. Proto neváhejte a přijďte se za námi podívat! \nTěšit se na Vás budeme od 9 do 12 hodin a od 14 do 17 hodin.
URL:https://actaea.cz/akce/4685/
LOCATION:VÍCE Ve mlýně\, Karlovice 421\, Karlovice\, 793 23\, Česká republika
CATEGORIES:Tvoření a hry
ATTACH;FMTTYPE=image/jpeg:https://actaea.cz/wp-content/uploads/2025/03/Tvoreni_Velikonoce_duben_25.jpg
END:VEVENT
BEGIN:VEVENT
DTSTART;TZID=Europe/Prague:20250417T090000
DTEND;TZID=Europe/Prague:20250417T170000
DTSTAMP:20260421T234430
CREATED:20250401T172604Z
LAST-MODIFIED:20250401T172738Z
UID:10002070-1744880400-1744909200@actaea.cz
SUMMARY:Workshop k letnímu táboru
DESCRIPTION:Ve čtvrtek 17. dubna 2025 u nás neproběhne jen Velikonoční tvoření\, ale také workshop k letnímu táboru\, kde si společně zakouzlíme a užijeme si magickou zábavu! \nTématem letošního letního tábora je kouzelný svět Harryho Pottera a součástí budou lekce čar a kouzel\, studium magických lektvarů\, zvířat a bylin a také spousta překvapení\, která účastníky promění v opravdové odvážné kouzelníky a čarodějky. \nPokud jste se ještě nepřihlásili\, tak nám stále zbývá pár volných míst! \n 
URL:https://actaea.cz/akce/workshop-k-letnimu-taboru/
LOCATION:VÍCE Ve mlýně\, Karlovice 421\, Karlovice\, 793 23\, Česká republika
CATEGORIES:Tvoření a hry
ATTACH;FMTTYPE=image/jpeg:https://actaea.cz/wp-content/uploads/2025/03/Workshop_tabor_duben_25.jpg
END:VEVENT
END:VCALENDAR