BEGIN:VCALENDAR
VERSION:2.0
PRODID:-//Actaea - ECPv6.15.20//NONSGML v1.0//EN
CALSCALE:GREGORIAN
METHOD:PUBLISH
X-WR-CALNAME:Actaea
X-ORIGINAL-URL:https://actaea.cz
X-WR-CALDESC:Akce na Actaea
REFRESH-INTERVAL;VALUE=DURATION:PT1H
X-Robots-Tag:noindex
X-PUBLISHED-TTL:PT1H
BEGIN:VTIMEZONE
TZID:Europe/Prague
BEGIN:DAYLIGHT
TZOFFSETFROM:+0100
TZOFFSETTO:+0200
TZNAME:CEST
DTSTART:20240331T010000
END:DAYLIGHT
BEGIN:STANDARD
TZOFFSETFROM:+0200
TZOFFSETTO:+0100
TZNAME:CET
DTSTART:20241027T010000
END:STANDARD
BEGIN:DAYLIGHT
TZOFFSETFROM:+0100
TZOFFSETTO:+0200
TZNAME:CEST
DTSTART:20250330T010000
END:DAYLIGHT
BEGIN:STANDARD
TZOFFSETFROM:+0200
TZOFFSETTO:+0100
TZNAME:CET
DTSTART:20251026T010000
END:STANDARD
BEGIN:DAYLIGHT
TZOFFSETFROM:+0100
TZOFFSETTO:+0200
TZNAME:CEST
DTSTART:20260329T010000
END:DAYLIGHT
BEGIN:STANDARD
TZOFFSETFROM:+0200
TZOFFSETTO:+0100
TZNAME:CET
DTSTART:20261025T010000
END:STANDARD
END:VTIMEZONE
BEGIN:VEVENT
DTSTART;TZID=Europe/Prague:20250603T150000
DTEND;TZID=Europe/Prague:20250603T170000
DTSTAMP:20260421T205609
CREATED:20250511T200212Z
LAST-MODIFIED:20250512T195816Z
UID:10002075-1748962800-1748970000@actaea.cz
SUMMARY:Červnová dílnička
DESCRIPTION:3. června 2025 Vás zveme na Červnovou dílničku\, na odpoledne plné tvoření\, chutí a předprázdninové pohody. \nOd 15 do 17 hodin bude připravena dílnička s letní tématikou\, chybět nebudou ani domácí bylinkové a ovocné limonády pro malé i velké. V patře bude k dispozici hernička pro děti. \nA pokud nám bude přát počasí\, můžete si vše vychutnat i při posezení na naší terase. Přijďte si užít pohodové odpoledne! \nTěšíme se na Vás! \nTým VÍCE Ve mlýně Karlovice
URL:https://actaea.cz/akce/cervnova-dilnicka/
LOCATION:VÍCE Ve mlýně\, Karlovice 421\, Karlovice\, 793 23\, Česká republika
CATEGORIES:Tvoření a hry
ATTACH;FMTTYPE=image/jpeg:https://actaea.cz/wp-content/uploads/2025/05/25_06_Cervnova-dilnicka-2.jpg
END:VEVENT
BEGIN:VEVENT
DTSTART;TZID=Europe/Prague:20250603T173000
DTEND;TZID=Europe/Prague:20250603T190000
DTSTAMP:20260421T205609
CREATED:20250519T165153Z
LAST-MODIFIED:20250525T195349Z
UID:10002078-1748971800-1748977200@actaea.cz
SUMMARY:Ženský kruh
DESCRIPTION:Vzdělávací centrum VÍCE Ve mlýně Karlovice vás srdečně zve do Ženského kruhu\, který proběhne 3. června 2025. \nOd 17:30 do 19:00  obnovíme tradici ženského kruhu\, budeme tančit\, sdílet\, pečovat o sebe samé. \nNechte své starosti doma a přidejte se k nám! \nVstupné dobrovolné. \nTěšíme se na vás! \nTým VÍCE Ve mlýně Karlovice
URL:https://actaea.cz/akce/zensky-kruh/
LOCATION:VÍCE Ve mlýně\, Karlovice 421\, Karlovice\, 793 23\, Česká republika
ATTACH;FMTTYPE=image/jpeg:https://actaea.cz/wp-content/uploads/2025/05/250603_zensky-kruh-1.jpg
END:VEVENT
BEGIN:VEVENT
DTSTART;TZID=Europe/Prague:20250614T100000
DTEND;TZID=Europe/Prague:20250614T170000
DTSTAMP:20260421T205609
CREATED:20250512T090111Z
LAST-MODIFIED:20250512T090147Z
UID:10002077-1749895200-1749920400@actaea.cz
SUMMARY:Workshop k letnímu táboru
DESCRIPTION:
URL:https://actaea.cz/akce/workshop-k-letnimu-taboru-2/
LOCATION:VÍCE Ve mlýně\, Karlovice 421\, Karlovice\, 793 23\, Česká republika
CATEGORIES:Tvoření a hry
END:VEVENT
BEGIN:VEVENT
DTSTART;TZID=Europe/Prague:20250617T173000
DTEND;TZID=Europe/Prague:20250617T190000
DTSTAMP:20260421T205609
CREATED:20250519T165300Z
LAST-MODIFIED:20250525T195710Z
UID:10002079-1750181400-1750186800@actaea.cz
SUMMARY:Meditace
DESCRIPTION:Vzdělávací centrum VÍCE Ve mlýně Karlovice vás srdečně zve na Meditaci\, která proběhne 17. června 2025. \nOd 17:30 do 19:00 budeme uvolňovat tělo i mysl\, zkusíme se na chvíli zastavit a užít si přítomný moment. \nNechte své starosti doma a přijďte k nám najít klid. \nVstupné 150 Kč. \nTěšíme se na vás! \nTým VÍCE Ve mlýně Karlovice
URL:https://actaea.cz/akce/meditace/
LOCATION:VÍCE Ve mlýně\, Karlovice 421\, Karlovice\, 793 23\, Česká republika
ATTACH;FMTTYPE=image/jpeg:https://actaea.cz/wp-content/uploads/2025/05/250617_meditace-Ve-mlyne.jpg
END:VEVENT
BEGIN:VEVENT
DTSTART;TZID=Europe/Prague:20250627T170000
DTEND;TZID=Europe/Prague:20250627T180000
DTSTAMP:20260421T205609
CREATED:20250625T140007Z
LAST-MODIFIED:20250625T140007Z
UID:10002110-1751043600-1751047200@actaea.cz
SUMMARY:Meditace Ve mlýně uctění Matky Země
DESCRIPTION:Přijďte uctít Matku Zemi\, procítit živly v nás a zatančit si indiánský tanec Tislogi. \nTislogi je indiánský tanec\, který má propojit tanečníka se sebou samým\, s okolním světem a s energiemi čtyř světových stran (sever\, jih\, východ\, západ) a protějšků (nahoře a dole).Tanec má pomoci najít rovnováhu mezi přijímáním a dáním\, uvolnit tělo a rozproudit energii. (AI)
URL:https://actaea.cz/akce/meditace-ve-mlyne-ucteni-matky-zeme/
LOCATION:VÍCE Ve mlýně\, Karlovice 421\, Karlovice\, 793 23\, Česká republika
CATEGORIES:Tvoření a hry
ORGANIZER;CN="Jesnick%C3%A1 v%C4%9Bdma":MAILTO:info@jesenickavedma.cz
END:VEVENT
BEGIN:VEVENT
DTSTART;TZID=Europe/Prague:20250628T100000
DTEND;TZID=Europe/Prague:20250628T170000
DTSTAMP:20260421T205609
CREATED:20250511T200407Z
LAST-MODIFIED:20250512T201019Z
UID:10002076-1751104800-1751130000@actaea.cz
SUMMARY:Vítání prázdnin
DESCRIPTION:28. června 2025 Vás srdečně zveme na Vítání prázdnin k nám do vzdělávacího centra VÍCE Ve mlýně. Oslava začátku prázdnin bude probíhat celou sobotu\, od 10 do 17 hodin. \nPro všechny malé i velké návštěvníky bude připravena dílnička s prázdninovou tématikou\, výborné sladké poháry se zmrzlinou\, venkovní posezení a osvěžující domácí limonády s čerstvým ovocem. \nTak neváhejte a přijďte si k nám užít první prázdninovou sobotu. \nTěšíme se na Vás! \nTým VÍCE Ve mlýně Karlovice
URL:https://actaea.cz/akce/vitani-prazdnin/
LOCATION:VÍCE Ve mlýně\, Karlovice 421\, Karlovice\, 793 23\, Česká republika
CATEGORIES:Tvoření a hry
ATTACH;FMTTYPE=image/jpeg:https://actaea.cz/wp-content/uploads/2025/05/VITANI-PRAZDNIN.jpg
END:VEVENT
BEGIN:VEVENT
DTSTART;TZID=Europe/Prague:20250628T170000
DTEND;TZID=Europe/Prague:20250628T183000
DTSTAMP:20260421T205609
CREATED:20250625T140529Z
LAST-MODIFIED:20250625T140529Z
UID:10002111-1751130000-1751135400@actaea.cz
SUMMARY:Meditace Ve mlýně setkání se svým zvířecím průvodcem
DESCRIPTION:Přijďte se setkat se svým duchovním zvířecím průvodcem. \nZvířecí průvodci mohou nést různé vlastnosti\, které se mohou promítat do našeho charakteru nebo nám pomáhají překonat určité situace. Mohou nás vést k moudrosti\, síle\, uzemnění\, léčení nebo k hlubšímu poznání sebe sama. Mohou nás vést celý život nebo v jeho určitých fázích. Pojďme se podívat\, jaké zvíře nás provází a co nám chce sdělit.
URL:https://actaea.cz/akce/meditace-ve-mlyne-setkani-se-svym-zvirecim-pruvodcem/
LOCATION:VÍCE Ve mlýně\, Karlovice 421\, Karlovice\, 793 23\, Česká republika
ATTACH;FMTTYPE=image/jpeg:https://actaea.cz/wp-content/uploads/2025/06/meditace-duchovni-zvireci-pruvodce-FB-1.jpg
ORGANIZER;CN="Jesnick%C3%A1 v%C4%9Bdma":MAILTO:info@jesenickavedma.cz
END:VEVENT
END:VCALENDAR