BEGIN:VCALENDAR
VERSION:2.0
PRODID:-//Actaea - ECPv6.15.20//NONSGML v1.0//EN
CALSCALE:GREGORIAN
METHOD:PUBLISH
X-ORIGINAL-URL:https://actaea.cz
X-WR-CALDESC:Akce na Actaea
REFRESH-INTERVAL;VALUE=DURATION:PT1H
X-Robots-Tag:noindex
X-PUBLISHED-TTL:PT1H
BEGIN:VTIMEZONE
TZID:Europe/Prague
BEGIN:DAYLIGHT
TZOFFSETFROM:+0100
TZOFFSETTO:+0200
TZNAME:CEST
DTSTART:20240331T010000
END:DAYLIGHT
BEGIN:STANDARD
TZOFFSETFROM:+0200
TZOFFSETTO:+0100
TZNAME:CET
DTSTART:20241027T010000
END:STANDARD
BEGIN:DAYLIGHT
TZOFFSETFROM:+0100
TZOFFSETTO:+0200
TZNAME:CEST
DTSTART:20250330T010000
END:DAYLIGHT
BEGIN:STANDARD
TZOFFSETFROM:+0200
TZOFFSETTO:+0100
TZNAME:CET
DTSTART:20251026T010000
END:STANDARD
BEGIN:DAYLIGHT
TZOFFSETFROM:+0100
TZOFFSETTO:+0200
TZNAME:CEST
DTSTART:20260329T010000
END:DAYLIGHT
BEGIN:STANDARD
TZOFFSETFROM:+0200
TZOFFSETTO:+0100
TZNAME:CET
DTSTART:20261025T010000
END:STANDARD
END:VTIMEZONE
BEGIN:VEVENT
DTSTART;TZID=Europe/Prague:20250902T173000
DTEND;TZID=Europe/Prague:20250902T203000
DTSTAMP:20260421T161355
CREATED:20250630T083253Z
LAST-MODIFIED:20250630T083253Z
UID:10002150-1756834200-1756845000@actaea.cz
SUMMARY:Ženské kruhy
DESCRIPTION:Na letní ženské kruhy ve VÍCE Ve mlýně zveme všechny ženy\, které chtějí na chvíli zpomalit\, nadechnout se a být samy sebou. Každý večer ponese své jedinečné téma – radost a péči o sebe\, sebelásku a vnitřní dítě i cestu k vnitřní rovnováze. \nSetkání proběhnou vždy v úterý\, 8. 7.\, 5. 8. a 2. 9. 2025\, od 17.30 do 20.30 ve VÍCE Ve mlýně.\nPočet míst je omezen\, rezervace předem opět nutná. Vstupné: 490 Kč za večer\, nebo 1 400 Kč za celý cyklus.
URL:https://actaea.cz/akce/zenske-kruhy/2025-09-02/
LOCATION:VÍCE Ve mlýně\, Karlovice 421\, Karlovice\, 793 23\, Česká republika
ATTACH;FMTTYPE=image/jpeg:https://actaea.cz/wp-content/uploads/2025/06/zenske-kruhy-leto-25.jpg
END:VEVENT
BEGIN:VEVENT
DTSTART;TZID=Europe/Prague:20250917T150000
DTEND;TZID=Europe/Prague:20250917T170000
DTSTAMP:20260421T161355
CREATED:20250828T091454Z
LAST-MODIFIED:20250828T091454Z
UID:10002228-1758121200-1758128400@actaea.cz
SUMMARY:Zářijová dílnička
DESCRIPTION:Srdečně vás zveme na akci \nZářijová dílnička\n  \ndatum: 17. září 2025 \nčas: 15-17 hodin \nkde: VÍCE Ve mlýně Karlovice \n\nPřijďte k nám přivítat podzim!\nBude pro vás připraveno tvoření pro malé i velké\, hernička s různými aktivitami.\nK prodeji bude drobné občerstvení a suvenýry.\n  \nTěšíme se na vás! \nTým VÍCE Ve mlýně Karlovice \n 
URL:https://actaea.cz/akce/zarijova-dilnicka/
LOCATION:VÍCE Ve mlýně\, Karlovice 421\, Karlovice\, 793 23\, Česká republika
CATEGORIES:Pro rodiče s dětmi,Tvoření a hry
ATTACH;FMTTYPE=image/jpeg:https://actaea.cz/wp-content/uploads/2025/08/Zarijova-dilnicka.jpg
END:VEVENT
BEGIN:VEVENT
DTSTART;TZID=Europe/Prague:20250926T093000
DTEND;TZID=Europe/Prague:20250926T150000
DTSTAMP:20260421T161355
CREATED:20250810T193203Z
LAST-MODIFIED:20250828T121842Z
UID:10002226-1758879000-1758898800@actaea.cz
SUMMARY:Hřebeny Hrubého Jeseníku
DESCRIPTION:Vzdělávací centrum VÍCE Ve mlýně Karlovice vás srdečně zve na exkurzi \nHřebeny Hrubého Jeseníku\n\n\nDatum: 26.9.2025 \nČas: 9:30 – 15:00 \nTrasa: Ovčárna – Vysoká Hole – Velká Kotlina \nCena: 900 Kč \nA co na vás čeká? \nPříroda\, krajina a historie Hrubého Jeseníku s našimi odborníky. \nTipy na aktivity ve výuce. Well-being\, spojení s přírodou\, přírodní živly\, zklidnění mysli. \nVšichni účastníci obdrží osvědčení o absolvování kurzu. \nHlaste se na email vemlyne@actaea.cz\, nebo na telefonních číslech: 732360544\, 734717424 \nTěšíme se na vás! \n\n  \n\n 
URL:https://actaea.cz/akce/hrebeny-hrubeho-jeseniku/
LOCATION:VÍCE Ve mlýně\, Karlovice 421\, Karlovice\, 793 23\, Česká republika
CATEGORIES:Exkurze,Pro učitele
ATTACH;FMTTYPE=image/jpeg:https://actaea.cz/wp-content/uploads/2025/08/exkurze-Jeseniky-zari-25-3-1.jpg
END:VEVENT
END:VCALENDAR