BEGIN:VCALENDAR
VERSION:2.0
PRODID:-//Actaea - ECPv6.15.20//NONSGML v1.0//EN
CALSCALE:GREGORIAN
METHOD:PUBLISH
X-WR-CALNAME:Actaea
X-ORIGINAL-URL:https://actaea.cz
X-WR-CALDESC:Akce na Actaea
REFRESH-INTERVAL;VALUE=DURATION:PT1H
X-Robots-Tag:noindex
X-PUBLISHED-TTL:PT1H
BEGIN:VTIMEZONE
TZID:Europe/Prague
BEGIN:DAYLIGHT
TZOFFSETFROM:+0100
TZOFFSETTO:+0200
TZNAME:CEST
DTSTART:20240331T010000
END:DAYLIGHT
BEGIN:STANDARD
TZOFFSETFROM:+0200
TZOFFSETTO:+0100
TZNAME:CET
DTSTART:20241027T010000
END:STANDARD
BEGIN:DAYLIGHT
TZOFFSETFROM:+0100
TZOFFSETTO:+0200
TZNAME:CEST
DTSTART:20250330T010000
END:DAYLIGHT
BEGIN:STANDARD
TZOFFSETFROM:+0200
TZOFFSETTO:+0100
TZNAME:CET
DTSTART:20251026T010000
END:STANDARD
BEGIN:DAYLIGHT
TZOFFSETFROM:+0100
TZOFFSETTO:+0200
TZNAME:CEST
DTSTART:20260329T010000
END:DAYLIGHT
BEGIN:STANDARD
TZOFFSETFROM:+0200
TZOFFSETTO:+0100
TZNAME:CET
DTSTART:20261025T010000
END:STANDARD
END:VTIMEZONE
BEGIN:VEVENT
DTSTART;VALUE=DATE:20251001
DTEND;VALUE=DATE:20251006
DTSTAMP:20260421T143502
CREATED:20250704T082441Z
LAST-MODIFIED:20250915T102202Z
UID:10002151-1759276800-1759708799@actaea.cz
SUMMARY:Jak vycvičit draka
DESCRIPTION:Víkendový pobyt pro rodiče s dětmi\n  \nTermín: 1.–5.10. 2025 (středa večer – neděle dopoledne)\n Místo: Penzion U Hradilů\, Vrbno pod Pradědem\n Pro koho: rodiče s dětmi 5–12 let\n Pořádá: VÍCE Ve mlýně Karlovice \nVydejte se s námi do světa draků!\nStaňte se dračími jezdci! Vydejte se s námi do srdce Jeseníků na čtyři dny plné dobrodružství\, fantazie a hlubokého propojení mezi rodiči a dětmi. V malebném prostředí Vrbna pod Pradědem otevřeme Dračí akademii\, kde společně odhalíme\, co to znamená vychovat a pochopit svého vlastního „draka“. Čekají vás chvíle plné pohybu\, tvoření\, pobytu v přírodě i klidného spočinutí v kruhu. \n  \nVYPLŇTE PŘIHLÁŠKU A PŘIJEĎTE: \n\n\n  \n\n\n\n\n	\n		\n			Rodič 1*\n\n			 \n		\n	\n	\n		\n			Váš telefon*\n\n			 \n		\n	\n	\n		\n			Váš e-mail*\n\n			 \n		\n	\n\n\n	\n		\n			Rodič 2\n\n			 \n		\n	\n	\n		\n			Váš telefon\n\n			 \n		\n	\n	\n		\n			Váš e-mail\n\n			 \n		\n	\n\n\n	\n		\n			Dítě 1\n\n			 \n		\n	\n	\n		\n			Datum narození\n\n			 \n		\n	\n\n\n	\n		\n			Dítě 2\n\n			 \n		\n	\n	\n		\n			Datum narození\n\n			 \n		\n	\n\n\n	\n		\n			Dítě 3\n\n			 \n		\n	\n	\n		\n			Datum narození\n\n			 \n		\n	\n\n\n	Poznámka\n\n	 \n\n\n	\n	 \n\n\n\n\n  \nCena za program VÍCE Ve mlýně – sleva last minute\nProgramovné (lektorné\, materiál\, příprava): \n\nDospělý: 1500 Kč 1300 Kč\nDítě: 1200 Kč 1000 Kč\n\nPlatba probíhá samostatně přes QR kód nebo převodem – platební údaje obdržíte v e-mailu po přihlášení. \nVěk dětí 5-12 let je doporučený\, mohou přijet i starší děti. Dítě pod 5 let můžete vzít s sebou na pobyt\, ale nebude se moci zúčastnit samostatného programu pro děti bez doprovodu dospělého. Samostatný program pro děti bude tvořit pouze menší část\, budete hlavně spolu v rámci rodiny. V případě dotazů nám napište na mail vemlyne@actaea.cz. \n  \nUbytování a strava\nUbytování zajišťuje Penzion U Hradilů ve čtyřlůžkových pokojích se sociálním zařízením.\n Polopenze včetně ubytování (4 noci). \n\nDospělý: 750 Kč / noc = 3 000 Kč\nDítě: 550 Kč / noc = 2 200 Kč\n\nPlatba za ubytování probíhá přímo prostřednictvím penzionu. \nVíce informací a fotky naleznete ZDE. \n  \nCena celkem po slevě last minute\nUbytování\, polopenze (4 noci) a program (3\,5 dne): \n\nDospělý: 4500 Kč 4300 Kč\nDítě: 3200 Kč 3000 Kč\n\n  \n\nJak se přihlásit\n\nVyplňte přihlášku na program (formulář najdete níže) a zaplaťte příslušnou částku na účet 2501551328/2010. Po zaplacení vám potvrdíme vaše místo a můžete si rezervovat ubytování.\nRezervujte si ubytování v Penzionu U Hradilů prostřednictvím formuláře na: http://www.penzionuhradilu.cz/objednat-ubytovani.php Ubytování je pro vás zlevněno.\nPo potvrzení rezervace obdržíte pokyny k platbě.\nMůžete se začít těšit na společný pobyt s dětmi!\n\n  \n 
URL:https://actaea.cz/akce/jak-vycvicit-draka/
LOCATION:VÍCE Ve mlýně\, Karlovice 421\, Karlovice\, 793 23\, Česká republika
CATEGORIES:Pro rodiče s dětmi
ATTACH;FMTTYPE=image/jpeg:https://actaea.cz/wp-content/uploads/2025/07/podzimni-vikendovy-pobyt-pro-rodice-s-detmi-1.jpg
END:VEVENT
BEGIN:VEVENT
DTSTART;TZID=Europe/Prague:20251021T163000
DTEND;TZID=Europe/Prague:20251021T180000
DTSTAMP:20260421T143502
CREATED:20251013T121433Z
LAST-MODIFIED:20251013T121433Z
UID:10002236-1761064200-1761069600@actaea.cz
SUMMARY:Voňavý sedánek
DESCRIPTION:Voňavý sedánek – aneb povídání o aromaterapii\nChcete se dozvědět víc o tom\, jak si doma navodit příjemnou atmosféru pomocí esenciálních olejů?Zajímá vás\, jak správně používat aromaterapii\, nebo byste si rádi vyzkoušeli kouzlení s vůněmi na vlastní kůži? \nZveme vás na voňavý podvečer plný inspirace\, praktických tipů a sdílení.Ukážeme si\, jak na to\, a domů si odnesete nejen nové znalosti\, ale i klid a úsměv. \ndatum: úterý 21. října 2025čas: od 16:30místo: Vzdělávací centrum VÍCE Ve mlýně Karlovicevstupné: 50 Kč \nLektorka: Bc. Dominika PořízkováRezervace: 724 338 308(Počet míst je omezen\, prosíme o rezervaci.) \nPřijď si odpočinout\, naladit se na vůně podzimu a objevit sílu aromaterapie.
URL:https://actaea.cz/akce/vonavy-sedanek/
LOCATION:VÍCE Ve mlýně\, Karlovice 421\, Karlovice\, 793 23\, Česká republika
CATEGORIES:Tvoření a hry
ATTACH;FMTTYPE=image/jpeg:https://actaea.cz/wp-content/uploads/2025/10/Obrazek-WhatsApp-2025-10-13-v-13.38.06_987fb7e5.jpg
END:VEVENT
BEGIN:VEVENT
DTSTART;TZID=Europe/Prague:20251022T173000
DTEND;TZID=Europe/Prague:20251022T190000
DTSTAMP:20260421T143502
CREATED:20251021T113935Z
LAST-MODIFIED:20260320T151047Z
UID:10002244-1761154200-1761159600@actaea.cz
SUMMARY:Jóga Ve mlýně
DESCRIPTION:Každou středu od 17:30 do 19:00 vás zveme na jemné a posilující jógové podvečery. \nČeká vás celkem lekce pro posílení těla\, protažení\, dechové techniky a propojení se sebou. Cvičíme v útulném prostoru VÍCE Ve mlýně. \nPočet míst je omezen na 10\, proto je nutná rezervace předem formou SMS na tel. 777 044 758. \nVstupné: 150 Kč za lekci\, možnost permanentky.
URL:https://actaea.cz/akce/joga-ve-mlyne/2025-10-22/
LOCATION:VÍCE Ve mlýně\, Karlovice 421\, Karlovice\, 793 23\, Česká republika
CATEGORIES:Koncerty,Kroužky
ATTACH;FMTTYPE=image/jpeg:https://actaea.cz/wp-content/uploads/2025/10/Kopie-navrhu-joga-podzim-25-Web.jpg
END:VEVENT
BEGIN:VEVENT
DTSTART;TZID=Europe/Prague:20251023T170000
DTEND;TZID=Europe/Prague:20251023T180000
DTSTAMP:20260421T143502
CREATED:20251013T122801Z
LAST-MODIFIED:20251021T113008Z
UID:10002237-1761238800-1761242400@actaea.cz
SUMMARY:Autorské čtení Pavla Šuby
DESCRIPTION:Zveme vás na autorské čtení nové knihy Fárplán Krnov pana Pavla Šuby\, která právě vyšla a navazuje na oceňovanou prózu Na sudetských horách se nezpívá. \nPřijďte si poslechnout úryvky z příběhu Josefa Böhmische\, který tentokrát vartuje na bruntálském nádraží\, kde čeká na svou dětskou lásku Annu Marii.Minulost se však nikdy nevytrácí docela — a z mlhy se vynořují nejen vzpomínky\, ale i otázky:Kdy má ještě smysl říkat pravdu?Co se skutečně stalo\, a co jsou už jen milosrdně obroušené vzpomínky? \ndatum: čtvrtek 23. října 2025čas: 17:00místo: Vzdělávací centrum VÍCE Ve mlýně Karlovicevstupné: dobrovolné \nPo čtení bude možné zakoupit knihu s podpisem autora. \nVíce o knize najdete na www.knihyaltvater.cz \nPřijďte si užít večer s příběhem\, který voní po železnici\, starých městech a vzpomínkách\, jež nechtějí usnout.
URL:https://actaea.cz/akce/autorske-cteni-farplan-krnov/
LOCATION:VÍCE Ve mlýně\, Karlovice 421\, Karlovice\, 793 23\, Česká republika
CATEGORIES:Koncerty,Tvoření a hry
ATTACH;FMTTYPE=image/jpeg:https://actaea.cz/wp-content/uploads/2025/10/unnamed.jpg
END:VEVENT
BEGIN:VEVENT
DTSTART;TZID=Europe/Prague:20251024T150000
DTEND;TZID=Europe/Prague:20251024T180000
DTSTAMP:20260421T143502
CREATED:20250930T192155Z
LAST-MODIFIED:20251029T205032Z
UID:10002230-1761318000-1761328800@actaea.cz
SUMMARY:Dýně Ve mlýně
DESCRIPTION:Podzim je tady a s ním i oblíbené dýňové odpoledne ve mlýně v Karlovicích! \nPřijďte si s rodinou a přáteli užít kouzelnou atmosféru podzimu a dobrou zábavu. \nPátek 24. října 2025\n15:00–18:00\nVÍCE Ve mlýně Karlovice \nVstupné dobrovolné \nNa co se můžete těšit?\nDlabání dýní – vytvořte si vlastní strašidýlko\nTeplá dýňová polévka a voňavé dýňové latté\nVýměna receptů – inspirujte se i pochlubte\nHudební vystoupení písničkářky Petry Frago \n\nPetra Frago (Petra Melecká Jahodová)\nPetra je skromná písničkářka z Krnova\, která se těší\, až vás zábavně provede svou tvorbou. Program sestává z devíti písní s přírodní a bylinkovou tematikou pro děti i dospělé\, přičemž u každé z nich vás čeká tematická zvídavá otázka nebo malý úkol. Zahrnuty jsou i prvky hudebních hrátek pro děti. Zapojení se je tedy maximálně vítané. \n\n			\n				\n			\n			\n				\n			\n			\n				\n			\n		\n\n\nPřijďte s námi oslavit podzim – těšíme se na vás! \nAkce je podpořena prostřednictvím SLLCD MAS Hrubý Jeseník. \n \nSledujte nás na FB: VÍCE Ve mlýně Karlovice
URL:https://actaea.cz/akce/dyne-ve-mlyne/
LOCATION:VÍCE Ve mlýně\, Karlovice 421\, Karlovice\, 793 23\, Česká republika
CATEGORIES:Koncerty,Pro rodiče s dětmi,Tvoření a hry
ATTACH;FMTTYPE=image/jpeg:https://actaea.cz/wp-content/uploads/2025/09/25_10_Rijnova-dilnicka-3.jpg
END:VEVENT
BEGIN:VEVENT
DTSTART;TZID=Europe/Prague:20251029T173000
DTEND;TZID=Europe/Prague:20251029T190000
DTSTAMP:20260421T143502
CREATED:20251021T113935Z
LAST-MODIFIED:20260320T151047Z
UID:10002245-1761759000-1761764400@actaea.cz
SUMMARY:Jóga Ve mlýně
DESCRIPTION:Každou středu od 17:30 do 19:00 vás zveme na jemné a posilující jógové podvečery. \nČeká vás celkem lekce pro posílení těla\, protažení\, dechové techniky a propojení se sebou. Cvičíme v útulném prostoru VÍCE Ve mlýně. \nPočet míst je omezen na 10\, proto je nutná rezervace předem formou SMS na tel. 777 044 758. \nVstupné: 150 Kč za lekci\, možnost permanentky.
URL:https://actaea.cz/akce/joga-ve-mlyne/2025-10-29/
LOCATION:VÍCE Ve mlýně\, Karlovice 421\, Karlovice\, 793 23\, Česká republika
CATEGORIES:Koncerty,Kroužky
ATTACH;FMTTYPE=image/jpeg:https://actaea.cz/wp-content/uploads/2025/10/Kopie-navrhu-joga-podzim-25-Web.jpg
END:VEVENT
END:VCALENDAR