BEGIN:VCALENDAR
VERSION:2.0
PRODID:-//Actaea - ECPv6.15.20//NONSGML v1.0//EN
CALSCALE:GREGORIAN
METHOD:PUBLISH
X-ORIGINAL-URL:https://actaea.cz
X-WR-CALDESC:Akce na Actaea
REFRESH-INTERVAL;VALUE=DURATION:PT1H
X-Robots-Tag:noindex
X-PUBLISHED-TTL:PT1H
BEGIN:VTIMEZONE
TZID:Europe/Prague
BEGIN:DAYLIGHT
TZOFFSETFROM:+0100
TZOFFSETTO:+0200
TZNAME:CEST
DTSTART:20240331T010000
END:DAYLIGHT
BEGIN:STANDARD
TZOFFSETFROM:+0200
TZOFFSETTO:+0100
TZNAME:CET
DTSTART:20241027T010000
END:STANDARD
BEGIN:DAYLIGHT
TZOFFSETFROM:+0100
TZOFFSETTO:+0200
TZNAME:CEST
DTSTART:20250330T010000
END:DAYLIGHT
BEGIN:STANDARD
TZOFFSETFROM:+0200
TZOFFSETTO:+0100
TZNAME:CET
DTSTART:20251026T010000
END:STANDARD
BEGIN:DAYLIGHT
TZOFFSETFROM:+0100
TZOFFSETTO:+0200
TZNAME:CEST
DTSTART:20260329T010000
END:DAYLIGHT
BEGIN:STANDARD
TZOFFSETFROM:+0200
TZOFFSETTO:+0100
TZNAME:CET
DTSTART:20261025T010000
END:STANDARD
END:VTIMEZONE
BEGIN:VEVENT
DTSTART;TZID=Europe/Prague:20251105T173000
DTEND;TZID=Europe/Prague:20251105T190000
DTSTAMP:20260421T131940
CREATED:20251021T113935Z
LAST-MODIFIED:20260320T151047Z
UID:10002246-1762363800-1762369200@actaea.cz
SUMMARY:Jóga Ve mlýně
DESCRIPTION:Každou středu od 17:30 do 19:00 vás zveme na jemné a posilující jógové podvečery. \nČeká vás celkem lekce pro posílení těla\, protažení\, dechové techniky a propojení se sebou. Cvičíme v útulném prostoru VÍCE Ve mlýně. \nPočet míst je omezen na 10\, proto je nutná rezervace předem formou SMS na tel. 777 044 758. \nVstupné: 150 Kč za lekci\, možnost permanentky.
URL:https://actaea.cz/akce/joga-ve-mlyne/2025-11-05/
LOCATION:VÍCE Ve mlýně\, Karlovice 421\, Karlovice\, 793 23\, Česká republika
CATEGORIES:Koncerty,Kroužky
ATTACH;FMTTYPE=image/jpeg:https://actaea.cz/wp-content/uploads/2025/10/Kopie-navrhu-joga-podzim-25-Web.jpg
END:VEVENT
BEGIN:VEVENT
DTSTART;TZID=Europe/Prague:20251112T173000
DTEND;TZID=Europe/Prague:20251112T190000
DTSTAMP:20260421T131940
CREATED:20251021T113935Z
LAST-MODIFIED:20260320T151047Z
UID:10002247-1762968600-1762974000@actaea.cz
SUMMARY:Jóga Ve mlýně
DESCRIPTION:Každou středu od 17:30 do 19:00 vás zveme na jemné a posilující jógové podvečery. \nČeká vás celkem lekce pro posílení těla\, protažení\, dechové techniky a propojení se sebou. Cvičíme v útulném prostoru VÍCE Ve mlýně. \nPočet míst je omezen na 10\, proto je nutná rezervace předem formou SMS na tel. 777 044 758. \nVstupné: 150 Kč za lekci\, možnost permanentky.
URL:https://actaea.cz/akce/joga-ve-mlyne/2025-11-12/
LOCATION:VÍCE Ve mlýně\, Karlovice 421\, Karlovice\, 793 23\, Česká republika
CATEGORIES:Koncerty,Kroužky
ATTACH;FMTTYPE=image/jpeg:https://actaea.cz/wp-content/uploads/2025/10/Kopie-navrhu-joga-podzim-25-Web.jpg
END:VEVENT
BEGIN:VEVENT
DTSTART;TZID=Europe/Prague:20251115T150000
DTEND;TZID=Europe/Prague:20251115T170000
DTSTAMP:20260421T131940
CREATED:20250915T110048Z
LAST-MODIFIED:20250923T082712Z
UID:10002229-1763218800-1763226000@actaea.cz
SUMMARY:Dánsko očima začátečníka
DESCRIPTION:Jaké to je začít se učit dánsky a vydat se do země\, kde vládne hygge\, barevné domky a klidný životní rytmus? Přijďte si poslechnout poutavou přednášku Terezy Brussové o jejích prvních zkušenostech s dánštinou\, dánským životním stylem i cestovatelských zážitcích. \nSobota 15. listopadu 202515:00–17:00VÍCE Ve mlýně Karlovice \nDozvíte se třeba jací jsou Dánové ve skutečnosti\, jestli je Dánsko spíš Skandinávie\, nebo Evropa\,  a co máme s Dány společného. \nNa přivítanou vás budou čekat bolsje (tradiční bonbóny) a nebo lakrids (lékořice)! \nVstupné dobrovolné \nPřijďte nasát atmosféru severské země a odnést si inspiraci pro vlastní cesty \nPS: Věděli jste\, že padouch z bondovky Casino royale má nejradši české pivo? \nTěšíme se na vás!
URL:https://actaea.cz/akce/dansko-pro-zacatecniky/
LOCATION:VÍCE Ve mlýně\, Karlovice 421\, Karlovice\, 793 23\, Česká republika
CATEGORIES:Výstavy
ATTACH;FMTTYPE=image/jpeg:https://actaea.cz/wp-content/uploads/2025/09/25_11_Dansko-1.jpg
END:VEVENT
BEGIN:VEVENT
DTSTART;TZID=Europe/Prague:20251118T150000
DTEND;TZID=Europe/Prague:20251118T170000
DTSTAMP:20260421T131940
CREATED:20251015T092929Z
LAST-MODIFIED:20251015T092929Z
UID:10002238-1763478000-1763485200@actaea.cz
SUMMARY:Listopadová dílnička
DESCRIPTION:Srdečně Vás zveme na listopadovou dílničku\, kde si společně užijeme poslední podzimní chvíle! \nDatum: 17. září 2025 \nČas: 15-17 hodin \nMísto: VÍCE Ve mlýně Karlovice \nZima už sice pomalu klepe na dveře\, ale než se pustíme do vánočního veselí\, pojďme se ještě na chvíli ponořit do podzimních vůní a zvuků!\nBude pro vás připraveno tvoření pro malé i velké s podzimní a přírodní tématikou\, hernička s různými aktivitami a hrami a k prodeji bude drobné občerstvení a suvenýry.
URL:https://actaea.cz/akce/listopadova-dilnicka/
LOCATION:VÍCE Ve mlýně\, Karlovice 421\, Karlovice\, 793 23\, Česká republika
CATEGORIES:Pro rodiče s dětmi,Tvoření a hry
ATTACH;FMTTYPE=image/jpeg:https://actaea.cz/wp-content/uploads/2025/10/25_11_Listopadova-dilnicka.jpg
END:VEVENT
BEGIN:VEVENT
DTSTART;TZID=Europe/Prague:20251119T173000
DTEND;TZID=Europe/Prague:20251119T190000
DTSTAMP:20260421T131940
CREATED:20251021T113935Z
LAST-MODIFIED:20260320T151047Z
UID:10002248-1763573400-1763578800@actaea.cz
SUMMARY:Jóga Ve mlýně
DESCRIPTION:Každou středu od 17:30 do 19:00 vás zveme na jemné a posilující jógové podvečery. \nČeká vás celkem lekce pro posílení těla\, protažení\, dechové techniky a propojení se sebou. Cvičíme v útulném prostoru VÍCE Ve mlýně. \nPočet míst je omezen na 10\, proto je nutná rezervace předem formou SMS na tel. 777 044 758. \nVstupné: 150 Kč za lekci\, možnost permanentky.
URL:https://actaea.cz/akce/joga-ve-mlyne/2025-11-19/
LOCATION:VÍCE Ve mlýně\, Karlovice 421\, Karlovice\, 793 23\, Česká republika
CATEGORIES:Koncerty,Kroužky
ATTACH;FMTTYPE=image/jpeg:https://actaea.cz/wp-content/uploads/2025/10/Kopie-navrhu-joga-podzim-25-Web.jpg
END:VEVENT
END:VCALENDAR