BEGIN:VCALENDAR
VERSION:2.0
PRODID:-//Actaea - ECPv6.15.20//NONSGML v1.0//EN
CALSCALE:GREGORIAN
METHOD:PUBLISH
X-WR-CALNAME:Actaea
X-ORIGINAL-URL:https://actaea.cz
X-WR-CALDESC:Akce na Actaea
REFRESH-INTERVAL;VALUE=DURATION:PT1H
X-Robots-Tag:noindex
X-PUBLISHED-TTL:PT1H
BEGIN:VTIMEZONE
TZID:Europe/Prague
BEGIN:DAYLIGHT
TZOFFSETFROM:+0100
TZOFFSETTO:+0200
TZNAME:CEST
DTSTART:20250330T010000
END:DAYLIGHT
BEGIN:STANDARD
TZOFFSETFROM:+0200
TZOFFSETTO:+0100
TZNAME:CET
DTSTART:20251026T010000
END:STANDARD
BEGIN:DAYLIGHT
TZOFFSETFROM:+0100
TZOFFSETTO:+0200
TZNAME:CEST
DTSTART:20260329T010000
END:DAYLIGHT
BEGIN:STANDARD
TZOFFSETFROM:+0200
TZOFFSETTO:+0100
TZNAME:CET
DTSTART:20261025T010000
END:STANDARD
BEGIN:DAYLIGHT
TZOFFSETFROM:+0100
TZOFFSETTO:+0200
TZNAME:CEST
DTSTART:20270328T010000
END:DAYLIGHT
BEGIN:STANDARD
TZOFFSETFROM:+0200
TZOFFSETTO:+0100
TZNAME:CET
DTSTART:20271031T010000
END:STANDARD
END:VTIMEZONE
BEGIN:VEVENT
DTSTART;TZID=Europe/Prague:20260321T100000
DTEND;TZID=Europe/Prague:20260321T120000
DTSTAMP:20260421T220937
CREATED:20260219T095220Z
LAST-MODIFIED:20260301T205118Z
UID:10002342-1774087200-1774094400@actaea.cz
SUMMARY:Den lesa a vody
DESCRIPTION:Stezka v okolí Karlovic pro děti a dospělé! \nTřetí březnovou sobotu jsme připravili speciální program pro děti i dospělé u příležitosti Mezinárodního dne lesů a Světového dne vody. Přijďte s dětmi – nebo je klidně vyšlete samostatně – na venkovní dobrodružnou stezku v okolí Karlovic. \nPo návratu bude Ve mlýně připraven navazující kreativní a zábavný program. Čeká vás tvoření\, hry\, objevování i klidné posezení u čaje. \nProgram je vhodný pro děti od 6 let\, mladší děti se mohou zúčastnit pouze v doprovodu dospělé osoby. Doporučujeme oblečení vhodné na venkovní vycházku. \nTermín: 21. března 2026 \nČas: 10-12 hodin \nDoporučujeme oblečení a obuv vhodné pro venkovní vycházku. \nTěšíme se na setkání s vámi.
URL:https://actaea.cz/akce/den-lesa-a-vody/
CATEGORIES:Pro rodiče s dětmi,Pro veřejnost,Tvoření a hry,Výlety
ATTACH;FMTTYPE=image/jpeg:https://actaea.cz/wp-content/uploads/2026/02/Den-lesa-a-vody.jpg
END:VEVENT
BEGIN:VEVENT
DTSTART;TZID=Europe/Prague:20260219T080000
DTEND;TZID=Europe/Prague:20260219T170000
DTSTAMP:20260421T220937
CREATED:20260219T100811Z
LAST-MODIFIED:20260219T100811Z
UID:10002343-1771488000-1771520400@actaea.cz
SUMMARY:Výstava fotografií Davida Těšínského
DESCRIPTION:Vzdělávací centrum VÍCE Ve mlýně Karlovice vás zve na výstavu fotografií Davida Těšínského\, výrazného českého dokumentárního fotografa\, jehož tvorba je známá silným sociálním přesahem a autentickým zachycením života v různých částech světa. \nSlavnostní vernisáž proběhne v úterý 17. března 2026 v 16 hodin a bude spojena s přednáškou autora. Návštěvníci budou mít příležitost setkat se s Davidem Těšínským osobně\, poslechnout si příběhy vzniklé za jednotlivými snímky a nahlédnout do zákulisí jeho práce. \nVýstava představuje výběr fotografií zaměřených na aktuální společenská témata\, lidské příběhy i proměny krajiny. Autor dlouhodobě dokumentuje environmentální otázky\, dopady lidské činnosti i každodenní realitu komunit po celém světě. Jeho práce byla publikována v řadě mezinárodních médií a vystavována doma i v zahraničí. \nVýstava je přístupná v otevírací době centra do 19. dubna 2026. \nPro školy a organizované skupiny je možné domluvit individuální termín prohlídky. \nTěšíme se na Vás!
URL:https://actaea.cz/akce/vystava-fotografii-davida-tesinskeho/
LOCATION:VÍCE Ve mlýně\, Karlovice 421\, Karlovice\, 793 23\, Česká republika
CATEGORIES:Pro veřejnost,Výstavy
ATTACH;FMTTYPE=image/jpeg:https://actaea.cz/wp-content/uploads/2026/02/VZDELAVACI-CENTRUM-VICE-VE-MLYNE-KARLOVICE.jpg
END:VEVENT
END:VCALENDAR