BEGIN:VCALENDAR
VERSION:2.0
PRODID:-//Actaea - ECPv6.15.20//NONSGML v1.0//EN
CALSCALE:GREGORIAN
METHOD:PUBLISH
X-ORIGINAL-URL:https://actaea.cz
X-WR-CALDESC:Akce na Actaea
REFRESH-INTERVAL;VALUE=DURATION:PT1H
X-Robots-Tag:noindex
X-PUBLISHED-TTL:PT1H
BEGIN:VTIMEZONE
TZID:Europe/Prague
BEGIN:DAYLIGHT
TZOFFSETFROM:+0100
TZOFFSETTO:+0200
TZNAME:CEST
DTSTART:20250330T010000
END:DAYLIGHT
BEGIN:STANDARD
TZOFFSETFROM:+0200
TZOFFSETTO:+0100
TZNAME:CET
DTSTART:20251026T010000
END:STANDARD
BEGIN:DAYLIGHT
TZOFFSETFROM:+0100
TZOFFSETTO:+0200
TZNAME:CEST
DTSTART:20260329T010000
END:DAYLIGHT
BEGIN:STANDARD
TZOFFSETFROM:+0200
TZOFFSETTO:+0100
TZNAME:CET
DTSTART:20261025T010000
END:STANDARD
BEGIN:DAYLIGHT
TZOFFSETFROM:+0100
TZOFFSETTO:+0200
TZNAME:CEST
DTSTART:20270328T010000
END:DAYLIGHT
BEGIN:STANDARD
TZOFFSETFROM:+0200
TZOFFSETTO:+0100
TZNAME:CET
DTSTART:20271031T010000
END:STANDARD
END:VTIMEZONE
BEGIN:VEVENT
DTSTART;TZID=Europe/Prague:20260219T080000
DTEND;TZID=Europe/Prague:20260219T170000
DTSTAMP:20260422T003341
CREATED:20260219T100811Z
LAST-MODIFIED:20260219T100811Z
UID:10002343-1771488000-1771520400@actaea.cz
SUMMARY:Výstava fotografií Davida Těšínského
DESCRIPTION:Vzdělávací centrum VÍCE Ve mlýně Karlovice vás zve na výstavu fotografií Davida Těšínského\, výrazného českého dokumentárního fotografa\, jehož tvorba je známá silným sociálním přesahem a autentickým zachycením života v různých částech světa. \nSlavnostní vernisáž proběhne v úterý 17. března 2026 v 16 hodin a bude spojena s přednáškou autora. Návštěvníci budou mít příležitost setkat se s Davidem Těšínským osobně\, poslechnout si příběhy vzniklé za jednotlivými snímky a nahlédnout do zákulisí jeho práce. \nVýstava představuje výběr fotografií zaměřených na aktuální společenská témata\, lidské příběhy i proměny krajiny. Autor dlouhodobě dokumentuje environmentální otázky\, dopady lidské činnosti i každodenní realitu komunit po celém světě. Jeho práce byla publikována v řadě mezinárodních médií a vystavována doma i v zahraničí. \nVýstava je přístupná v otevírací době centra do 19. dubna 2026. \nPro školy a organizované skupiny je možné domluvit individuální termín prohlídky. \nTěšíme se na Vás!
URL:https://actaea.cz/akce/vystava-fotografii-davida-tesinskeho/
LOCATION:VÍCE Ve mlýně\, Karlovice 421\, Karlovice\, 793 23\, Česká republika
CATEGORIES:Pro veřejnost,Výstavy
ATTACH;FMTTYPE=image/jpeg:https://actaea.cz/wp-content/uploads/2026/02/VZDELAVACI-CENTRUM-VICE-VE-MLYNE-KARLOVICE.jpg
END:VEVENT
BEGIN:VEVENT
DTSTART;TZID=Europe/Prague:20260321T100000
DTEND;TZID=Europe/Prague:20260321T120000
DTSTAMP:20260422T003341
CREATED:20260219T095220Z
LAST-MODIFIED:20260301T205118Z
UID:10002342-1774087200-1774094400@actaea.cz
SUMMARY:Den lesa a vody
DESCRIPTION:Stezka v okolí Karlovic pro děti a dospělé! \nTřetí březnovou sobotu jsme připravili speciální program pro děti i dospělé u příležitosti Mezinárodního dne lesů a Světového dne vody. Přijďte s dětmi – nebo je klidně vyšlete samostatně – na venkovní dobrodružnou stezku v okolí Karlovic. \nPo návratu bude Ve mlýně připraven navazující kreativní a zábavný program. Čeká vás tvoření\, hry\, objevování i klidné posezení u čaje. \nProgram je vhodný pro děti od 6 let\, mladší děti se mohou zúčastnit pouze v doprovodu dospělé osoby. Doporučujeme oblečení vhodné na venkovní vycházku. \nTermín: 21. března 2026 \nČas: 10-12 hodin \nDoporučujeme oblečení a obuv vhodné pro venkovní vycházku. \nTěšíme se na setkání s vámi.
URL:https://actaea.cz/akce/den-lesa-a-vody/
CATEGORIES:Pro rodiče s dětmi,Pro veřejnost,Tvoření a hry,Výlety
ATTACH;FMTTYPE=image/jpeg:https://actaea.cz/wp-content/uploads/2026/02/Den-lesa-a-vody.jpg
END:VEVENT
BEGIN:VEVENT
DTSTART;TZID=Europe/Prague:20260417T170000
DTEND;TZID=Europe/Prague:20260417T190000
DTSTAMP:20260422T003341
CREATED:20260301T211946Z
LAST-MODIFIED:20260325T081657Z
UID:10002352-1776445200-1776452400@actaea.cz
SUMMARY:Výstava fotografií Davida Těšínského
DESCRIPTION:V pátek 17. 4. 2026 v 17 hodin Vás srdečně zveme na vernisáž fotografií Davida Těšínského. Vernisáž bude spojena s přednáškou a s besedou s autorem. \nZahájení: pátek 17. 4. 2026 v 17 h\nVýstava přístupná do: 17. 5. 2026 (v rámci otvírací doby\, možno domluvit i individuální návštěvy pro větší skupiny)\nIndividuální fotografický workshop: viz. níže\, přihlášky na mail daviddtes@seznam.cz \nDavid Těšínský fotí příběhy lidí. Fotografii vnímá jako nástroj\, kterým může rozbíjet stereotypy a otevírat nové pohledy. Fotografií konfrontuje. „Fotkou chci ukázat mnohem víc než fotku. Fotka\, která je jen fotkou\, je k ničemu.“ \nVěnuje se rozličným tématům  – mládeži v Íránu\, bojovnicím na Ukrajině\, gangům v Guatemale\, životu japonských podnikatelů\, exorcismu v Etiopii\, pouličnímu životu rapperů v Detroitu\, životu v ghettu v Nigérii\, alkoholismu v Grónsku\, obětem úmyslných požárů v Amazonii\, těžce pracujícím dětem v Ghaně\, legendám roots reggae na Jamajce\, projektu o drogově závislých v Praze\, ilegálnímu LGBTQ hnutí v Bělorusku\, životu ve slumech v Indii a Nepálu\, vůbec prvnímu transvestitovi na Kubě a dalším subkulturám a příběhům. Jeho fotografie se objevují v The Guardian\, VICE\, Le Monde\, VANITY FAIR\, The Huff Post\, Stern\, Spiegel\, La Repubblica\, The Sun\, The Times. Měl samostatné výstavy v Tokyu\, Soulu\, Washingtonu D.C.\, Tel Avivu\, Dakaru\, Londýně\, Budapešti\, Berlíně\, Mnichově\, Bruselu atd. a účastnil se skupinových výstav v celé Evropě\, USA\, Kanadě\, v Izraeli na dalších cca 80 akcích. Desetkrát se zúčastnil soutěže Czech Press Photo a byl oceněn v soutěžích Sony World Photography Awards\, PDN storytellers\, Award of excellence nebo World Press Photo. \nIndividuální fotografický workshop s Davidem Těšínským \nSobota 18. 5. 2026 \nChceš se posunout v tom\, jak fotíš\, nebo se konečně naučit rozumět svojí zrcadlovce či bezzrcadlovce? Na individuálním workshopu se zaměříme přesně na to\, co tě zajímá – ať už jde o základy práce s fotoaparátem\, postprodukci\, nebo kreativní přístup k fotografii. \nWorkshop trvá podle domluvy – může to být odpoledne nebo celý den – a probíhá přímo v Karlovicích.
URL:https://actaea.cz/akce/vystava-fotografii-davida-tesinskeho-2/2026-04-17/
LOCATION:VÍCE Ve mlýně\, Karlovice 421\, Karlovice\, 793 23\, Česká republika
CATEGORIES:Pro veřejnost,Výstavy
ATTACH;FMTTYPE=image/jpeg:https://actaea.cz/wp-content/uploads/2026/03/VZDELAVACI-CENTRUM-VICE-VE-MLYNE-KARLOVICE-2.jpg
END:VEVENT
BEGIN:VEVENT
DTSTART;TZID=Europe/Prague:20260418T080000
DTEND;TZID=Europe/Prague:20260418T170000
DTSTAMP:20260422T003341
CREATED:20260325T084117Z
LAST-MODIFIED:20260325T084117Z
UID:10002359-1776499200-1776531600@actaea.cz
SUMMARY:Individuální fotografický workshop s Davidem Těšínským
DESCRIPTION:Individuální fotografický workshop s Davidem Těšínským \nChceš se posunout v tom\, jak fotíš\, nebo se konečně naučit rozumět svojí zrcadlovce či bezzrcadlovce? Na individuálním workshopu se zaměříme přesně na to\, co tě zajímá – ať už jde o základy práce s fotoaparátem\, postprodukci\, nebo kreativní přístup k fotografii. \nTermín: sobota 18. dubna 2026 \nČas: dle domluvy \nPřihlášky: davidtes@seznam.cz \nMax. kapacita: 12 osob \nWorkshop trvá podle domluvy – může to být odpoledne nebo celý den – a probíhá přímo v Karlovicích. \nCílem je\, abys z workshopu odcházel nebo odcházela s pocitem\, že ses opravdu posunul/a a něco nového ses naučil/a. \nSoučástí může být i focení netradičních portrétů – originálních\, hravých nebo experimentálních\, podle nálady\, lokace a světla. Samozřejmě můžeme udělat i klasické portréty\, ale důraz kladu na osobitost a autentičnost. \nKapacita je omezena na 12 osob.
URL:https://actaea.cz/akce/individualni-fotograficky-workshop-s-davidem-tesinskym/
LOCATION:VÍCE Ve mlýně\, Karlovice 421\, Karlovice\, 793 23\, Česká republika
CATEGORIES:Pro veřejnost,Výstavy
ATTACH;FMTTYPE=image/jpeg:https://actaea.cz/wp-content/uploads/2026/03/TESINSKY_WORKSHOP-1.jpg
END:VEVENT
BEGIN:VEVENT
DTSTART;TZID=Europe/Prague:20260418T150000
DTEND;TZID=Europe/Prague:20260418T170000
DTSTAMP:20260422T003341
CREATED:20260301T211946Z
LAST-MODIFIED:20260325T081657Z
UID:10002353-1776524400-1776531600@actaea.cz
SUMMARY:Výstava fotografií Davida Těšínského
DESCRIPTION:V pátek 17. 4. 2026 v 17 hodin Vás srdečně zveme na vernisáž fotografií Davida Těšínského. Vernisáž bude spojena s přednáškou a s besedou s autorem. \nZahájení: pátek 17. 4. 2026 v 17 h\nVýstava přístupná do: 17. 5. 2026 (v rámci otvírací doby\, možno domluvit i individuální návštěvy pro větší skupiny)\nIndividuální fotografický workshop: viz. níže\, přihlášky na mail daviddtes@seznam.cz \nDavid Těšínský fotí příběhy lidí. Fotografii vnímá jako nástroj\, kterým může rozbíjet stereotypy a otevírat nové pohledy. Fotografií konfrontuje. „Fotkou chci ukázat mnohem víc než fotku. Fotka\, která je jen fotkou\, je k ničemu.“ \nVěnuje se rozličným tématům  – mládeži v Íránu\, bojovnicím na Ukrajině\, gangům v Guatemale\, životu japonských podnikatelů\, exorcismu v Etiopii\, pouličnímu životu rapperů v Detroitu\, životu v ghettu v Nigérii\, alkoholismu v Grónsku\, obětem úmyslných požárů v Amazonii\, těžce pracujícím dětem v Ghaně\, legendám roots reggae na Jamajce\, projektu o drogově závislých v Praze\, ilegálnímu LGBTQ hnutí v Bělorusku\, životu ve slumech v Indii a Nepálu\, vůbec prvnímu transvestitovi na Kubě a dalším subkulturám a příběhům. Jeho fotografie se objevují v The Guardian\, VICE\, Le Monde\, VANITY FAIR\, The Huff Post\, Stern\, Spiegel\, La Repubblica\, The Sun\, The Times. Měl samostatné výstavy v Tokyu\, Soulu\, Washingtonu D.C.\, Tel Avivu\, Dakaru\, Londýně\, Budapešti\, Berlíně\, Mnichově\, Bruselu atd. a účastnil se skupinových výstav v celé Evropě\, USA\, Kanadě\, v Izraeli na dalších cca 80 akcích. Desetkrát se zúčastnil soutěže Czech Press Photo a byl oceněn v soutěžích Sony World Photography Awards\, PDN storytellers\, Award of excellence nebo World Press Photo. \nIndividuální fotografický workshop s Davidem Těšínským \nSobota 18. 5. 2026 \nChceš se posunout v tom\, jak fotíš\, nebo se konečně naučit rozumět svojí zrcadlovce či bezzrcadlovce? Na individuálním workshopu se zaměříme přesně na to\, co tě zajímá – ať už jde o základy práce s fotoaparátem\, postprodukci\, nebo kreativní přístup k fotografii. \nWorkshop trvá podle domluvy – může to být odpoledne nebo celý den – a probíhá přímo v Karlovicích.
URL:https://actaea.cz/akce/vystava-fotografii-davida-tesinskeho-2/2026-04-18/
LOCATION:VÍCE Ve mlýně\, Karlovice 421\, Karlovice\, 793 23\, Česká republika
CATEGORIES:Pro veřejnost,Výstavy
ATTACH;FMTTYPE=image/jpeg:https://actaea.cz/wp-content/uploads/2026/03/VZDELAVACI-CENTRUM-VICE-VE-MLYNE-KARLOVICE-2.jpg
END:VEVENT
BEGIN:VEVENT
DTSTART;TZID=Europe/Prague:20260425T150000
DTEND;TZID=Europe/Prague:20260425T170000
DTSTAMP:20260422T003341
CREATED:20260301T211946Z
LAST-MODIFIED:20260325T081657Z
UID:10002354-1777129200-1777136400@actaea.cz
SUMMARY:Výstava fotografií Davida Těšínského
DESCRIPTION:V pátek 17. 4. 2026 v 17 hodin Vás srdečně zveme na vernisáž fotografií Davida Těšínského. Vernisáž bude spojena s přednáškou a s besedou s autorem. \nZahájení: pátek 17. 4. 2026 v 17 h\nVýstava přístupná do: 17. 5. 2026 (v rámci otvírací doby\, možno domluvit i individuální návštěvy pro větší skupiny)\nIndividuální fotografický workshop: viz. níže\, přihlášky na mail daviddtes@seznam.cz \nDavid Těšínský fotí příběhy lidí. Fotografii vnímá jako nástroj\, kterým může rozbíjet stereotypy a otevírat nové pohledy. Fotografií konfrontuje. „Fotkou chci ukázat mnohem víc než fotku. Fotka\, která je jen fotkou\, je k ničemu.“ \nVěnuje se rozličným tématům  – mládeži v Íránu\, bojovnicím na Ukrajině\, gangům v Guatemale\, životu japonských podnikatelů\, exorcismu v Etiopii\, pouličnímu životu rapperů v Detroitu\, životu v ghettu v Nigérii\, alkoholismu v Grónsku\, obětem úmyslných požárů v Amazonii\, těžce pracujícím dětem v Ghaně\, legendám roots reggae na Jamajce\, projektu o drogově závislých v Praze\, ilegálnímu LGBTQ hnutí v Bělorusku\, životu ve slumech v Indii a Nepálu\, vůbec prvnímu transvestitovi na Kubě a dalším subkulturám a příběhům. Jeho fotografie se objevují v The Guardian\, VICE\, Le Monde\, VANITY FAIR\, The Huff Post\, Stern\, Spiegel\, La Repubblica\, The Sun\, The Times. Měl samostatné výstavy v Tokyu\, Soulu\, Washingtonu D.C.\, Tel Avivu\, Dakaru\, Londýně\, Budapešti\, Berlíně\, Mnichově\, Bruselu atd. a účastnil se skupinových výstav v celé Evropě\, USA\, Kanadě\, v Izraeli na dalších cca 80 akcích. Desetkrát se zúčastnil soutěže Czech Press Photo a byl oceněn v soutěžích Sony World Photography Awards\, PDN storytellers\, Award of excellence nebo World Press Photo. \nIndividuální fotografický workshop s Davidem Těšínským \nSobota 18. 5. 2026 \nChceš se posunout v tom\, jak fotíš\, nebo se konečně naučit rozumět svojí zrcadlovce či bezzrcadlovce? Na individuálním workshopu se zaměříme přesně na to\, co tě zajímá – ať už jde o základy práce s fotoaparátem\, postprodukci\, nebo kreativní přístup k fotografii. \nWorkshop trvá podle domluvy – může to být odpoledne nebo celý den – a probíhá přímo v Karlovicích.
URL:https://actaea.cz/akce/vystava-fotografii-davida-tesinskeho-2/2026-04-25/
LOCATION:VÍCE Ve mlýně\, Karlovice 421\, Karlovice\, 793 23\, Česká republika
CATEGORIES:Pro veřejnost,Výstavy
ATTACH;FMTTYPE=image/jpeg:https://actaea.cz/wp-content/uploads/2026/03/VZDELAVACI-CENTRUM-VICE-VE-MLYNE-KARLOVICE-2.jpg
END:VEVENT
BEGIN:VEVENT
DTSTART;TZID=Europe/Prague:20260502T100000
DTEND;TZID=Europe/Prague:20260502T170000
DTSTAMP:20260422T003341
CREATED:20260301T211946Z
LAST-MODIFIED:20260325T081657Z
UID:10002355-1777716000-1777741200@actaea.cz
SUMMARY:Výstava fotografií Davida Těšínského
DESCRIPTION:V pátek 17. 4. 2026 v 17 hodin Vás srdečně zveme na vernisáž fotografií Davida Těšínského. Vernisáž bude spojena s přednáškou a s besedou s autorem. \nZahájení: pátek 17. 4. 2026 v 17 h\nVýstava přístupná do: 17. 5. 2026 (v rámci otvírací doby\, možno domluvit i individuální návštěvy pro větší skupiny)\nIndividuální fotografický workshop: viz. níže\, přihlášky na mail daviddtes@seznam.cz \nDavid Těšínský fotí příběhy lidí. Fotografii vnímá jako nástroj\, kterým může rozbíjet stereotypy a otevírat nové pohledy. Fotografií konfrontuje. „Fotkou chci ukázat mnohem víc než fotku. Fotka\, která je jen fotkou\, je k ničemu.“ \nVěnuje se rozličným tématům  – mládeži v Íránu\, bojovnicím na Ukrajině\, gangům v Guatemale\, životu japonských podnikatelů\, exorcismu v Etiopii\, pouličnímu životu rapperů v Detroitu\, životu v ghettu v Nigérii\, alkoholismu v Grónsku\, obětem úmyslných požárů v Amazonii\, těžce pracujícím dětem v Ghaně\, legendám roots reggae na Jamajce\, projektu o drogově závislých v Praze\, ilegálnímu LGBTQ hnutí v Bělorusku\, životu ve slumech v Indii a Nepálu\, vůbec prvnímu transvestitovi na Kubě a dalším subkulturám a příběhům. Jeho fotografie se objevují v The Guardian\, VICE\, Le Monde\, VANITY FAIR\, The Huff Post\, Stern\, Spiegel\, La Repubblica\, The Sun\, The Times. Měl samostatné výstavy v Tokyu\, Soulu\, Washingtonu D.C.\, Tel Avivu\, Dakaru\, Londýně\, Budapešti\, Berlíně\, Mnichově\, Bruselu atd. a účastnil se skupinových výstav v celé Evropě\, USA\, Kanadě\, v Izraeli na dalších cca 80 akcích. Desetkrát se zúčastnil soutěže Czech Press Photo a byl oceněn v soutěžích Sony World Photography Awards\, PDN storytellers\, Award of excellence nebo World Press Photo. \nIndividuální fotografický workshop s Davidem Těšínským \nSobota 18. 5. 2026 \nChceš se posunout v tom\, jak fotíš\, nebo se konečně naučit rozumět svojí zrcadlovce či bezzrcadlovce? Na individuálním workshopu se zaměříme přesně na to\, co tě zajímá – ať už jde o základy práce s fotoaparátem\, postprodukci\, nebo kreativní přístup k fotografii. \nWorkshop trvá podle domluvy – může to být odpoledne nebo celý den – a probíhá přímo v Karlovicích.
URL:https://actaea.cz/akce/vystava-fotografii-davida-tesinskeho-2/2026-05-02/
LOCATION:VÍCE Ve mlýně\, Karlovice 421\, Karlovice\, 793 23\, Česká republika
CATEGORIES:Pro veřejnost,Výstavy
ATTACH;FMTTYPE=image/jpeg:https://actaea.cz/wp-content/uploads/2026/03/VZDELAVACI-CENTRUM-VICE-VE-MLYNE-KARLOVICE-2.jpg
END:VEVENT
BEGIN:VEVENT
DTSTART;TZID=Europe/Prague:20260509T100000
DTEND;TZID=Europe/Prague:20260509T170000
DTSTAMP:20260422T003341
CREATED:20260301T211946Z
LAST-MODIFIED:20260325T081657Z
UID:10002356-1778320800-1778346000@actaea.cz
SUMMARY:Výstava fotografií Davida Těšínského
DESCRIPTION:V pátek 17. 4. 2026 v 17 hodin Vás srdečně zveme na vernisáž fotografií Davida Těšínského. Vernisáž bude spojena s přednáškou a s besedou s autorem. \nZahájení: pátek 17. 4. 2026 v 17 h\nVýstava přístupná do: 17. 5. 2026 (v rámci otvírací doby\, možno domluvit i individuální návštěvy pro větší skupiny)\nIndividuální fotografický workshop: viz. níže\, přihlášky na mail daviddtes@seznam.cz \nDavid Těšínský fotí příběhy lidí. Fotografii vnímá jako nástroj\, kterým může rozbíjet stereotypy a otevírat nové pohledy. Fotografií konfrontuje. „Fotkou chci ukázat mnohem víc než fotku. Fotka\, která je jen fotkou\, je k ničemu.“ \nVěnuje se rozličným tématům  – mládeži v Íránu\, bojovnicím na Ukrajině\, gangům v Guatemale\, životu japonských podnikatelů\, exorcismu v Etiopii\, pouličnímu životu rapperů v Detroitu\, životu v ghettu v Nigérii\, alkoholismu v Grónsku\, obětem úmyslných požárů v Amazonii\, těžce pracujícím dětem v Ghaně\, legendám roots reggae na Jamajce\, projektu o drogově závislých v Praze\, ilegálnímu LGBTQ hnutí v Bělorusku\, životu ve slumech v Indii a Nepálu\, vůbec prvnímu transvestitovi na Kubě a dalším subkulturám a příběhům. Jeho fotografie se objevují v The Guardian\, VICE\, Le Monde\, VANITY FAIR\, The Huff Post\, Stern\, Spiegel\, La Repubblica\, The Sun\, The Times. Měl samostatné výstavy v Tokyu\, Soulu\, Washingtonu D.C.\, Tel Avivu\, Dakaru\, Londýně\, Budapešti\, Berlíně\, Mnichově\, Bruselu atd. a účastnil se skupinových výstav v celé Evropě\, USA\, Kanadě\, v Izraeli na dalších cca 80 akcích. Desetkrát se zúčastnil soutěže Czech Press Photo a byl oceněn v soutěžích Sony World Photography Awards\, PDN storytellers\, Award of excellence nebo World Press Photo. \nIndividuální fotografický workshop s Davidem Těšínským \nSobota 18. 5. 2026 \nChceš se posunout v tom\, jak fotíš\, nebo se konečně naučit rozumět svojí zrcadlovce či bezzrcadlovce? Na individuálním workshopu se zaměříme přesně na to\, co tě zajímá – ať už jde o základy práce s fotoaparátem\, postprodukci\, nebo kreativní přístup k fotografii. \nWorkshop trvá podle domluvy – může to být odpoledne nebo celý den – a probíhá přímo v Karlovicích.
URL:https://actaea.cz/akce/vystava-fotografii-davida-tesinskeho-2/2026-05-09/
LOCATION:VÍCE Ve mlýně\, Karlovice 421\, Karlovice\, 793 23\, Česká republika
CATEGORIES:Pro veřejnost,Výstavy
ATTACH;FMTTYPE=image/jpeg:https://actaea.cz/wp-content/uploads/2026/03/VZDELAVACI-CENTRUM-VICE-VE-MLYNE-KARLOVICE-2.jpg
END:VEVENT
BEGIN:VEVENT
DTSTART;TZID=Europe/Prague:20260512T100000
DTEND;TZID=Europe/Prague:20260512T170000
DTSTAMP:20260422T003341
CREATED:20260301T211946Z
LAST-MODIFIED:20260325T081657Z
UID:10002357-1778580000-1778605200@actaea.cz
SUMMARY:Výstava fotografií Davida Těšínského
DESCRIPTION:V pátek 17. 4. 2026 v 17 hodin Vás srdečně zveme na vernisáž fotografií Davida Těšínského. Vernisáž bude spojena s přednáškou a s besedou s autorem. \nZahájení: pátek 17. 4. 2026 v 17 h\nVýstava přístupná do: 17. 5. 2026 (v rámci otvírací doby\, možno domluvit i individuální návštěvy pro větší skupiny)\nIndividuální fotografický workshop: viz. níže\, přihlášky na mail daviddtes@seznam.cz \nDavid Těšínský fotí příběhy lidí. Fotografii vnímá jako nástroj\, kterým může rozbíjet stereotypy a otevírat nové pohledy. Fotografií konfrontuje. „Fotkou chci ukázat mnohem víc než fotku. Fotka\, která je jen fotkou\, je k ničemu.“ \nVěnuje se rozličným tématům  – mládeži v Íránu\, bojovnicím na Ukrajině\, gangům v Guatemale\, životu japonských podnikatelů\, exorcismu v Etiopii\, pouličnímu životu rapperů v Detroitu\, životu v ghettu v Nigérii\, alkoholismu v Grónsku\, obětem úmyslných požárů v Amazonii\, těžce pracujícím dětem v Ghaně\, legendám roots reggae na Jamajce\, projektu o drogově závislých v Praze\, ilegálnímu LGBTQ hnutí v Bělorusku\, životu ve slumech v Indii a Nepálu\, vůbec prvnímu transvestitovi na Kubě a dalším subkulturám a příběhům. Jeho fotografie se objevují v The Guardian\, VICE\, Le Monde\, VANITY FAIR\, The Huff Post\, Stern\, Spiegel\, La Repubblica\, The Sun\, The Times. Měl samostatné výstavy v Tokyu\, Soulu\, Washingtonu D.C.\, Tel Avivu\, Dakaru\, Londýně\, Budapešti\, Berlíně\, Mnichově\, Bruselu atd. a účastnil se skupinových výstav v celé Evropě\, USA\, Kanadě\, v Izraeli na dalších cca 80 akcích. Desetkrát se zúčastnil soutěže Czech Press Photo a byl oceněn v soutěžích Sony World Photography Awards\, PDN storytellers\, Award of excellence nebo World Press Photo. \nIndividuální fotografický workshop s Davidem Těšínským \nSobota 18. 5. 2026 \nChceš se posunout v tom\, jak fotíš\, nebo se konečně naučit rozumět svojí zrcadlovce či bezzrcadlovce? Na individuálním workshopu se zaměříme přesně na to\, co tě zajímá – ať už jde o základy práce s fotoaparátem\, postprodukci\, nebo kreativní přístup k fotografii. \nWorkshop trvá podle domluvy – může to být odpoledne nebo celý den – a probíhá přímo v Karlovicích.
URL:https://actaea.cz/akce/vystava-fotografii-davida-tesinskeho-2/2026-05-12/
LOCATION:VÍCE Ve mlýně\, Karlovice 421\, Karlovice\, 793 23\, Česká republika
CATEGORIES:Pro veřejnost,Výstavy
ATTACH;FMTTYPE=image/jpeg:https://actaea.cz/wp-content/uploads/2026/03/VZDELAVACI-CENTRUM-VICE-VE-MLYNE-KARLOVICE-2.jpg
END:VEVENT
BEGIN:VEVENT
DTSTART;TZID=Europe/Prague:20260516T100000
DTEND;TZID=Europe/Prague:20260516T170000
DTSTAMP:20260422T003341
CREATED:20260301T211946Z
LAST-MODIFIED:20260325T081657Z
UID:10002358-1778925600-1778950800@actaea.cz
SUMMARY:Výstava fotografií Davida Těšínského
DESCRIPTION:V pátek 17. 4. 2026 v 17 hodin Vás srdečně zveme na vernisáž fotografií Davida Těšínského. Vernisáž bude spojena s přednáškou a s besedou s autorem. \nZahájení: pátek 17. 4. 2026 v 17 h\nVýstava přístupná do: 17. 5. 2026 (v rámci otvírací doby\, možno domluvit i individuální návštěvy pro větší skupiny)\nIndividuální fotografický workshop: viz. níže\, přihlášky na mail daviddtes@seznam.cz \nDavid Těšínský fotí příběhy lidí. Fotografii vnímá jako nástroj\, kterým může rozbíjet stereotypy a otevírat nové pohledy. Fotografií konfrontuje. „Fotkou chci ukázat mnohem víc než fotku. Fotka\, která je jen fotkou\, je k ničemu.“ \nVěnuje se rozličným tématům  – mládeži v Íránu\, bojovnicím na Ukrajině\, gangům v Guatemale\, životu japonských podnikatelů\, exorcismu v Etiopii\, pouličnímu životu rapperů v Detroitu\, životu v ghettu v Nigérii\, alkoholismu v Grónsku\, obětem úmyslných požárů v Amazonii\, těžce pracujícím dětem v Ghaně\, legendám roots reggae na Jamajce\, projektu o drogově závislých v Praze\, ilegálnímu LGBTQ hnutí v Bělorusku\, životu ve slumech v Indii a Nepálu\, vůbec prvnímu transvestitovi na Kubě a dalším subkulturám a příběhům. Jeho fotografie se objevují v The Guardian\, VICE\, Le Monde\, VANITY FAIR\, The Huff Post\, Stern\, Spiegel\, La Repubblica\, The Sun\, The Times. Měl samostatné výstavy v Tokyu\, Soulu\, Washingtonu D.C.\, Tel Avivu\, Dakaru\, Londýně\, Budapešti\, Berlíně\, Mnichově\, Bruselu atd. a účastnil se skupinových výstav v celé Evropě\, USA\, Kanadě\, v Izraeli na dalších cca 80 akcích. Desetkrát se zúčastnil soutěže Czech Press Photo a byl oceněn v soutěžích Sony World Photography Awards\, PDN storytellers\, Award of excellence nebo World Press Photo. \nIndividuální fotografický workshop s Davidem Těšínským \nSobota 18. 5. 2026 \nChceš se posunout v tom\, jak fotíš\, nebo se konečně naučit rozumět svojí zrcadlovce či bezzrcadlovce? Na individuálním workshopu se zaměříme přesně na to\, co tě zajímá – ať už jde o základy práce s fotoaparátem\, postprodukci\, nebo kreativní přístup k fotografii. \nWorkshop trvá podle domluvy – může to být odpoledne nebo celý den – a probíhá přímo v Karlovicích.
URL:https://actaea.cz/akce/vystava-fotografii-davida-tesinskeho-2/2026-05-16/
LOCATION:VÍCE Ve mlýně\, Karlovice 421\, Karlovice\, 793 23\, Česká republika
CATEGORIES:Pro veřejnost,Výstavy
ATTACH;FMTTYPE=image/jpeg:https://actaea.cz/wp-content/uploads/2026/03/VZDELAVACI-CENTRUM-VICE-VE-MLYNE-KARLOVICE-2.jpg
END:VEVENT
END:VCALENDAR