BEGIN:VCALENDAR
VERSION:2.0
PRODID:-//Actaea - ECPv6.15.20//NONSGML v1.0//EN
CALSCALE:GREGORIAN
METHOD:PUBLISH
X-WR-CALNAME:Actaea
X-ORIGINAL-URL:https://actaea.cz
X-WR-CALDESC:Akce na Actaea
REFRESH-INTERVAL;VALUE=DURATION:PT1H
X-Robots-Tag:noindex
X-PUBLISHED-TTL:PT1H
BEGIN:VTIMEZONE
TZID:Europe/Prague
BEGIN:DAYLIGHT
TZOFFSETFROM:+0100
TZOFFSETTO:+0200
TZNAME:CEST
DTSTART:20230326T010000
END:DAYLIGHT
BEGIN:STANDARD
TZOFFSETFROM:+0200
TZOFFSETTO:+0100
TZNAME:CET
DTSTART:20231029T010000
END:STANDARD
BEGIN:DAYLIGHT
TZOFFSETFROM:+0100
TZOFFSETTO:+0200
TZNAME:CEST
DTSTART:20240331T010000
END:DAYLIGHT
BEGIN:STANDARD
TZOFFSETFROM:+0200
TZOFFSETTO:+0100
TZNAME:CET
DTSTART:20241027T010000
END:STANDARD
BEGIN:DAYLIGHT
TZOFFSETFROM:+0100
TZOFFSETTO:+0200
TZNAME:CEST
DTSTART:20250330T010000
END:DAYLIGHT
BEGIN:STANDARD
TZOFFSETFROM:+0200
TZOFFSETTO:+0100
TZNAME:CET
DTSTART:20251026T010000
END:STANDARD
BEGIN:DAYLIGHT
TZOFFSETFROM:+0100
TZOFFSETTO:+0200
TZNAME:CEST
DTSTART:20260329T010000
END:DAYLIGHT
BEGIN:STANDARD
TZOFFSETFROM:+0200
TZOFFSETTO:+0100
TZNAME:CET
DTSTART:20261025T010000
END:STANDARD
END:VTIMEZONE
BEGIN:VEVENT
DTSTART;TZID=Europe/Prague:20250603T150000
DTEND;TZID=Europe/Prague:20250603T170000
DTSTAMP:20260422T004027
CREATED:20250511T200212Z
LAST-MODIFIED:20250512T195816Z
UID:10002075-1748962800-1748970000@actaea.cz
SUMMARY:Červnová dílnička
DESCRIPTION:3. června 2025 Vás zveme na Červnovou dílničku\, na odpoledne plné tvoření\, chutí a předprázdninové pohody. \nOd 15 do 17 hodin bude připravena dílnička s letní tématikou\, chybět nebudou ani domácí bylinkové a ovocné limonády pro malé i velké. V patře bude k dispozici hernička pro děti. \nA pokud nám bude přát počasí\, můžete si vše vychutnat i při posezení na naší terase. Přijďte si užít pohodové odpoledne! \nTěšíme se na Vás! \nTým VÍCE Ve mlýně Karlovice
URL:https://actaea.cz/akce/cervnova-dilnicka/
LOCATION:VÍCE Ve mlýně\, Karlovice 421\, Karlovice\, 793 23\, Česká republika
CATEGORIES:Tvoření a hry
ATTACH;FMTTYPE=image/jpeg:https://actaea.cz/wp-content/uploads/2025/05/25_06_Cervnova-dilnicka-2.jpg
END:VEVENT
BEGIN:VEVENT
DTSTART;TZID=Europe/Prague:20250513T150000
DTEND;TZID=Europe/Prague:20250513T170000
DTSTAMP:20260422T004027
CREATED:20250421T143655Z
LAST-MODIFIED:20250423T120003Z
UID:10002072-1747148400-1747155600@actaea.cz
SUMMARY:Květnová dílnička
DESCRIPTION:13. května Vás zveme na Květnovou dílničku\, na odpoledne plné tvoření\, chutí a jarní pohody. \nOd 15 do 17 hodin bude připraveno tvoření pro děti i rodiče\, kde si společně vyrobíme jarní dekorace. Chybět nebudou ani osvěžující bylinkové a ovocné koktejly pro malé i velké. V patře bude k dispozici hernička pro děti. \nA pokud nám bude přát počasí\, můžete si vše vychutnat i při posezení na naší terase. Přijďte si užít pohodové odpoledne! \nTěšíme se na Vás! \nTým VÍCE Ve mlýně Karlovice
URL:https://actaea.cz/akce/kvetnova-dilnicka/
LOCATION:VÍCE Ve mlýně\, Karlovice 421\, Karlovice\, 793 23\, Česká republika
CATEGORIES:Tvoření a hry
ATTACH;FMTTYPE=image/jpeg:https://actaea.cz/wp-content/uploads/2025/04/KVETNOVA-DILNICKA-1.jpg
END:VEVENT
BEGIN:VEVENT
DTSTART;TZID=Europe/Prague:20250508T080000
DTEND;TZID=Europe/Prague:20250508T110000
DTSTAMP:20260422T004027
CREATED:20250421T145124Z
LAST-MODIFIED:20250421T145124Z
UID:10002073-1746691200-1746702000@actaea.cz
SUMMARY:Vítání ptačího zpěvu
DESCRIPTION:Srdečně zveme nejen příznivce ptačí říše ve čtvrtek 8. 5. 2025 na akci Vítání ptačího zpěvu. \nAkce proběhne v geologické expozici v Karlově Studánce. \nZačínat budeme v 8 hodin v horní části expozice a předpokládaný konec je v 11 hodin. \nProgram: \n– krátká vycházka (cca 2 km) vhodná i pro rodiny s dětmi \n– určování ptáků podle zpěvu a pobytových znaků \n– zajímavosti o místní přírodě. \n– za příznivého počasí ukázka odchytu a kroužkování \n– doprovodný program pro děti \nLektor: Daniel Křenek \nTěšíme se na Vás!
URL:https://actaea.cz/akce/vitani-ptaciho-zpevu/
LOCATION:VÍCE Ve mlýně\, Karlovice 421\, Karlovice\, 793 23\, Česká republika
CATEGORIES:Výlety
ATTACH;FMTTYPE=image/jpeg:https://actaea.cz/wp-content/uploads/2025/04/Vitani-ptaciho-zpevu-2025_page-0001-1-scaled.jpg
END:VEVENT
BEGIN:VEVENT
DTSTART;TZID=Europe/Prague:20250503T090000
DTEND;TZID=Europe/Prague:20250503T140000
DTSTAMP:20260422T004027
CREATED:20250421T142410Z
LAST-MODIFIED:20250421T142410Z
UID:10002071-1746262800-1746280800@actaea.cz
SUMMARY:Odemykání studánek a bylinky
DESCRIPTION:V sobotu 3.5.2025 od 9-14 hodin\, trasa z Karlovic do Vrbna pod Pradědem.Sraz v 9 hodin u Vzdělávacího centra VÍCE Ve mlýně Karlovice.S sebou dobré boty\, pracovní rukavice\, svačinu a klobásky či špekáčky na opékání.Těšíme se na vás!\n\nLetošní jaro je rychlé\, i u nás na horách. Nabídlo nám své první kvítky\, tůňky i rybníčky jsou plné žabích vajíček.A už se na loukách chystají další bylinky.Je čas je trochu poznat.A je čas odemknout studánky.Přijdete pomoct?
URL:https://actaea.cz/akce/odemykani-studanek-a-bylinky/
LOCATION:VÍCE Ve mlýně\, Karlovice 421\, Karlovice\, 793 23\, Česká republika
CATEGORIES:Exkurze,Výlety
ATTACH;FMTTYPE=image/jpeg:https://actaea.cz/wp-content/uploads/2025/04/Odemykani-studanek-a-bylinky.jpg
END:VEVENT
BEGIN:VEVENT
DTSTART;TZID=Europe/Prague:20250502T090000
DTEND;TZID=Europe/Prague:20250502T130000
DTSTAMP:20260422T004027
CREATED:20250424T165125Z
LAST-MODIFIED:20250424T165125Z
UID:10002074-1746176400-1746190800@actaea.cz
SUMMARY:Úklid kolem řeky v rámci Dne Země
DESCRIPTION:Chceme mít Karlovice po povodni opět čisté a bez odpadků. Budeme uklízet kolem řeky a jejích přítoků v Zadní Vsi. \nSraz u plakátovací plochy v Zadní Vsi. Přijďte pomoci! Podpořte děti z naší školy při úklidu kolem řeky! \nS sebou pracovní rukavice\, něco na opékání\, pytle na odpad dodáme. A nezapomeňte si dobrou náladu! \nAkce je pořádána v rámci Dne Země. \nTěšíme se na Vás.
URL:https://actaea.cz/akce/uklid-kolem-reky-v-ramci-dne-zeme/
LOCATION:Karlovice\, Karlovice\, Czech Republic
CATEGORIES:Výlety
ATTACH;FMTTYPE=image/png:https://actaea.cz/wp-content/uploads/2025/04/den-zeme-Karlovice-2025.png
END:VEVENT
BEGIN:VEVENT
DTSTART;TZID=Europe/Prague:20250417T090000
DTEND;TZID=Europe/Prague:20250417T170000
DTSTAMP:20260422T004027
CREATED:20250401T172604Z
LAST-MODIFIED:20250401T172738Z
UID:10002070-1744880400-1744909200@actaea.cz
SUMMARY:Workshop k letnímu táboru
DESCRIPTION:Ve čtvrtek 17. dubna 2025 u nás neproběhne jen Velikonoční tvoření\, ale také workshop k letnímu táboru\, kde si společně zakouzlíme a užijeme si magickou zábavu! \nTématem letošního letního tábora je kouzelný svět Harryho Pottera a součástí budou lekce čar a kouzel\, studium magických lektvarů\, zvířat a bylin a také spousta překvapení\, která účastníky promění v opravdové odvážné kouzelníky a čarodějky. \nPokud jste se ještě nepřihlásili\, tak nám stále zbývá pár volných míst! \n 
URL:https://actaea.cz/akce/workshop-k-letnimu-taboru/
LOCATION:VÍCE Ve mlýně\, Karlovice 421\, Karlovice\, 793 23\, Česká republika
CATEGORIES:Tvoření a hry
ATTACH;FMTTYPE=image/jpeg:https://actaea.cz/wp-content/uploads/2025/03/Workshop_tabor_duben_25.jpg
END:VEVENT
BEGIN:VEVENT
DTSTART;TZID=Europe/Prague:20250417T090000
DTEND;TZID=Europe/Prague:20250417T170000
DTSTAMP:20260422T004027
CREATED:20250401T172253Z
LAST-MODIFIED:20250401T172819Z
UID:10002069-1744880400-1744909200@actaea.cz
SUMMARY:Velikonoční tvoření
DESCRIPTION:První akce letošního roku je konečně tady! \nAčkoliv byla letošní zimní pauza z důvodu zářijových povodní dlouhá\, 17. dubna 2025 to u nás opět ožije\, a to rovnou na celý den! \nBudeme vyrábět\, malovat\, hrát si\, užívat si Zelený čtvrtek se vším všudy. Děti můžete poslat i bez doprovodu\, rádi se o ně postaráme. A když dorazíte s nimi\, pohostíme Vás dobrým nápojem či sladkou pochutinou. V rámci tohoto dne také proběhne workshop k letnímu táboru. Proto neváhejte a přijďte se za námi podívat! \nTěšit se na Vás budeme od 9 do 12 hodin a od 14 do 17 hodin.
URL:https://actaea.cz/akce/4685/
LOCATION:VÍCE Ve mlýně\, Karlovice 421\, Karlovice\, 793 23\, Česká republika
CATEGORIES:Tvoření a hry
ATTACH;FMTTYPE=image/jpeg:https://actaea.cz/wp-content/uploads/2025/03/Tvoreni_Velikonoce_duben_25.jpg
END:VEVENT
BEGIN:VEVENT
DTSTART;TZID=Europe/Prague:20250328T190000
DTEND;TZID=Europe/Prague:20250328T230000
DTSTAMP:20260422T004027
CREATED:20250303T174159Z
LAST-MODIFIED:20250304T151544Z
UID:10002068-1743188400-1743202800@actaea.cz
SUMMARY:Benefiční koncert pro mlýn ve Svitavách!
DESCRIPTION:  \nBenefiční koncert Syxtet a Nebeztebe \nKdy: pátek 28.3.2025 v 19 hodin \nKde: Ottendorfův dům Svitavy \nPořádá: Vzdělávací centrum VÍCE Ve mlýně Karlovice\, spolek Actaea\, z.s. \nKupte si vstupenku zde: \n \nNebo na tomto odkaze: \nhttps://www.smsticket.cz/vstupenky/53864-beneficni-koncert-syxtet-a-nebeztebe-ottendorferuv-dum-svitavy \n\nSrdečně zveme na Benefiční koncert\, který se koná na podporu Vzdělávacího centra VÍCE Ve mlýně Karlovice. Přijďte si užít hudební večer a podpořit restart centra po loňské povodni. \nVzdělávací centrum Ve mlýně Karlovice nabízí ekovýchovné programy pro školy\, organizuje akce pro rodiny s dětmi\, pořádá exkurze do přírody Jeseníků a celoroční výstavu Jeseníky všemi smysly. \nPovodeň v září 2024 poškodila tepelné čerpadlo\, izolace učebny v prvním podlaží a vyřadila z provozu kanalizaci v celé obci. Z těchto důvodů je centrum ještě stále pro veřejnost uzavřeno. \nPojďte podpořit jeho znovuotevření v jarních měsících. Výtěžek z koncertu bude použit na novou učebnu ve třetím podlaží\, která bude zaměřena na klima a pomůže do centra přilákat nové školy i další návštěvníky. \nA proč koncert pořádáme ve Svitavách? Vzdělávací centrum vybudovala a vede svitavská rodačka Kateřina Kočí\, rozená Ehrenbergerová. Proto se obracíme na vás\, Svitaváky. Pojďte se s námi potkat\, poslechnout si svitavský Syxtet a brněnskou kapelu Nebeztebe\, a pak si třeba ještě zazpívat a posedět u kytary. \nKromě základní vstupenky si můžete koupit i vstupenku se sklenkou sektu. \nVstupenky na koncert: smsticket – QR kód
URL:https://actaea.cz/akce/beneficni-koncert-pro-mlyn-ve-svitavach/
LOCATION:VÍCE Ve mlýně\, Karlovice 421\, Karlovice\, 793 23\, Česká republika
CATEGORIES:Koncerty
ATTACH;FMTTYPE=image/jpeg:https://actaea.cz/wp-content/uploads/2025/02/BENEFICE-SVITAVY-grafika-FINAL-A-1_page-0001.jpg
END:VEVENT
BEGIN:VEVENT
DTSTART;TZID=Europe/Prague:20240928T140000
DTEND;TZID=Europe/Prague:20240928T170000
DTSTAMP:20260422T004027
CREATED:20240823T092836Z
LAST-MODIFIED:20240823T093256Z
UID:10001795-1727532000-1727542800@actaea.cz
SUMMARY:Máme otevřeno v sobotu!
DESCRIPTION:Přes školní rok máme otevřeno každou středu a pátek od 15 do 17 hodin. \nKaždou sobotu od 14 do 17 hodin. \nMůžete si u nás dát dobrou kávu\, nebo drobné občerstvení. \nBudeme se na vás těšit! 
URL:https://actaea.cz/akce/mame-otevreno-v-sobotu/2024-09-28/
LOCATION:VÍCE Ve mlýně\, Karlovice 421\, Karlovice\, 793 23\, Česká republika
CATEGORIES:Tvoření a hry,Výstavy
ATTACH;FMTTYPE=image/jpeg:https://actaea.cz/wp-content/uploads/2024/02/mlyn-1-Karel-Fiala.jpg
END:VEVENT
BEGIN:VEVENT
DTSTART;TZID=Europe/Prague:20240927T150000
DTEND;TZID=Europe/Prague:20240927T170000
DTSTAMP:20260422T004027
CREATED:20240823T091945Z
LAST-MODIFIED:20240823T092929Z
UID:10001280-1727449200-1727456400@actaea.cz
SUMMARY:Máme otevřeno!
DESCRIPTION:Přes školní rok máme otevřeno každou středu a pátek od 15 do 17 hodin. \nKaždou sobotu od 14 do 17 hodin. \nMůžete si u nás dát dobrou kávu\, nebo drobné občerstvení. \nBudeme se na vás těšit! 
URL:https://actaea.cz/akce/mame-otevreno-3/2024-09-27/
LOCATION:VÍCE Ve mlýně\, Karlovice 421\, Karlovice\, 793 23\, Česká republika
CATEGORIES:Tvoření a hry,Výstavy
END:VEVENT
BEGIN:VEVENT
DTSTART;TZID=Europe/Prague:20240925T150000
DTEND;TZID=Europe/Prague:20240925T170000
DTSTAMP:20260422T004027
CREATED:20240823T091945Z
LAST-MODIFIED:20240823T092929Z
UID:10001017-1727276400-1727283600@actaea.cz
SUMMARY:Máme otevřeno!
DESCRIPTION:Přes školní rok máme otevřeno každou středu a pátek od 15 do 17 hodin. \nKaždou sobotu od 14 do 17 hodin. \nMůžete si u nás dát dobrou kávu\, nebo drobné občerstvení. \nBudeme se na vás těšit! 
URL:https://actaea.cz/akce/mame-otevreno-3/2024-09-25/
LOCATION:VÍCE Ve mlýně\, Karlovice 421\, Karlovice\, 793 23\, Česká republika
CATEGORIES:Tvoření a hry,Výstavy
END:VEVENT
BEGIN:VEVENT
DTSTART;TZID=Europe/Prague:20240918T150000
DTEND;TZID=Europe/Prague:20240918T170000
DTSTAMP:20260422T004027
CREATED:20240823T091945Z
LAST-MODIFIED:20240823T092929Z
UID:10001016-1726671600-1726678800@actaea.cz
SUMMARY:Máme otevřeno!
DESCRIPTION:Přes školní rok máme otevřeno každou středu a pátek od 15 do 17 hodin. \nKaždou sobotu od 14 do 17 hodin. \nMůžete si u nás dát dobrou kávu\, nebo drobné občerstvení. \nBudeme se na vás těšit! 
URL:https://actaea.cz/akce/mame-otevreno-3/2024-09-18/
LOCATION:VÍCE Ve mlýně\, Karlovice 421\, Karlovice\, 793 23\, Česká republika
CATEGORIES:Tvoření a hry,Výstavy
END:VEVENT
BEGIN:VEVENT
DTSTART;TZID=Europe/Prague:20240911T150000
DTEND;TZID=Europe/Prague:20240911T170000
DTSTAMP:20260422T004027
CREATED:20240823T091945Z
LAST-MODIFIED:20240823T092929Z
UID:10001015-1726066800-1726074000@actaea.cz
SUMMARY:Máme otevřeno!
DESCRIPTION:Přes školní rok máme otevřeno každou středu a pátek od 15 do 17 hodin. \nKaždou sobotu od 14 do 17 hodin. \nMůžete si u nás dát dobrou kávu\, nebo drobné občerstvení. \nBudeme se na vás těšit! 
URL:https://actaea.cz/akce/mame-otevreno-3/2024-09-11/
LOCATION:VÍCE Ve mlýně\, Karlovice 421\, Karlovice\, 793 23\, Česká republika
CATEGORIES:Tvoření a hry,Výstavy
END:VEVENT
BEGIN:VEVENT
DTSTART;TZID=Europe/Prague:20240907T140000
DTEND;TZID=Europe/Prague:20240907T170000
DTSTAMP:20260422T004027
CREATED:20240823T092836Z
LAST-MODIFIED:20240823T093256Z
UID:10001792-1725717600-1725728400@actaea.cz
SUMMARY:Máme otevřeno v sobotu!
DESCRIPTION:Přes školní rok máme otevřeno každou středu a pátek od 15 do 17 hodin. \nKaždou sobotu od 14 do 17 hodin. \nMůžete si u nás dát dobrou kávu\, nebo drobné občerstvení. \nBudeme se na vás těšit! 
URL:https://actaea.cz/akce/mame-otevreno-v-sobotu/2024-09-07/
LOCATION:VÍCE Ve mlýně\, Karlovice 421\, Karlovice\, 793 23\, Česká republika
CATEGORIES:Tvoření a hry,Výstavy
ATTACH;FMTTYPE=image/jpeg:https://actaea.cz/wp-content/uploads/2024/02/mlyn-1-Karel-Fiala.jpg
END:VEVENT
BEGIN:VEVENT
DTSTART;TZID=Europe/Prague:20240906T150000
DTEND;TZID=Europe/Prague:20240906T170000
DTSTAMP:20260422T004027
CREATED:20240823T091945Z
LAST-MODIFIED:20240823T092929Z
UID:10001274-1725634800-1725642000@actaea.cz
SUMMARY:Máme otevřeno!
DESCRIPTION:Přes školní rok máme otevřeno každou středu a pátek od 15 do 17 hodin. \nKaždou sobotu od 14 do 17 hodin. \nMůžete si u nás dát dobrou kávu\, nebo drobné občerstvení. \nBudeme se na vás těšit! 
URL:https://actaea.cz/akce/mame-otevreno-3/2024-09-06/
LOCATION:VÍCE Ve mlýně\, Karlovice 421\, Karlovice\, 793 23\, Česká republika
CATEGORIES:Tvoření a hry,Výstavy
END:VEVENT
BEGIN:VEVENT
DTSTART;TZID=Europe/Prague:20240904T150000
DTEND;TZID=Europe/Prague:20240904T170000
DTSTAMP:20260422T004027
CREATED:20240829T160404Z
LAST-MODIFIED:20240829T160404Z
UID:10001013-1725462000-1725469200@actaea.cz
SUMMARY:Poprázdninové tvoření Ve mlýně
DESCRIPTION:Přijďte na první tvoření tohoto školního roku do mlýna! Budeme vyrábět zápisníky na zážitky z prázdnin\, rámečky na veselé letní vzpomínky a zápichy s mořskými motivy\, díky kterým si na své hezké prázdniny vždycky vzpomenete. Těšíme se na vás od 15 do 17 hodin! \n\nPřes školní rok máme otevřeno každou středu a pátek od 15 do 17 hodin. \nKaždou sobotu od 14 do 17 hodin. \nMůžete si u nás dát dobrou kávu\, nebo drobné občerstvení. \nBudeme se na vás těšit! 
URL:https://actaea.cz/akce/mame-otevreno-3-3/
LOCATION:VÍCE Ve mlýně\, Karlovice 421\, Karlovice\, 793 23\, Česká republika
CATEGORIES:Tvoření a hry,Výstavy
END:VEVENT
BEGIN:VEVENT
DTSTART;TZID=Europe/Prague:20240831T110000
DTEND;TZID=Europe/Prague:20240831T180000
DTSTAMP:20260422T004027
CREATED:20240625T082155Z
LAST-MODIFIED:20240802T084816Z
UID:10001012-1725102000-1725127200@actaea.cz
SUMMARY:Máme otevřeno o víkendu!
DESCRIPTION:Přijďte o prázdninách navštívit vzdělávací centrum VÍCE Ve mlýně Karlovice\, prohlídnout si výstavy o jesenické přírodě a nebo třeba jen tak posedět u dobré kávy. \nMáme otevřeno vždy ÚTERÝ až PÁTEK od 11 do 17 hodin\, v SOBOTU a NEDĚLI od 11 do 18 hodin. \nBudeme se těšit na vaši návštěvu!
URL:https://actaea.cz/akce/mame-otevreno-o-vikendu/2024-08-31/
LOCATION:VÍCE Ve mlýně\, Karlovice 421\, Karlovice\, 793 23\, Česká republika
CATEGORIES:Tvoření a hry,Výstavy
ATTACH;FMTTYPE=image/jpeg:https://actaea.cz/wp-content/uploads/2024/02/mlyn-1-Karel-Fiala.jpg
END:VEVENT
BEGIN:VEVENT
DTSTART;TZID=Europe/Prague:20240830T110000
DTEND;TZID=Europe/Prague:20240830T170000
DTSTAMP:20260422T004027
CREATED:20240719T084516Z
LAST-MODIFIED:20240802T084629Z
UID:10000986-1725015600-1725037200@actaea.cz
SUMMARY:Máme otevřeno!
DESCRIPTION:Přijďte o prázdninách navštívit vzdělávací centrum VÍCE Ve mlýně Karlovice\, prohlídnout si výstavy o jesenické přírodě a nebo třeba jen tak posedět u dobré kávy. \nMáme otevřeno vždy ÚTERÝ až PÁTEK od 11 do 17 hodin\, v SOBOTU a NEDĚLI od 11 do 18 hodin. \nBudeme se těšit na vaši návštěvu!
URL:https://actaea.cz/akce/mame-otevreno-3-2/2024-08-30/
LOCATION:VÍCE Ve mlýně\, Karlovice 421\, Karlovice\, 793 23\, Česká republika
CATEGORIES:Tvoření a hry,Výstavy
ATTACH;FMTTYPE=image/jpeg:https://actaea.cz/wp-content/uploads/2024/02/mlyn-2-Karel-Fiala.jpg
END:VEVENT
BEGIN:VEVENT
DTSTART;TZID=Europe/Prague:20240829T110000
DTEND;TZID=Europe/Prague:20240829T170000
DTSTAMP:20260422T004027
CREATED:20240719T084516Z
LAST-MODIFIED:20240802T084629Z
UID:10000985-1724929200-1724950800@actaea.cz
SUMMARY:Máme otevřeno!
DESCRIPTION:Přijďte o prázdninách navštívit vzdělávací centrum VÍCE Ve mlýně Karlovice\, prohlídnout si výstavy o jesenické přírodě a nebo třeba jen tak posedět u dobré kávy. \nMáme otevřeno vždy ÚTERÝ až PÁTEK od 11 do 17 hodin\, v SOBOTU a NEDĚLI od 11 do 18 hodin. \nBudeme se těšit na vaši návštěvu!
URL:https://actaea.cz/akce/mame-otevreno-3-2/2024-08-29/
LOCATION:VÍCE Ve mlýně\, Karlovice 421\, Karlovice\, 793 23\, Česká republika
CATEGORIES:Tvoření a hry,Výstavy
ATTACH;FMTTYPE=image/jpeg:https://actaea.cz/wp-content/uploads/2024/02/mlyn-2-Karel-Fiala.jpg
END:VEVENT
BEGIN:VEVENT
DTSTART;TZID=Europe/Prague:20240828T110000
DTEND;TZID=Europe/Prague:20240828T170000
DTSTAMP:20260422T004027
CREATED:20240719T084516Z
LAST-MODIFIED:20240802T084629Z
UID:10000984-1724842800-1724864400@actaea.cz
SUMMARY:Máme otevřeno!
DESCRIPTION:Přijďte o prázdninách navštívit vzdělávací centrum VÍCE Ve mlýně Karlovice\, prohlídnout si výstavy o jesenické přírodě a nebo třeba jen tak posedět u dobré kávy. \nMáme otevřeno vždy ÚTERÝ až PÁTEK od 11 do 17 hodin\, v SOBOTU a NEDĚLI od 11 do 18 hodin. \nBudeme se těšit na vaši návštěvu!
URL:https://actaea.cz/akce/mame-otevreno-3-2/2024-08-28/
LOCATION:VÍCE Ve mlýně\, Karlovice 421\, Karlovice\, 793 23\, Česká republika
CATEGORIES:Tvoření a hry,Výstavy
ATTACH;FMTTYPE=image/jpeg:https://actaea.cz/wp-content/uploads/2024/02/mlyn-2-Karel-Fiala.jpg
END:VEVENT
BEGIN:VEVENT
DTSTART;TZID=Europe/Prague:20240827T110000
DTEND;TZID=Europe/Prague:20240827T170000
DTSTAMP:20260422T004027
CREATED:20240826T175243Z
LAST-MODIFIED:20250415T133548Z
UID:10000983-1724756400-1724778000@actaea.cz
SUMMARY:Z provozních důvodů zavřeno!
DESCRIPTION:Vážení návštěvníci omlouváme se\, v úterý 27.8. máme z provozních důvodů zavřeno. Budeme se na vás těšit po zbytek týdne v klasické otevírací době. \n\nPřijďte o prázdninách navštívit vzdělávací centrum VÍCE Ve mlýně Karlovice\, prohlídnout si výstavy o jesenické přírodě a nebo třeba jen tak posedět u dobré kávy. \nMáme otevřeno vždy ÚTERÝ až PÁTEK od 11 do 17 hodin\, v SOBOTU a NEDĚLI od 11 do 18 hodin. \nBudeme se těšit na vaši návštěvu!
URL:https://actaea.cz/akce/mame-otevreno-3-2-2/
LOCATION:VÍCE Ve mlýně\, Karlovice 421\, Karlovice\, 793 23\, Česká republika
CATEGORIES:Tvoření a hry,Výstavy
ATTACH;FMTTYPE=image/jpeg:https://actaea.cz/wp-content/uploads/2024/02/mlyn-2-Karel-Fiala.jpg
END:VEVENT
BEGIN:VEVENT
DTSTART;TZID=Europe/Prague:20240825T110000
DTEND;TZID=Europe/Prague:20240825T180000
DTSTAMP:20260422T004027
CREATED:20240625T082155Z
LAST-MODIFIED:20240802T084816Z
UID:10001011-1724583600-1724608800@actaea.cz
SUMMARY:Máme otevřeno o víkendu!
DESCRIPTION:Přijďte o prázdninách navštívit vzdělávací centrum VÍCE Ve mlýně Karlovice\, prohlídnout si výstavy o jesenické přírodě a nebo třeba jen tak posedět u dobré kávy. \nMáme otevřeno vždy ÚTERÝ až PÁTEK od 11 do 17 hodin\, v SOBOTU a NEDĚLI od 11 do 18 hodin. \nBudeme se těšit na vaši návštěvu!
URL:https://actaea.cz/akce/mame-otevreno-o-vikendu/2024-08-25/
LOCATION:VÍCE Ve mlýně\, Karlovice 421\, Karlovice\, 793 23\, Česká republika
CATEGORIES:Tvoření a hry,Výstavy
ATTACH;FMTTYPE=image/jpeg:https://actaea.cz/wp-content/uploads/2024/02/mlyn-1-Karel-Fiala.jpg
END:VEVENT
BEGIN:VEVENT
DTSTART;TZID=Europe/Prague:20240824T110000
DTEND;TZID=Europe/Prague:20240824T180000
DTSTAMP:20260422T004027
CREATED:20240625T082155Z
LAST-MODIFIED:20240802T084816Z
UID:10001010-1724497200-1724522400@actaea.cz
SUMMARY:Máme otevřeno o víkendu!
DESCRIPTION:Přijďte o prázdninách navštívit vzdělávací centrum VÍCE Ve mlýně Karlovice\, prohlídnout si výstavy o jesenické přírodě a nebo třeba jen tak posedět u dobré kávy. \nMáme otevřeno vždy ÚTERÝ až PÁTEK od 11 do 17 hodin\, v SOBOTU a NEDĚLI od 11 do 18 hodin. \nBudeme se těšit na vaši návštěvu!
URL:https://actaea.cz/akce/mame-otevreno-o-vikendu/2024-08-24/
LOCATION:VÍCE Ve mlýně\, Karlovice 421\, Karlovice\, 793 23\, Česká republika
CATEGORIES:Tvoření a hry,Výstavy
ATTACH;FMTTYPE=image/jpeg:https://actaea.cz/wp-content/uploads/2024/02/mlyn-1-Karel-Fiala.jpg
END:VEVENT
BEGIN:VEVENT
DTSTART;TZID=Europe/Prague:20240823T110000
DTEND;TZID=Europe/Prague:20240823T170000
DTSTAMP:20260422T004027
CREATED:20240719T084516Z
LAST-MODIFIED:20240802T084629Z
UID:10000982-1724410800-1724432400@actaea.cz
SUMMARY:Máme otevřeno!
DESCRIPTION:Přijďte o prázdninách navštívit vzdělávací centrum VÍCE Ve mlýně Karlovice\, prohlídnout si výstavy o jesenické přírodě a nebo třeba jen tak posedět u dobré kávy. \nMáme otevřeno vždy ÚTERÝ až PÁTEK od 11 do 17 hodin\, v SOBOTU a NEDĚLI od 11 do 18 hodin. \nBudeme se těšit na vaši návštěvu!
URL:https://actaea.cz/akce/mame-otevreno-3-2/2024-08-23/
LOCATION:VÍCE Ve mlýně\, Karlovice 421\, Karlovice\, 793 23\, Česká republika
CATEGORIES:Tvoření a hry,Výstavy
ATTACH;FMTTYPE=image/jpeg:https://actaea.cz/wp-content/uploads/2024/02/mlyn-2-Karel-Fiala.jpg
END:VEVENT
BEGIN:VEVENT
DTSTART;TZID=Europe/Prague:20240822T110000
DTEND;TZID=Europe/Prague:20240822T170000
DTSTAMP:20260422T004027
CREATED:20240719T084516Z
LAST-MODIFIED:20240802T084629Z
UID:10000981-1724324400-1724346000@actaea.cz
SUMMARY:Máme otevřeno!
DESCRIPTION:Přijďte o prázdninách navštívit vzdělávací centrum VÍCE Ve mlýně Karlovice\, prohlídnout si výstavy o jesenické přírodě a nebo třeba jen tak posedět u dobré kávy. \nMáme otevřeno vždy ÚTERÝ až PÁTEK od 11 do 17 hodin\, v SOBOTU a NEDĚLI od 11 do 18 hodin. \nBudeme se těšit na vaši návštěvu!
URL:https://actaea.cz/akce/mame-otevreno-3-2/2024-08-22/
LOCATION:VÍCE Ve mlýně\, Karlovice 421\, Karlovice\, 793 23\, Česká republika
CATEGORIES:Tvoření a hry,Výstavy
ATTACH;FMTTYPE=image/jpeg:https://actaea.cz/wp-content/uploads/2024/02/mlyn-2-Karel-Fiala.jpg
END:VEVENT
BEGIN:VEVENT
DTSTART;TZID=Europe/Prague:20240821T110000
DTEND;TZID=Europe/Prague:20240821T170000
DTSTAMP:20260422T004027
CREATED:20240719T084516Z
LAST-MODIFIED:20240802T084629Z
UID:10000980-1724238000-1724259600@actaea.cz
SUMMARY:Máme otevřeno!
DESCRIPTION:Přijďte o prázdninách navštívit vzdělávací centrum VÍCE Ve mlýně Karlovice\, prohlídnout si výstavy o jesenické přírodě a nebo třeba jen tak posedět u dobré kávy. \nMáme otevřeno vždy ÚTERÝ až PÁTEK od 11 do 17 hodin\, v SOBOTU a NEDĚLI od 11 do 18 hodin. \nBudeme se těšit na vaši návštěvu!
URL:https://actaea.cz/akce/mame-otevreno-3-2/2024-08-21/
LOCATION:VÍCE Ve mlýně\, Karlovice 421\, Karlovice\, 793 23\, Česká republika
CATEGORIES:Tvoření a hry,Výstavy
ATTACH;FMTTYPE=image/jpeg:https://actaea.cz/wp-content/uploads/2024/02/mlyn-2-Karel-Fiala.jpg
END:VEVENT
BEGIN:VEVENT
DTSTART;TZID=Europe/Prague:20240820T110000
DTEND;TZID=Europe/Prague:20240820T170000
DTSTAMP:20260422T004027
CREATED:20240719T084516Z
LAST-MODIFIED:20240802T084629Z
UID:10000979-1724151600-1724173200@actaea.cz
SUMMARY:Máme otevřeno!
DESCRIPTION:Přijďte o prázdninách navštívit vzdělávací centrum VÍCE Ve mlýně Karlovice\, prohlídnout si výstavy o jesenické přírodě a nebo třeba jen tak posedět u dobré kávy. \nMáme otevřeno vždy ÚTERÝ až PÁTEK od 11 do 17 hodin\, v SOBOTU a NEDĚLI od 11 do 18 hodin. \nBudeme se těšit na vaši návštěvu!
URL:https://actaea.cz/akce/mame-otevreno-3-2/2024-08-20/
LOCATION:VÍCE Ve mlýně\, Karlovice 421\, Karlovice\, 793 23\, Česká republika
CATEGORIES:Tvoření a hry,Výstavy
ATTACH;FMTTYPE=image/jpeg:https://actaea.cz/wp-content/uploads/2024/02/mlyn-2-Karel-Fiala.jpg
END:VEVENT
BEGIN:VEVENT
DTSTART;TZID=Europe/Prague:20240818T110000
DTEND;TZID=Europe/Prague:20240818T180000
DTSTAMP:20260422T004027
CREATED:20240625T082155Z
LAST-MODIFIED:20240802T084816Z
UID:10001009-1723978800-1724004000@actaea.cz
SUMMARY:Máme otevřeno o víkendu!
DESCRIPTION:Přijďte o prázdninách navštívit vzdělávací centrum VÍCE Ve mlýně Karlovice\, prohlídnout si výstavy o jesenické přírodě a nebo třeba jen tak posedět u dobré kávy. \nMáme otevřeno vždy ÚTERÝ až PÁTEK od 11 do 17 hodin\, v SOBOTU a NEDĚLI od 11 do 18 hodin. \nBudeme se těšit na vaši návštěvu!
URL:https://actaea.cz/akce/mame-otevreno-o-vikendu/2024-08-18/
LOCATION:VÍCE Ve mlýně\, Karlovice 421\, Karlovice\, 793 23\, Česká republika
CATEGORIES:Tvoření a hry,Výstavy
ATTACH;FMTTYPE=image/jpeg:https://actaea.cz/wp-content/uploads/2024/02/mlyn-1-Karel-Fiala.jpg
END:VEVENT
BEGIN:VEVENT
DTSTART;TZID=Europe/Prague:20240817T110000
DTEND;TZID=Europe/Prague:20240817T180000
DTSTAMP:20260422T004027
CREATED:20240625T082155Z
LAST-MODIFIED:20240802T084816Z
UID:10001008-1723892400-1723917600@actaea.cz
SUMMARY:Máme otevřeno o víkendu!
DESCRIPTION:Přijďte o prázdninách navštívit vzdělávací centrum VÍCE Ve mlýně Karlovice\, prohlídnout si výstavy o jesenické přírodě a nebo třeba jen tak posedět u dobré kávy. \nMáme otevřeno vždy ÚTERÝ až PÁTEK od 11 do 17 hodin\, v SOBOTU a NEDĚLI od 11 do 18 hodin. \nBudeme se těšit na vaši návštěvu!
URL:https://actaea.cz/akce/mame-otevreno-o-vikendu/2024-08-17/
LOCATION:VÍCE Ve mlýně\, Karlovice 421\, Karlovice\, 793 23\, Česká republika
CATEGORIES:Tvoření a hry,Výstavy
ATTACH;FMTTYPE=image/jpeg:https://actaea.cz/wp-content/uploads/2024/02/mlyn-1-Karel-Fiala.jpg
END:VEVENT
BEGIN:VEVENT
DTSTART;TZID=Europe/Prague:20240816T110000
DTEND;TZID=Europe/Prague:20240816T170000
DTSTAMP:20260422T004027
CREATED:20240719T084516Z
LAST-MODIFIED:20240802T084629Z
UID:10000978-1723806000-1723827600@actaea.cz
SUMMARY:Máme otevřeno!
DESCRIPTION:Přijďte o prázdninách navštívit vzdělávací centrum VÍCE Ve mlýně Karlovice\, prohlídnout si výstavy o jesenické přírodě a nebo třeba jen tak posedět u dobré kávy. \nMáme otevřeno vždy ÚTERÝ až PÁTEK od 11 do 17 hodin\, v SOBOTU a NEDĚLI od 11 do 18 hodin. \nBudeme se těšit na vaši návštěvu!
URL:https://actaea.cz/akce/mame-otevreno-3-2/2024-08-16/
LOCATION:VÍCE Ve mlýně\, Karlovice 421\, Karlovice\, 793 23\, Česká republika
CATEGORIES:Tvoření a hry,Výstavy
ATTACH;FMTTYPE=image/jpeg:https://actaea.cz/wp-content/uploads/2024/02/mlyn-2-Karel-Fiala.jpg
END:VEVENT
END:VCALENDAR