BEGIN:VCALENDAR
VERSION:2.0
PRODID:-//Actaea - ECPv6.15.20//NONSGML v1.0//EN
CALSCALE:GREGORIAN
METHOD:PUBLISH
X-WR-CALNAME:Actaea
X-ORIGINAL-URL:https://actaea.cz
X-WR-CALDESC:Akce na Actaea
REFRESH-INTERVAL;VALUE=DURATION:PT1H
X-Robots-Tag:noindex
X-PUBLISHED-TTL:PT1H
BEGIN:VTIMEZONE
TZID:Europe/Prague
BEGIN:DAYLIGHT
TZOFFSETFROM:+0100
TZOFFSETTO:+0200
TZNAME:CEST
DTSTART:20230326T010000
END:DAYLIGHT
BEGIN:STANDARD
TZOFFSETFROM:+0200
TZOFFSETTO:+0100
TZNAME:CET
DTSTART:20231029T010000
END:STANDARD
BEGIN:DAYLIGHT
TZOFFSETFROM:+0100
TZOFFSETTO:+0200
TZNAME:CEST
DTSTART:20240331T010000
END:DAYLIGHT
BEGIN:STANDARD
TZOFFSETFROM:+0200
TZOFFSETTO:+0100
TZNAME:CET
DTSTART:20241027T010000
END:STANDARD
BEGIN:DAYLIGHT
TZOFFSETFROM:+0100
TZOFFSETTO:+0200
TZNAME:CEST
DTSTART:20250330T010000
END:DAYLIGHT
BEGIN:STANDARD
TZOFFSETFROM:+0200
TZOFFSETTO:+0100
TZNAME:CET
DTSTART:20251026T010000
END:STANDARD
END:VTIMEZONE
BEGIN:VEVENT
DTSTART;TZID=Europe/Prague:20240821T110000
DTEND;TZID=Europe/Prague:20240821T170000
DTSTAMP:20260422T024301
CREATED:20240719T084516Z
LAST-MODIFIED:20240802T084629Z
UID:10000980-1724238000-1724259600@actaea.cz
SUMMARY:Máme otevřeno!
DESCRIPTION:Přijďte o prázdninách navštívit vzdělávací centrum VÍCE Ve mlýně Karlovice\, prohlídnout si výstavy o jesenické přírodě a nebo třeba jen tak posedět u dobré kávy. \nMáme otevřeno vždy ÚTERÝ až PÁTEK od 11 do 17 hodin\, v SOBOTU a NEDĚLI od 11 do 18 hodin. \nBudeme se těšit na vaši návštěvu!
URL:https://actaea.cz/akce/mame-otevreno-3-2/2024-08-21/
LOCATION:VÍCE Ve mlýně\, Karlovice 421\, Karlovice\, 793 23\, Česká republika
CATEGORIES:Tvoření a hry,Výstavy
ATTACH;FMTTYPE=image/jpeg:https://actaea.cz/wp-content/uploads/2024/02/mlyn-2-Karel-Fiala.jpg
END:VEVENT
BEGIN:VEVENT
DTSTART;TZID=Europe/Prague:20240820T110000
DTEND;TZID=Europe/Prague:20240820T170000
DTSTAMP:20260422T024301
CREATED:20240719T084516Z
LAST-MODIFIED:20240802T084629Z
UID:10000979-1724151600-1724173200@actaea.cz
SUMMARY:Máme otevřeno!
DESCRIPTION:Přijďte o prázdninách navštívit vzdělávací centrum VÍCE Ve mlýně Karlovice\, prohlídnout si výstavy o jesenické přírodě a nebo třeba jen tak posedět u dobré kávy. \nMáme otevřeno vždy ÚTERÝ až PÁTEK od 11 do 17 hodin\, v SOBOTU a NEDĚLI od 11 do 18 hodin. \nBudeme se těšit na vaši návštěvu!
URL:https://actaea.cz/akce/mame-otevreno-3-2/2024-08-20/
LOCATION:VÍCE Ve mlýně\, Karlovice 421\, Karlovice\, 793 23\, Česká republika
CATEGORIES:Tvoření a hry,Výstavy
ATTACH;FMTTYPE=image/jpeg:https://actaea.cz/wp-content/uploads/2024/02/mlyn-2-Karel-Fiala.jpg
END:VEVENT
BEGIN:VEVENT
DTSTART;TZID=Europe/Prague:20240818T110000
DTEND;TZID=Europe/Prague:20240818T180000
DTSTAMP:20260422T024301
CREATED:20240625T082155Z
LAST-MODIFIED:20240802T084816Z
UID:10001009-1723978800-1724004000@actaea.cz
SUMMARY:Máme otevřeno o víkendu!
DESCRIPTION:Přijďte o prázdninách navštívit vzdělávací centrum VÍCE Ve mlýně Karlovice\, prohlídnout si výstavy o jesenické přírodě a nebo třeba jen tak posedět u dobré kávy. \nMáme otevřeno vždy ÚTERÝ až PÁTEK od 11 do 17 hodin\, v SOBOTU a NEDĚLI od 11 do 18 hodin. \nBudeme se těšit na vaši návštěvu!
URL:https://actaea.cz/akce/mame-otevreno-o-vikendu/2024-08-18/
LOCATION:VÍCE Ve mlýně\, Karlovice 421\, Karlovice\, 793 23\, Česká republika
CATEGORIES:Tvoření a hry,Výstavy
ATTACH;FMTTYPE=image/jpeg:https://actaea.cz/wp-content/uploads/2024/02/mlyn-1-Karel-Fiala.jpg
END:VEVENT
BEGIN:VEVENT
DTSTART;TZID=Europe/Prague:20240817T110000
DTEND;TZID=Europe/Prague:20240817T180000
DTSTAMP:20260422T024301
CREATED:20240625T082155Z
LAST-MODIFIED:20240802T084816Z
UID:10001008-1723892400-1723917600@actaea.cz
SUMMARY:Máme otevřeno o víkendu!
DESCRIPTION:Přijďte o prázdninách navštívit vzdělávací centrum VÍCE Ve mlýně Karlovice\, prohlídnout si výstavy o jesenické přírodě a nebo třeba jen tak posedět u dobré kávy. \nMáme otevřeno vždy ÚTERÝ až PÁTEK od 11 do 17 hodin\, v SOBOTU a NEDĚLI od 11 do 18 hodin. \nBudeme se těšit na vaši návštěvu!
URL:https://actaea.cz/akce/mame-otevreno-o-vikendu/2024-08-17/
LOCATION:VÍCE Ve mlýně\, Karlovice 421\, Karlovice\, 793 23\, Česká republika
CATEGORIES:Tvoření a hry,Výstavy
ATTACH;FMTTYPE=image/jpeg:https://actaea.cz/wp-content/uploads/2024/02/mlyn-1-Karel-Fiala.jpg
END:VEVENT
BEGIN:VEVENT
DTSTART;TZID=Europe/Prague:20240816T110000
DTEND;TZID=Europe/Prague:20240816T170000
DTSTAMP:20260422T024301
CREATED:20240719T084516Z
LAST-MODIFIED:20240802T084629Z
UID:10000978-1723806000-1723827600@actaea.cz
SUMMARY:Máme otevřeno!
DESCRIPTION:Přijďte o prázdninách navštívit vzdělávací centrum VÍCE Ve mlýně Karlovice\, prohlídnout si výstavy o jesenické přírodě a nebo třeba jen tak posedět u dobré kávy. \nMáme otevřeno vždy ÚTERÝ až PÁTEK od 11 do 17 hodin\, v SOBOTU a NEDĚLI od 11 do 18 hodin. \nBudeme se těšit na vaši návštěvu!
URL:https://actaea.cz/akce/mame-otevreno-3-2/2024-08-16/
LOCATION:VÍCE Ve mlýně\, Karlovice 421\, Karlovice\, 793 23\, Česká republika
CATEGORIES:Tvoření a hry,Výstavy
ATTACH;FMTTYPE=image/jpeg:https://actaea.cz/wp-content/uploads/2024/02/mlyn-2-Karel-Fiala.jpg
END:VEVENT
BEGIN:VEVENT
DTSTART;TZID=Europe/Prague:20240815T110000
DTEND;TZID=Europe/Prague:20240815T170000
DTSTAMP:20260422T024301
CREATED:20240719T084516Z
LAST-MODIFIED:20240802T084629Z
UID:10000977-1723719600-1723741200@actaea.cz
SUMMARY:Máme otevřeno!
DESCRIPTION:Přijďte o prázdninách navštívit vzdělávací centrum VÍCE Ve mlýně Karlovice\, prohlídnout si výstavy o jesenické přírodě a nebo třeba jen tak posedět u dobré kávy. \nMáme otevřeno vždy ÚTERÝ až PÁTEK od 11 do 17 hodin\, v SOBOTU a NEDĚLI od 11 do 18 hodin. \nBudeme se těšit na vaši návštěvu!
URL:https://actaea.cz/akce/mame-otevreno-3-2/2024-08-15/
LOCATION:VÍCE Ve mlýně\, Karlovice 421\, Karlovice\, 793 23\, Česká republika
CATEGORIES:Tvoření a hry,Výstavy
ATTACH;FMTTYPE=image/jpeg:https://actaea.cz/wp-content/uploads/2024/02/mlyn-2-Karel-Fiala.jpg
END:VEVENT
BEGIN:VEVENT
DTSTART;TZID=Europe/Prague:20240814T110000
DTEND;TZID=Europe/Prague:20240814T170000
DTSTAMP:20260422T024301
CREATED:20240719T084516Z
LAST-MODIFIED:20240802T084629Z
UID:10000976-1723633200-1723654800@actaea.cz
SUMMARY:Máme otevřeno!
DESCRIPTION:Přijďte o prázdninách navštívit vzdělávací centrum VÍCE Ve mlýně Karlovice\, prohlídnout si výstavy o jesenické přírodě a nebo třeba jen tak posedět u dobré kávy. \nMáme otevřeno vždy ÚTERÝ až PÁTEK od 11 do 17 hodin\, v SOBOTU a NEDĚLI od 11 do 18 hodin. \nBudeme se těšit na vaši návštěvu!
URL:https://actaea.cz/akce/mame-otevreno-3-2/2024-08-14/
LOCATION:VÍCE Ve mlýně\, Karlovice 421\, Karlovice\, 793 23\, Česká republika
CATEGORIES:Tvoření a hry,Výstavy
ATTACH;FMTTYPE=image/jpeg:https://actaea.cz/wp-content/uploads/2024/02/mlyn-2-Karel-Fiala.jpg
END:VEVENT
BEGIN:VEVENT
DTSTART;TZID=Europe/Prague:20240813T110000
DTEND;TZID=Europe/Prague:20240813T170000
DTSTAMP:20260422T024301
CREATED:20240719T084516Z
LAST-MODIFIED:20240802T084629Z
UID:10000975-1723546800-1723568400@actaea.cz
SUMMARY:Máme otevřeno!
DESCRIPTION:Přijďte o prázdninách navštívit vzdělávací centrum VÍCE Ve mlýně Karlovice\, prohlídnout si výstavy o jesenické přírodě a nebo třeba jen tak posedět u dobré kávy. \nMáme otevřeno vždy ÚTERÝ až PÁTEK od 11 do 17 hodin\, v SOBOTU a NEDĚLI od 11 do 18 hodin. \nBudeme se těšit na vaši návštěvu!
URL:https://actaea.cz/akce/mame-otevreno-3-2/2024-08-13/
LOCATION:VÍCE Ve mlýně\, Karlovice 421\, Karlovice\, 793 23\, Česká republika
CATEGORIES:Tvoření a hry,Výstavy
ATTACH;FMTTYPE=image/jpeg:https://actaea.cz/wp-content/uploads/2024/02/mlyn-2-Karel-Fiala.jpg
END:VEVENT
BEGIN:VEVENT
DTSTART;TZID=Europe/Prague:20240811T110000
DTEND;TZID=Europe/Prague:20240811T180000
DTSTAMP:20260422T024301
CREATED:20240809T080139Z
LAST-MODIFIED:20240809T165838Z
UID:10001007-1723374000-1723399200@actaea.cz
SUMMARY:Máme otevřeno!
DESCRIPTION:Přijďte o prázdninách navštívit vzdělávací centrum VÍCE Ve mlýně Karlovice\, prohlídnout si výstavy o jesenické přírodě a nebo třeba jen tak posedět u dobré kávy. \nMáme otevřeno vždy ÚTERÝ až PÁTEK od 11 do 17 hodin\, v SOBOTU a NEDĚLI od 11 do 18 hodin. \nBudeme se těšit na vaši návštěvu!
URL:https://actaea.cz/akce/mame-otevreno-o-vikendu-3/
LOCATION:VÍCE Ve mlýně\, Karlovice 421\, Karlovice\, 793 23\, Česká republika
CATEGORIES:Tvoření a hry,Výstavy
ATTACH;FMTTYPE=image/jpeg:https://actaea.cz/wp-content/uploads/2024/02/mlyn-1-Karel-Fiala.jpg
END:VEVENT
BEGIN:VEVENT
DTSTART;TZID=Europe/Prague:20240810T110000
DTEND;TZID=Europe/Prague:20240810T180000
DTSTAMP:20260422T024301
CREATED:20240809T080026Z
LAST-MODIFIED:20240809T170125Z
UID:10001006-1723287600-1723312800@actaea.cz
SUMMARY:Z provozních důvodů zavřeno
DESCRIPTION:Tuto sobotu máme zavřeno z provozních důvodů. Budeme se na vás těšit v neděli a příští týden v klasické otevírací době. \nDěkujeme za pochopení. \nPřijďte o prázdninách navštívit vzdělávací centrum VÍCE Ve mlýně Karlovice\, prohlídnout si výstavy o jesenické přírodě a nebo třeba jen tak posedět u dobré kávy. \nMáme otevřeno vždy ÚTERÝ až PÁTEK od 11 do 17 hodin\, v SOBOTU a NEDĚLI od 11 do 18 hodin. \nBudeme se těšit na vaši návštěvu!
URL:https://actaea.cz/akce/mame-otevreno-o-vikendu-2/
LOCATION:VÍCE Ve mlýně\, Karlovice 421\, Karlovice\, 793 23\, Česká republika
CATEGORIES:Tvoření a hry,Výstavy
ATTACH;FMTTYPE=image/jpeg:https://actaea.cz/wp-content/uploads/2024/02/mlyn-1-Karel-Fiala.jpg
END:VEVENT
BEGIN:VEVENT
DTSTART;TZID=Europe/Prague:20240809T110000
DTEND;TZID=Europe/Prague:20240809T170000
DTSTAMP:20260422T024301
CREATED:20240719T084516Z
LAST-MODIFIED:20240802T084629Z
UID:10000974-1723201200-1723222800@actaea.cz
SUMMARY:Máme otevřeno!
DESCRIPTION:Přijďte o prázdninách navštívit vzdělávací centrum VÍCE Ve mlýně Karlovice\, prohlídnout si výstavy o jesenické přírodě a nebo třeba jen tak posedět u dobré kávy. \nMáme otevřeno vždy ÚTERÝ až PÁTEK od 11 do 17 hodin\, v SOBOTU a NEDĚLI od 11 do 18 hodin. \nBudeme se těšit na vaši návštěvu!
URL:https://actaea.cz/akce/mame-otevreno-3-2/2024-08-09/
LOCATION:VÍCE Ve mlýně\, Karlovice 421\, Karlovice\, 793 23\, Česká republika
CATEGORIES:Tvoření a hry,Výstavy
ATTACH;FMTTYPE=image/jpeg:https://actaea.cz/wp-content/uploads/2024/02/mlyn-2-Karel-Fiala.jpg
END:VEVENT
BEGIN:VEVENT
DTSTART;TZID=Europe/Prague:20240808T110000
DTEND;TZID=Europe/Prague:20240808T170000
DTSTAMP:20260422T024301
CREATED:20240719T084516Z
LAST-MODIFIED:20240802T084629Z
UID:10000973-1723114800-1723136400@actaea.cz
SUMMARY:Máme otevřeno!
DESCRIPTION:Přijďte o prázdninách navštívit vzdělávací centrum VÍCE Ve mlýně Karlovice\, prohlídnout si výstavy o jesenické přírodě a nebo třeba jen tak posedět u dobré kávy. \nMáme otevřeno vždy ÚTERÝ až PÁTEK od 11 do 17 hodin\, v SOBOTU a NEDĚLI od 11 do 18 hodin. \nBudeme se těšit na vaši návštěvu!
URL:https://actaea.cz/akce/mame-otevreno-3-2/2024-08-08/
LOCATION:VÍCE Ve mlýně\, Karlovice 421\, Karlovice\, 793 23\, Česká republika
CATEGORIES:Tvoření a hry,Výstavy
ATTACH;FMTTYPE=image/jpeg:https://actaea.cz/wp-content/uploads/2024/02/mlyn-2-Karel-Fiala.jpg
END:VEVENT
BEGIN:VEVENT
DTSTART;TZID=Europe/Prague:20240807T110000
DTEND;TZID=Europe/Prague:20240807T170000
DTSTAMP:20260422T024301
CREATED:20240719T084516Z
LAST-MODIFIED:20240802T084629Z
UID:10000972-1723028400-1723050000@actaea.cz
SUMMARY:Máme otevřeno!
DESCRIPTION:Přijďte o prázdninách navštívit vzdělávací centrum VÍCE Ve mlýně Karlovice\, prohlídnout si výstavy o jesenické přírodě a nebo třeba jen tak posedět u dobré kávy. \nMáme otevřeno vždy ÚTERÝ až PÁTEK od 11 do 17 hodin\, v SOBOTU a NEDĚLI od 11 do 18 hodin. \nBudeme se těšit na vaši návštěvu!
URL:https://actaea.cz/akce/mame-otevreno-3-2/2024-08-07/
LOCATION:VÍCE Ve mlýně\, Karlovice 421\, Karlovice\, 793 23\, Česká republika
CATEGORIES:Tvoření a hry,Výstavy
ATTACH;FMTTYPE=image/jpeg:https://actaea.cz/wp-content/uploads/2024/02/mlyn-2-Karel-Fiala.jpg
END:VEVENT
BEGIN:VEVENT
DTSTART;TZID=Europe/Prague:20240806T110000
DTEND;TZID=Europe/Prague:20240806T170000
DTSTAMP:20260422T024301
CREATED:20240719T084516Z
LAST-MODIFIED:20240802T084629Z
UID:10000971-1722942000-1722963600@actaea.cz
SUMMARY:Máme otevřeno!
DESCRIPTION:Přijďte o prázdninách navštívit vzdělávací centrum VÍCE Ve mlýně Karlovice\, prohlídnout si výstavy o jesenické přírodě a nebo třeba jen tak posedět u dobré kávy. \nMáme otevřeno vždy ÚTERÝ až PÁTEK od 11 do 17 hodin\, v SOBOTU a NEDĚLI od 11 do 18 hodin. \nBudeme se těšit na vaši návštěvu!
URL:https://actaea.cz/akce/mame-otevreno-3-2/2024-08-06/
LOCATION:VÍCE Ve mlýně\, Karlovice 421\, Karlovice\, 793 23\, Česká republika
CATEGORIES:Tvoření a hry,Výstavy
ATTACH;FMTTYPE=image/jpeg:https://actaea.cz/wp-content/uploads/2024/02/mlyn-2-Karel-Fiala.jpg
END:VEVENT
BEGIN:VEVENT
DTSTART;TZID=Europe/Prague:20240804T110000
DTEND;TZID=Europe/Prague:20240804T180000
DTSTAMP:20260422T024301
CREATED:20240625T082155Z
LAST-MODIFIED:20240802T084816Z
UID:10000958-1722769200-1722794400@actaea.cz
SUMMARY:Máme otevřeno o víkendu!
DESCRIPTION:Přijďte o prázdninách navštívit vzdělávací centrum VÍCE Ve mlýně Karlovice\, prohlídnout si výstavy o jesenické přírodě a nebo třeba jen tak posedět u dobré kávy. \nMáme otevřeno vždy ÚTERÝ až PÁTEK od 11 do 17 hodin\, v SOBOTU a NEDĚLI od 11 do 18 hodin. \nBudeme se těšit na vaši návštěvu!
URL:https://actaea.cz/akce/mame-otevreno-o-vikendu/2024-08-04/
LOCATION:VÍCE Ve mlýně\, Karlovice 421\, Karlovice\, 793 23\, Česká republika
CATEGORIES:Tvoření a hry,Výstavy
ATTACH;FMTTYPE=image/jpeg:https://actaea.cz/wp-content/uploads/2024/02/mlyn-1-Karel-Fiala.jpg
END:VEVENT
BEGIN:VEVENT
DTSTART;TZID=Europe/Prague:20240803T110000
DTEND;TZID=Europe/Prague:20240803T180000
DTSTAMP:20260422T024301
CREATED:20240625T082155Z
LAST-MODIFIED:20240802T084816Z
UID:10000957-1722682800-1722708000@actaea.cz
SUMMARY:Máme otevřeno o víkendu!
DESCRIPTION:Přijďte o prázdninách navštívit vzdělávací centrum VÍCE Ve mlýně Karlovice\, prohlídnout si výstavy o jesenické přírodě a nebo třeba jen tak posedět u dobré kávy. \nMáme otevřeno vždy ÚTERÝ až PÁTEK od 11 do 17 hodin\, v SOBOTU a NEDĚLI od 11 do 18 hodin. \nBudeme se těšit na vaši návštěvu!
URL:https://actaea.cz/akce/mame-otevreno-o-vikendu/2024-08-03/
LOCATION:VÍCE Ve mlýně\, Karlovice 421\, Karlovice\, 793 23\, Česká republika
CATEGORIES:Tvoření a hry,Výstavy
ATTACH;FMTTYPE=image/jpeg:https://actaea.cz/wp-content/uploads/2024/02/mlyn-1-Karel-Fiala.jpg
END:VEVENT
BEGIN:VEVENT
DTSTART;TZID=Europe/Prague:20240802T110000
DTEND;TZID=Europe/Prague:20240802T170000
DTSTAMP:20260422T024301
CREATED:20240719T084516Z
LAST-MODIFIED:20240802T084629Z
UID:10000970-1722596400-1722618000@actaea.cz
SUMMARY:Máme otevřeno!
DESCRIPTION:Přijďte o prázdninách navštívit vzdělávací centrum VÍCE Ve mlýně Karlovice\, prohlídnout si výstavy o jesenické přírodě a nebo třeba jen tak posedět u dobré kávy. \nMáme otevřeno vždy ÚTERÝ až PÁTEK od 11 do 17 hodin\, v SOBOTU a NEDĚLI od 11 do 18 hodin. \nBudeme se těšit na vaši návštěvu!
URL:https://actaea.cz/akce/mame-otevreno-3-2/2024-08-02/
LOCATION:VÍCE Ve mlýně\, Karlovice 421\, Karlovice\, 793 23\, Česká republika
CATEGORIES:Tvoření a hry,Výstavy
ATTACH;FMTTYPE=image/jpeg:https://actaea.cz/wp-content/uploads/2024/02/mlyn-2-Karel-Fiala.jpg
END:VEVENT
BEGIN:VEVENT
DTSTART;TZID=Europe/Prague:20240801T110000
DTEND;TZID=Europe/Prague:20240801T170000
DTSTAMP:20260422T024301
CREATED:20240719T084516Z
LAST-MODIFIED:20240802T084629Z
UID:10000969-1722510000-1722531600@actaea.cz
SUMMARY:Máme otevřeno!
DESCRIPTION:Přijďte o prázdninách navštívit vzdělávací centrum VÍCE Ve mlýně Karlovice\, prohlídnout si výstavy o jesenické přírodě a nebo třeba jen tak posedět u dobré kávy. \nMáme otevřeno vždy ÚTERÝ až PÁTEK od 11 do 17 hodin\, v SOBOTU a NEDĚLI od 11 do 18 hodin. \nBudeme se těšit na vaši návštěvu!
URL:https://actaea.cz/akce/mame-otevreno-3-2/2024-08-01/
LOCATION:VÍCE Ve mlýně\, Karlovice 421\, Karlovice\, 793 23\, Česká republika
CATEGORIES:Tvoření a hry,Výstavy
ATTACH;FMTTYPE=image/jpeg:https://actaea.cz/wp-content/uploads/2024/02/mlyn-2-Karel-Fiala.jpg
END:VEVENT
BEGIN:VEVENT
DTSTART;TZID=Europe/Prague:20240728T110000
DTEND;TZID=Europe/Prague:20240728T180000
DTSTAMP:20260422T024301
CREATED:20240625T082155Z
LAST-MODIFIED:20240802T084816Z
UID:10000956-1722164400-1722189600@actaea.cz
SUMMARY:Máme otevřeno o víkendu!
DESCRIPTION:Přijďte o prázdninách navštívit vzdělávací centrum VÍCE Ve mlýně Karlovice\, prohlídnout si výstavy o jesenické přírodě a nebo třeba jen tak posedět u dobré kávy. \nMáme otevřeno vždy ÚTERÝ až PÁTEK od 11 do 17 hodin\, v SOBOTU a NEDĚLI od 11 do 18 hodin. \nBudeme se těšit na vaši návštěvu!
URL:https://actaea.cz/akce/mame-otevreno-o-vikendu/2024-07-28/
LOCATION:VÍCE Ve mlýně\, Karlovice 421\, Karlovice\, 793 23\, Česká republika
CATEGORIES:Tvoření a hry,Výstavy
ATTACH;FMTTYPE=image/jpeg:https://actaea.cz/wp-content/uploads/2024/02/mlyn-1-Karel-Fiala.jpg
END:VEVENT
BEGIN:VEVENT
DTSTART;TZID=Europe/Prague:20240727T190000
DTEND;TZID=Europe/Prague:20240727T220000
DTSTAMP:20260422T024301
CREATED:20240625T090644Z
LAST-MODIFIED:20240625T090742Z
UID:10000960-1722106800-1722117600@actaea.cz
SUMMARY:Meditace Ve mlýně
DESCRIPTION:Přijďte si v sobotu 27. 7. odpočinout a zrelaxovat tělo i duši do mlýna. \nMeditace bude probíhat od 19 hodin a povede ji Michal Air. \nMůžete si u nás dát drobné občerstvení\, víno\, nebo kávu. \nBudeme se na vás těšit!
URL:https://actaea.cz/akce/meditace-ve-mlyne/
LOCATION:VÍCE Ve mlýně\, Karlovice 421\, Karlovice\, 793 23\, Česká republika
CATEGORIES:Tvoření a hry,Výstavy
ATTACH;FMTTYPE=image/jpeg:https://actaea.cz/wp-content/uploads/2024/06/meditace-scaled.jpg
END:VEVENT
BEGIN:VEVENT
DTSTART;TZID=Europe/Prague:20240727T160000
DTEND;TZID=Europe/Prague:20240727T233000
DTSTAMP:20260422T024301
CREATED:20240625T085853Z
LAST-MODIFIED:20240625T085936Z
UID:10000959-1722096000-1722123000@actaea.cz
SUMMARY:PROBOUZENÍ RYCHTY
DESCRIPTION:Přijďte si užít hudební odpoledne na Rychtu v Karlovicích. \nProgram začíná od 16 hodin a vystoupí například Jindra Holubec\, Nerost\, Lucie Redlová\, nebo harmonikář Jiří. \nVe mlýně bude od 19 hodin meditace pro duši i tělo\, kterou povede Michal Air. \nBudeme se těšit na vaši návštěvu. \nAkci pořádají HNUTÍ DUHA JESENÍKY a ACTAEA – Více Ve mlýně Karlovice.
URL:https://actaea.cz/akce/probouzeni-rychty/
LOCATION:VÍCE Ve mlýně\, Karlovice 421\, Karlovice\, 793 23\, Česká republika
CATEGORIES:Tvoření a hry,Výstavy
ATTACH;FMTTYPE=image/jpeg:https://actaea.cz/wp-content/uploads/2024/06/PROBOUZENI-RYCHTY_page-0001.jpg
END:VEVENT
BEGIN:VEVENT
DTSTART;TZID=Europe/Prague:20240727T110000
DTEND;TZID=Europe/Prague:20240727T180000
DTSTAMP:20260422T024301
CREATED:20240625T082155Z
LAST-MODIFIED:20240802T084816Z
UID:10000955-1722078000-1722103200@actaea.cz
SUMMARY:Máme otevřeno o víkendu!
DESCRIPTION:Přijďte o prázdninách navštívit vzdělávací centrum VÍCE Ve mlýně Karlovice\, prohlídnout si výstavy o jesenické přírodě a nebo třeba jen tak posedět u dobré kávy. \nMáme otevřeno vždy ÚTERÝ až PÁTEK od 11 do 17 hodin\, v SOBOTU a NEDĚLI od 11 do 18 hodin. \nBudeme se těšit na vaši návštěvu!
URL:https://actaea.cz/akce/mame-otevreno-o-vikendu/2024-07-27/
LOCATION:VÍCE Ve mlýně\, Karlovice 421\, Karlovice\, 793 23\, Česká republika
CATEGORIES:Tvoření a hry,Výstavy
ATTACH;FMTTYPE=image/jpeg:https://actaea.cz/wp-content/uploads/2024/02/mlyn-1-Karel-Fiala.jpg
END:VEVENT
BEGIN:VEVENT
DTSTART;TZID=Europe/Prague:20240723T080000
DTEND;TZID=Europe/Prague:20240723T170000
DTSTAMP:20260422T024301
CREATED:20240719T085725Z
LAST-MODIFIED:20240719T085725Z
UID:10001005-1721721600-1721754000@actaea.cz
SUMMARY:Dnes výjimečně zavřeno
DESCRIPTION:V úterý 23.7.2024 máme výjimečně zavřeno z důvodů konání semináře.
URL:https://actaea.cz/akce/dnes-vyjimecne-zavreno/
LOCATION:VÍCE Ve mlýně\, Karlovice 421\, Karlovice\, 793 23\, Česká republika
END:VEVENT
BEGIN:VEVENT
DTSTART;TZID=Europe/Prague:20240721T110000
DTEND;TZID=Europe/Prague:20240721T180000
DTSTAMP:20260422T024301
CREATED:20240625T082155Z
LAST-MODIFIED:20240802T084816Z
UID:10000954-1721559600-1721584800@actaea.cz
SUMMARY:Máme otevřeno o víkendu!
DESCRIPTION:Přijďte o prázdninách navštívit vzdělávací centrum VÍCE Ve mlýně Karlovice\, prohlídnout si výstavy o jesenické přírodě a nebo třeba jen tak posedět u dobré kávy. \nMáme otevřeno vždy ÚTERÝ až PÁTEK od 11 do 17 hodin\, v SOBOTU a NEDĚLI od 11 do 18 hodin. \nBudeme se těšit na vaši návštěvu!
URL:https://actaea.cz/akce/mame-otevreno-o-vikendu/2024-07-21/
LOCATION:VÍCE Ve mlýně\, Karlovice 421\, Karlovice\, 793 23\, Česká republika
CATEGORIES:Tvoření a hry,Výstavy
ATTACH;FMTTYPE=image/jpeg:https://actaea.cz/wp-content/uploads/2024/02/mlyn-1-Karel-Fiala.jpg
END:VEVENT
BEGIN:VEVENT
DTSTART;TZID=Europe/Prague:20240720T110000
DTEND;TZID=Europe/Prague:20240720T180000
DTSTAMP:20260422T024301
CREATED:20240625T082155Z
LAST-MODIFIED:20240802T084816Z
UID:10000953-1721473200-1721498400@actaea.cz
SUMMARY:Máme otevřeno o víkendu!
DESCRIPTION:Přijďte o prázdninách navštívit vzdělávací centrum VÍCE Ve mlýně Karlovice\, prohlídnout si výstavy o jesenické přírodě a nebo třeba jen tak posedět u dobré kávy. \nMáme otevřeno vždy ÚTERÝ až PÁTEK od 11 do 17 hodin\, v SOBOTU a NEDĚLI od 11 do 18 hodin. \nBudeme se těšit na vaši návštěvu!
URL:https://actaea.cz/akce/mame-otevreno-o-vikendu/2024-07-20/
LOCATION:VÍCE Ve mlýně\, Karlovice 421\, Karlovice\, 793 23\, Česká republika
CATEGORIES:Tvoření a hry,Výstavy
ATTACH;FMTTYPE=image/jpeg:https://actaea.cz/wp-content/uploads/2024/02/mlyn-1-Karel-Fiala.jpg
END:VEVENT
BEGIN:VEVENT
DTSTART;TZID=Europe/Prague:20240714T110000
DTEND;TZID=Europe/Prague:20240714T180000
DTSTAMP:20260422T024301
CREATED:20240625T082155Z
LAST-MODIFIED:20240802T084816Z
UID:10000952-1720954800-1720980000@actaea.cz
SUMMARY:Máme otevřeno o víkendu!
DESCRIPTION:Přijďte o prázdninách navštívit vzdělávací centrum VÍCE Ve mlýně Karlovice\, prohlídnout si výstavy o jesenické přírodě a nebo třeba jen tak posedět u dobré kávy. \nMáme otevřeno vždy ÚTERÝ až PÁTEK od 11 do 17 hodin\, v SOBOTU a NEDĚLI od 11 do 18 hodin. \nBudeme se těšit na vaši návštěvu!
URL:https://actaea.cz/akce/mame-otevreno-o-vikendu/2024-07-14/
LOCATION:VÍCE Ve mlýně\, Karlovice 421\, Karlovice\, 793 23\, Česká republika
CATEGORIES:Tvoření a hry,Výstavy
ATTACH;FMTTYPE=image/jpeg:https://actaea.cz/wp-content/uploads/2024/02/mlyn-1-Karel-Fiala.jpg
END:VEVENT
BEGIN:VEVENT
DTSTART;TZID=Europe/Prague:20240713T110000
DTEND;TZID=Europe/Prague:20240713T180000
DTSTAMP:20260422T024301
CREATED:20240625T082155Z
LAST-MODIFIED:20240802T084816Z
UID:10000951-1720868400-1720893600@actaea.cz
SUMMARY:Máme otevřeno o víkendu!
DESCRIPTION:Přijďte o prázdninách navštívit vzdělávací centrum VÍCE Ve mlýně Karlovice\, prohlídnout si výstavy o jesenické přírodě a nebo třeba jen tak posedět u dobré kávy. \nMáme otevřeno vždy ÚTERÝ až PÁTEK od 11 do 17 hodin\, v SOBOTU a NEDĚLI od 11 do 18 hodin. \nBudeme se těšit na vaši návštěvu!
URL:https://actaea.cz/akce/mame-otevreno-o-vikendu/2024-07-13/
LOCATION:VÍCE Ve mlýně\, Karlovice 421\, Karlovice\, 793 23\, Česká republika
CATEGORIES:Tvoření a hry,Výstavy
ATTACH;FMTTYPE=image/jpeg:https://actaea.cz/wp-content/uploads/2024/02/mlyn-1-Karel-Fiala.jpg
END:VEVENT
BEGIN:VEVENT
DTSTART;TZID=Europe/Prague:20240707T110000
DTEND;TZID=Europe/Prague:20240707T180000
DTSTAMP:20260422T024301
CREATED:20240625T082155Z
LAST-MODIFIED:20240802T084816Z
UID:10000950-1720350000-1720375200@actaea.cz
SUMMARY:Máme otevřeno o víkendu!
DESCRIPTION:Přijďte o prázdninách navštívit vzdělávací centrum VÍCE Ve mlýně Karlovice\, prohlídnout si výstavy o jesenické přírodě a nebo třeba jen tak posedět u dobré kávy. \nMáme otevřeno vždy ÚTERÝ až PÁTEK od 11 do 17 hodin\, v SOBOTU a NEDĚLI od 11 do 18 hodin. \nBudeme se těšit na vaši návštěvu!
URL:https://actaea.cz/akce/mame-otevreno-o-vikendu/2024-07-07/
LOCATION:VÍCE Ve mlýně\, Karlovice 421\, Karlovice\, 793 23\, Česká republika
CATEGORIES:Tvoření a hry,Výstavy
ATTACH;FMTTYPE=image/jpeg:https://actaea.cz/wp-content/uploads/2024/02/mlyn-1-Karel-Fiala.jpg
END:VEVENT
BEGIN:VEVENT
DTSTART;TZID=Europe/Prague:20240706T110000
DTEND;TZID=Europe/Prague:20240706T180000
DTSTAMP:20260422T024301
CREATED:20240625T082155Z
LAST-MODIFIED:20240802T084816Z
UID:10000949-1720263600-1720288800@actaea.cz
SUMMARY:Máme otevřeno o víkendu!
DESCRIPTION:Přijďte o prázdninách navštívit vzdělávací centrum VÍCE Ve mlýně Karlovice\, prohlídnout si výstavy o jesenické přírodě a nebo třeba jen tak posedět u dobré kávy. \nMáme otevřeno vždy ÚTERÝ až PÁTEK od 11 do 17 hodin\, v SOBOTU a NEDĚLI od 11 do 18 hodin. \nBudeme se těšit na vaši návštěvu!
URL:https://actaea.cz/akce/mame-otevreno-o-vikendu/2024-07-06/
LOCATION:VÍCE Ve mlýně\, Karlovice 421\, Karlovice\, 793 23\, Česká republika
CATEGORIES:Tvoření a hry,Výstavy
ATTACH;FMTTYPE=image/jpeg:https://actaea.cz/wp-content/uploads/2024/02/mlyn-1-Karel-Fiala.jpg
END:VEVENT
BEGIN:VEVENT
DTSTART;TZID=Europe/Prague:20240702T150000
DTEND;TZID=Europe/Prague:20240702T170000
DTSTAMP:20260422T024301
CREATED:20240401T193849Z
LAST-MODIFIED:20240625T083314Z
UID:10000648-1719932400-1719939600@actaea.cz
SUMMARY:Úterní tvoření Ve mlýně
DESCRIPTION:Tvoření pro děti i dospělé Ve mlýně! \nMůžete si u nás dát drobné občerstvení\, nebo si něco hezkého koupit
URL:https://actaea.cz/akce/uterni-tvoreni-ve-mlyne-2/2024-07-02/
LOCATION:VÍCE Ve mlýně\, Karlovice 421\, Karlovice\, 793 23\, Česká republika
ATTACH;FMTTYPE=image/jpeg:https://actaea.cz/wp-content/uploads/2024/02/tvoreni-1.jpg
END:VEVENT
END:VCALENDAR