BEGIN:VCALENDAR
VERSION:2.0
PRODID:-//Actaea - ECPv6.15.20//NONSGML v1.0//EN
CALSCALE:GREGORIAN
METHOD:PUBLISH
X-WR-CALNAME:Actaea
X-ORIGINAL-URL:https://actaea.cz
X-WR-CALDESC:Akce na Actaea
REFRESH-INTERVAL;VALUE=DURATION:PT1H
X-Robots-Tag:noindex
X-PUBLISHED-TTL:PT1H
BEGIN:VTIMEZONE
TZID:Europe/Prague
BEGIN:DAYLIGHT
TZOFFSETFROM:+0100
TZOFFSETTO:+0200
TZNAME:CEST
DTSTART:20230326T010000
END:DAYLIGHT
BEGIN:STANDARD
TZOFFSETFROM:+0200
TZOFFSETTO:+0100
TZNAME:CET
DTSTART:20231029T010000
END:STANDARD
BEGIN:DAYLIGHT
TZOFFSETFROM:+0100
TZOFFSETTO:+0200
TZNAME:CEST
DTSTART:20240331T010000
END:DAYLIGHT
BEGIN:STANDARD
TZOFFSETFROM:+0200
TZOFFSETTO:+0100
TZNAME:CET
DTSTART:20241027T010000
END:STANDARD
BEGIN:DAYLIGHT
TZOFFSETFROM:+0100
TZOFFSETTO:+0200
TZNAME:CEST
DTSTART:20250330T010000
END:DAYLIGHT
BEGIN:STANDARD
TZOFFSETFROM:+0200
TZOFFSETTO:+0100
TZNAME:CET
DTSTART:20251026T010000
END:STANDARD
END:VTIMEZONE
BEGIN:VEVENT
DTSTART;TZID=Europe/Prague:20240320T140000
DTEND;TZID=Europe/Prague:20240320T180000
DTSTAMP:20260423T005101
CREATED:20240207T162540Z
LAST-MODIFIED:20240207T162540Z
UID:10000098-1710943200-1710957600@actaea.cz
SUMMARY:VELIKONOČNÍ TVOŘENÍ
DESCRIPTION:Květná neděle\, Modré pondělí\, Žluté úterý – kartičky s jednotlivými dny\, význam\, zvyklosti. Větvičky vrby a tisu.\nTvoření – vázy ze zavařovaček s živými větvičkami\, velikonoční ozdoby na zavěšení\, věnce\nz větviček\, papírové králičí masky.
URL:https://actaea.cz/akce/velikonocni-tvoreni/
LOCATION:VÍCE Ve mlýně\, Karlovice 421\, Karlovice\, 793 23\, Česká republika
CATEGORIES:Tvoření a hry
ATTACH;FMTTYPE=image/jpeg:https://actaea.cz/wp-content/uploads/2024/02/VELIKONOCE-scaled.jpeg
END:VEVENT
BEGIN:VEVENT
DTSTART;TZID=Europe/Prague:20240322T080000
DTEND;TZID=Europe/Prague:20240322T170000
DTSTAMP:20260423T005101
CREATED:20240112T104659Z
LAST-MODIFIED:20240112T104659Z
UID:10000010-1711094400-1711126800@actaea.cz
SUMMARY:Vodní hrátky\, hrátky se zvířátky
DESCRIPTION:Světový den vody.
URL:https://actaea.cz/akce/vodni-hratky-hratky-se-zviratky/
CATEGORIES:Tvoření a hry
END:VEVENT
BEGIN:VEVENT
DTSTART;TZID=Europe/Prague:20240322T150000
DTEND;TZID=Europe/Prague:20240322T170000
DTSTAMP:20260423T005101
CREATED:20240215T085021Z
LAST-MODIFIED:20240625T083118Z
UID:10000110-1711119600-1711126800@actaea.cz
SUMMARY:Máme otevřeno!
DESCRIPTION:Přijďte se v PÁTEK do mlýna podívat na výstavu Jeseníky všemi smysly\, nebo jen tak posedět a dát si u nás dobrou kávu a drobné občerstvení! \nMáme otevřeno vždy v: \n\nÚTERÝ\, STŘEDA\, PÁTEK: 15:00 – 17:00\nSOBOTU: 14:00 – 18:00
URL:https://actaea.cz/akce/mame-otevreno/2024-03-22/
LOCATION:VÍCE Ve mlýně\, Karlovice 421\, Karlovice\, 793 23\, Česká republika
CATEGORIES:Tvoření a hry,Výstavy
ATTACH;FMTTYPE=image/jpeg:https://actaea.cz/wp-content/uploads/2024/02/mlyn-1-Karel-Fiala.jpg
END:VEVENT
BEGIN:VEVENT
DTSTART;TZID=Europe/Prague:20240323T140000
DTEND;TZID=Europe/Prague:20240323T180000
DTSTAMP:20260423T005101
CREATED:20240215T085451Z
LAST-MODIFIED:20240625T082701Z
UID:10000372-1711202400-1711216800@actaea.cz
SUMMARY:Máme otevřeno!
DESCRIPTION:Přijďte se v SOBOTU do mlýna podívat na výstavu Jeseníky všemi smysly\, nebo jen tak posedět a dát si u nás dobrou kávu a drobné občerstvení! \nMáme otevřeno vždy v: \n\nPÁTEK: 15:00 – 17:00\nSOBOTU: 14:00 – 18:00
URL:https://actaea.cz/akce/mame-otevreno-2/2024-03-23/
LOCATION:VÍCE Ve mlýně\, Karlovice 421\, Karlovice\, 793 23\, Česká republika
CATEGORIES:Tvoření a hry,Výstavy
ATTACH;FMTTYPE=image/jpeg:https://actaea.cz/wp-content/uploads/2024/02/mlyn-2-Karel-Fiala.jpg
END:VEVENT
BEGIN:VEVENT
DTSTART;TZID=Europe/Prague:20240326T150000
DTEND;TZID=Europe/Prague:20240326T170000
DTSTAMP:20260423T005101
CREATED:20240215T090223Z
LAST-MODIFIED:20240301T122840Z
UID:10000634-1711465200-1711472400@actaea.cz
SUMMARY:Úterní tvoření Ve mlýně
DESCRIPTION:Tvoření pro děti i dospělé Ve mlýně! \nMůžete si u nás dát drobné občerstvení\, nebo si něco hezkého koupit
URL:https://actaea.cz/akce/uterni-tvoreni-ve-mlyne/2024-03-26/
LOCATION:VÍCE Ve mlýně\, Karlovice 421\, Karlovice\, 793 23\, Česká republika
ATTACH;FMTTYPE=image/jpeg:https://actaea.cz/wp-content/uploads/2024/02/tvoreni-1.jpg
END:VEVENT
BEGIN:VEVENT
DTSTART;TZID=Europe/Prague:20240327T080000
DTEND;TZID=Europe/Prague:20240327T170000
DTSTAMP:20260423T005101
CREATED:20240207T162753Z
LAST-MODIFIED:20240207T162842Z
UID:10000099-1711526400-1711558800@actaea.cz
SUMMARY:VELIKONOČNÍ TVOŘENÍ 2
DESCRIPTION:Škaredé středa\, Zelený čtvrtek\, Velký pátek… – kartičky se zbytkem dnů velikonočního týdne.\nTvoření – velikonoční vajíčka z krepového papíru\, velikonoční zápichy\, velikonoční kuřátka\na vajíčka z dřevěných koleček\, skládaná vajíčka a králíčci.
URL:https://actaea.cz/akce/velikonocni-tvoreni-2/
LOCATION:VÍCE Ve mlýně\, Karlovice 421\, Karlovice\, 793 23\, Česká republika
CATEGORIES:Tvoření a hry
ATTACH;FMTTYPE=image/jpeg:https://actaea.cz/wp-content/uploads/2024/02/VELIKONOCE-scaled.jpeg
END:VEVENT
BEGIN:VEVENT
DTSTART;TZID=Europe/Prague:20240328T090000
DTEND;TZID=Europe/Prague:20240328T170000
DTSTAMP:20260423T005101
CREATED:20240112T105635Z
LAST-MODIFIED:20240112T105707Z
UID:10000011-1711616400-1711645200@actaea.cz
SUMMARY:Celodenní program Ve mlýně
DESCRIPTION:Dopoledne plné her – tvoření\, stolní hry. \nOdpolední posezení a hry nejen pro rodiče s dětmi.
URL:https://actaea.cz/akce/celodenni-program-ve-mlyne-2/
LOCATION:VÍCE Ve mlýně\, Karlovice 421\, Karlovice\, 793 23\, Česká republika
CATEGORIES:Tvoření a hry
ATTACH;FMTTYPE=image/jpeg:https://actaea.cz/wp-content/uploads/2022/04/Velikonocni-tvoreni-14.-4.-2022.jpg
END:VEVENT
BEGIN:VEVENT
DTSTART;TZID=Europe/Prague:20240329T150000
DTEND;TZID=Europe/Prague:20240329T170000
DTSTAMP:20260423T005101
CREATED:20240215T085021Z
LAST-MODIFIED:20240625T083118Z
UID:10000111-1711724400-1711731600@actaea.cz
SUMMARY:Máme otevřeno!
DESCRIPTION:Přijďte se v PÁTEK do mlýna podívat na výstavu Jeseníky všemi smysly\, nebo jen tak posedět a dát si u nás dobrou kávu a drobné občerstvení! \nMáme otevřeno vždy v: \n\nÚTERÝ\, STŘEDA\, PÁTEK: 15:00 – 17:00\nSOBOTU: 14:00 – 18:00
URL:https://actaea.cz/akce/mame-otevreno/2024-03-29/
LOCATION:VÍCE Ve mlýně\, Karlovice 421\, Karlovice\, 793 23\, Česká republika
CATEGORIES:Tvoření a hry,Výstavy
ATTACH;FMTTYPE=image/jpeg:https://actaea.cz/wp-content/uploads/2024/02/mlyn-1-Karel-Fiala.jpg
END:VEVENT
BEGIN:VEVENT
DTSTART;TZID=Europe/Prague:20240330T140000
DTEND;TZID=Europe/Prague:20240330T180000
DTSTAMP:20260423T005101
CREATED:20240215T085451Z
LAST-MODIFIED:20240625T082701Z
UID:10000373-1711807200-1711821600@actaea.cz
SUMMARY:Máme otevřeno!
DESCRIPTION:Přijďte se v SOBOTU do mlýna podívat na výstavu Jeseníky všemi smysly\, nebo jen tak posedět a dát si u nás dobrou kávu a drobné občerstvení! \nMáme otevřeno vždy v: \n\nPÁTEK: 15:00 – 17:00\nSOBOTU: 14:00 – 18:00
URL:https://actaea.cz/akce/mame-otevreno-2/2024-03-30/
LOCATION:VÍCE Ve mlýně\, Karlovice 421\, Karlovice\, 793 23\, Česká republika
CATEGORIES:Tvoření a hry,Výstavy
ATTACH;FMTTYPE=image/jpeg:https://actaea.cz/wp-content/uploads/2024/02/mlyn-2-Karel-Fiala.jpg
END:VEVENT
BEGIN:VEVENT
DTSTART;TZID=Europe/Prague:20240402T150000
DTEND;TZID=Europe/Prague:20240402T170000
DTSTAMP:20260423T005101
CREATED:20240320T141916Z
LAST-MODIFIED:20240320T141916Z
UID:10000894-1712070000-1712077200@actaea.cz
SUMMARY:Tvoření Ve mlýně - Jarní dekorativní věnce
DESCRIPTION:Přijďte si v úterý 2.4. do mlýna vytvořit svůj jarní věneček! \nBudeme začínat v 15 hodin a končit v 17 hodin!  \nMůžete si u nás dát dobrou kávu\, nebo drobné občerstvení.💕 \n 
URL:https://actaea.cz/akce/tvoreni-ve-mlyne-jarni-dekorativni-vence/
LOCATION:VÍCE Ve mlýně\, Karlovice 421\, Karlovice\, 793 23\, Česká republika
CATEGORIES:Tvoření a hry
ATTACH;FMTTYPE=image/jpeg:https://actaea.cz/wp-content/uploads/2024/02/tvoreni-3.jpg
END:VEVENT
BEGIN:VEVENT
DTSTART;TZID=Europe/Prague:20240403T150000
DTEND;TZID=Europe/Prague:20240403T170000
DTSTAMP:20260423T005101
CREATED:20240320T142445Z
LAST-MODIFIED:20240320T142445Z
UID:10000895-1712156400-1712163600@actaea.cz
SUMMARY:Aprílové tvoření
DESCRIPTION:Přijďte si do mlýna užít aprílové tvoření. Budeme vyrábět papírové deštníky\, sluníčka a spoustu dalších ozdob! \nZačínáme v 15 hodin a končíme v 17 hodin! \nMůžete si u nás dát dobrou kávu\, nebo drobné občerstvení!❤️
URL:https://actaea.cz/akce/aprilove-tvoreni/
LOCATION:VÍCE Ve mlýně\, Karlovice 421\, Karlovice\, 793 23\, Česká republika
CATEGORIES:Tvoření a hry
ATTACH;FMTTYPE=image/jpeg:https://actaea.cz/wp-content/uploads/2024/03/Hello_April_2422052001-scaled.jpg
END:VEVENT
BEGIN:VEVENT
DTSTART;TZID=Europe/Prague:20240405T150000
DTEND;TZID=Europe/Prague:20240405T170000
DTSTAMP:20260423T005101
CREATED:20240215T085021Z
LAST-MODIFIED:20240625T083118Z
UID:10000112-1712329200-1712336400@actaea.cz
SUMMARY:Máme otevřeno!
DESCRIPTION:Přijďte se v PÁTEK do mlýna podívat na výstavu Jeseníky všemi smysly\, nebo jen tak posedět a dát si u nás dobrou kávu a drobné občerstvení! \nMáme otevřeno vždy v: \n\nÚTERÝ\, STŘEDA\, PÁTEK: 15:00 – 17:00\nSOBOTU: 14:00 – 18:00
URL:https://actaea.cz/akce/mame-otevreno/2024-04-05/
LOCATION:VÍCE Ve mlýně\, Karlovice 421\, Karlovice\, 793 23\, Česká republika
CATEGORIES:Tvoření a hry,Výstavy
ATTACH;FMTTYPE=image/jpeg:https://actaea.cz/wp-content/uploads/2024/02/mlyn-1-Karel-Fiala.jpg
END:VEVENT
BEGIN:VEVENT
DTSTART;TZID=Europe/Prague:20240406T090000
DTEND;TZID=Europe/Prague:20240406T180000
DTSTAMP:20260423T005102
CREATED:20240320T143751Z
LAST-MODIFIED:20240402T152226Z
UID:10000896-1712394000-1712426400@actaea.cz
SUMMARY:Den zdraví Ve mlýně!
DESCRIPTION:Světový den zdraví je globálním dnem povědomí o zdraví\, který se každoročně slaví 7. dubna pod záštitou Světové zdravotnické organizace a dalších spřízněných organizací. \nPřijďte k nám 6.4. s předstihem oslavit den zdraví do mlýna. \nMáme pro vás připravený zajímavý program\, v rámci kterého si můžete něco hezkého vytvořit! \nMáme otevřeno od 9 do 13 hodin a odpoledne od 14 do 18 hodin. \nDopoledne je připraveno tvoření pro děti. \nMůžete si u nás dát dobrou kávu\, nebo drobné občerstvení.
URL:https://actaea.cz/akce/den-zdravi-ve-mlyne/
LOCATION:VÍCE Ve mlýně\, Karlovice 421\, Karlovice\, 793 23\, Česká republika
CATEGORIES:Tvoření a hry
ATTACH;FMTTYPE=image/jpeg:https://actaea.cz/wp-content/uploads/2024/03/den-zdravi-scaled.jpg
END:VEVENT
BEGIN:VEVENT
DTSTART;TZID=Europe/Prague:20240406T140000
DTEND;TZID=Europe/Prague:20240406T180000
DTSTAMP:20260423T005102
CREATED:20240215T085451Z
LAST-MODIFIED:20240625T082701Z
UID:10000374-1712412000-1712426400@actaea.cz
SUMMARY:Máme otevřeno!
DESCRIPTION:Přijďte se v SOBOTU do mlýna podívat na výstavu Jeseníky všemi smysly\, nebo jen tak posedět a dát si u nás dobrou kávu a drobné občerstvení! \nMáme otevřeno vždy v: \n\nPÁTEK: 15:00 – 17:00\nSOBOTU: 14:00 – 18:00
URL:https://actaea.cz/akce/mame-otevreno-2/2024-04-06/
LOCATION:VÍCE Ve mlýně\, Karlovice 421\, Karlovice\, 793 23\, Česká republika
CATEGORIES:Tvoření a hry,Výstavy
ATTACH;FMTTYPE=image/jpeg:https://actaea.cz/wp-content/uploads/2024/02/mlyn-2-Karel-Fiala.jpg
END:VEVENT
BEGIN:VEVENT
DTSTART;TZID=Europe/Prague:20240409T150000
DTEND;TZID=Europe/Prague:20240409T170000
DTSTAMP:20260423T005102
CREATED:20240320T143941Z
LAST-MODIFIED:20240320T144001Z
UID:10000897-1712674800-1712682000@actaea.cz
SUMMARY:Tvoření Ve mlýně – Jarní dekorativní věnce
DESCRIPTION:Přijďte si v úterý 9.4. do mlýna vytvořit svůj jarní věneček! \nBudeme začínat v 15 hodin a končit v 17 hodin! \nMůžete si u nás dát dobrou kávu\, nebo drobné občerstvení.💕
URL:https://actaea.cz/akce/tvoreni-ve-mlyne-jarni-dekorativni-vence-2/
LOCATION:VÍCE Ve mlýně\, Karlovice 421\, Karlovice\, 793 23\, Česká republika
CATEGORIES:Tvoření a hry
ATTACH;FMTTYPE=image/jpeg:https://actaea.cz/wp-content/uploads/2024/02/kytka-5-scaled.jpg
END:VEVENT
BEGIN:VEVENT
DTSTART;TZID=Europe/Prague:20240410T150000
DTEND;TZID=Europe/Prague:20240410T170000
DTSTAMP:20260423T005102
CREATED:20240320T144653Z
LAST-MODIFIED:20240320T144653Z
UID:10000898-1712761200-1712768400@actaea.cz
SUMMARY:Ptačí tvoření Ve mlýně
DESCRIPTION:Přijďte k nám ve středu na PTAČÍ TVOŘENÍ.  \nBudeme vyrábět ptačí budky a hnízda\, houpací ptáčky\, závěs s ptáčky a spoustu dalších ozdob!🦅 \nZačínáme v 15 hodin a končíme v 17 hodin! \nMůžete si u nás dát dobrou kávu\, nebo drobné občerstvení!💕
URL:https://actaea.cz/akce/ptaci-tvoreni-ve-mlyne/
LOCATION:VÍCE Ve mlýně\, Karlovice 421\, Karlovice\, 793 23\, Česká republika
CATEGORIES:Tvoření a hry
ATTACH;FMTTYPE=image/jpeg:https://actaea.cz/wp-content/uploads/2024/03/ptaci.jpg
END:VEVENT
BEGIN:VEVENT
DTSTART;TZID=Europe/Prague:20240412T100000
DTEND;TZID=Europe/Prague:20240412T170000
DTSTAMP:20260423T005102
CREATED:20240410T131721Z
LAST-MODIFIED:20240410T132448Z
UID:10000910-1712916000-1712941200@actaea.cz
SUMMARY:Jarní focení Ve mlýně
DESCRIPTION:Přijďte se vyfotit k nám do krásných prostor vzdělávacího centra VÍCE Ve mlýně Karlovice. \nFocení proběhne 12.4. a 13.4.\, vyfotí Vás Michaela Balážová. A protože je jaro jako dekorace budou živé květiny! \nVyfotit se můžete s celou Vaši rodinou\, nebo sami. \nDélka focení je 30 minut a po vyfocení dostanete 4 profesionálně upravené fotografie\, zároveň je možnost zapůjčit si na focení šaty. \nCena: 1500 Kč \nRezervace je nutná předem: \nNa telefonním čísle: 605738106 \nNebo po kliknutí ZDE! \nWebové stránky: https://www.kvalitnifotky.cz/
URL:https://actaea.cz/akce/jarni-foceni-ve-mlyne/
LOCATION:VÍCE Ve mlýně\, Karlovice 421\, Karlovice\, 793 23\, Česká republika
CATEGORIES:Tvoření a hry
ATTACH;FMTTYPE=image/jpeg:https://actaea.cz/wp-content/uploads/2024/04/Jarni-Foceni.jpg
END:VEVENT
BEGIN:VEVENT
DTSTART;TZID=Europe/Prague:20240412T150000
DTEND;TZID=Europe/Prague:20240412T170000
DTSTAMP:20260423T005102
CREATED:20240215T085021Z
LAST-MODIFIED:20240625T083118Z
UID:10000113-1712934000-1712941200@actaea.cz
SUMMARY:Máme otevřeno!
DESCRIPTION:Přijďte se v PÁTEK do mlýna podívat na výstavu Jeseníky všemi smysly\, nebo jen tak posedět a dát si u nás dobrou kávu a drobné občerstvení! \nMáme otevřeno vždy v: \n\nÚTERÝ\, STŘEDA\, PÁTEK: 15:00 – 17:00\nSOBOTU: 14:00 – 18:00
URL:https://actaea.cz/akce/mame-otevreno/2024-04-12/
LOCATION:VÍCE Ve mlýně\, Karlovice 421\, Karlovice\, 793 23\, Česká republika
CATEGORIES:Tvoření a hry,Výstavy
ATTACH;FMTTYPE=image/jpeg:https://actaea.cz/wp-content/uploads/2024/02/mlyn-1-Karel-Fiala.jpg
END:VEVENT
BEGIN:VEVENT
DTSTART;TZID=Europe/Prague:20240413T140000
DTEND;TZID=Europe/Prague:20240413T180000
DTSTAMP:20260423T005102
CREATED:20240215T085451Z
LAST-MODIFIED:20240625T082701Z
UID:10000375-1713016800-1713031200@actaea.cz
SUMMARY:Máme otevřeno!
DESCRIPTION:Přijďte se v SOBOTU do mlýna podívat na výstavu Jeseníky všemi smysly\, nebo jen tak posedět a dát si u nás dobrou kávu a drobné občerstvení! \nMáme otevřeno vždy v: \n\nPÁTEK: 15:00 – 17:00\nSOBOTU: 14:00 – 18:00
URL:https://actaea.cz/akce/mame-otevreno-2/2024-04-13/
LOCATION:VÍCE Ve mlýně\, Karlovice 421\, Karlovice\, 793 23\, Česká republika
CATEGORIES:Tvoření a hry,Výstavy
ATTACH;FMTTYPE=image/jpeg:https://actaea.cz/wp-content/uploads/2024/02/mlyn-2-Karel-Fiala.jpg
END:VEVENT
BEGIN:VEVENT
DTSTART;TZID=Europe/Prague:20240413T140000
DTEND;TZID=Europe/Prague:20240413T180000
DTSTAMP:20260423T005102
CREATED:20240410T132406Z
LAST-MODIFIED:20240410T132424Z
UID:10000912-1713016800-1713031200@actaea.cz
SUMMARY:Jarní focení Ve mlýně
DESCRIPTION:Přijďte se vyfotit k nám do krásných prostor vzdělávacího centra VÍCE Ve mlýně Karlovice. \nFocení proběhne 12.4. a 13.4.\, vyfotí Vás Michaela Balážová. A protože je jaro jako dekorace budou živé květiny! \nVyfotit se můžete s celou Vaši rodinou\, nebo sami. \nDélka focení je 30 minut a po vyfocení dostanete 4 profesionálně upravené fotografie\, zároveň je možnost zapůjčit si na focení šaty. \nCena: 1500 Kč \nRezervace je nutná předem: \nNa telefonním čísle: 605738106 \nNebo po kliknutí ZDE! \nWebové stránky: https://www.kvalitnifotky.cz/
URL:https://actaea.cz/akce/jarni-foceni-ve-mlyne-2/
LOCATION:VÍCE Ve mlýně\, Karlovice 421\, Karlovice\, 793 23\, Česká republika
CATEGORIES:Tvoření a hry
ATTACH;FMTTYPE=image/jpeg:https://actaea.cz/wp-content/uploads/2024/04/Jarni-Foceni.jpg
END:VEVENT
BEGIN:VEVENT
DTSTART;TZID=Europe/Prague:20240416T150000
DTEND;TZID=Europe/Prague:20240416T170000
DTSTAMP:20260423T005102
CREATED:20240320T145748Z
LAST-MODIFIED:20240410T125302Z
UID:10000899-1713279600-1713286800@actaea.cz
SUMMARY:Workshop k letnímu táboru - Jumanji další level - Expedice na ostrov Urafiky!
DESCRIPTION:Máte plány na prázdniny\, pokud ne\, přijďte k nám 16.4. do mlýna na Workshop o letním táboře! \nWorkshop a tvoření bude probíhat od 15 do 17 hodin. \nLetní tábor se bude konat v termínu od 13. 8. 2024 – 20. 8. 2024 a můžete se na něj své děti přihlašovat již teď. \nPro více informací klikněte ZDE! \nJako klasicky si u nás můžete dát dobrou kávu\, nebo drobné občerstvení! \nZákladní informace o táboru: \nPro děti od 7 do 15 let\nTermín: 13. 8. 2024 – 20. 8. 2024\nMísto: Karlovice v Jeseníkách\, Pocheňské louky\nPočet dětí: 40\nCena: 4.500 Kč\nPořadatel: Actaea\, z.s.\nStrava: zajištěna pětkrát denně\, z toho minimálně jedno jídlo teplé. Pitný režim v průběhu celého dne
URL:https://actaea.cz/akce/workshop-letni-tabor-expedice-na-ostrov-urafiky/2024-04-16/
LOCATION:VÍCE Ve mlýně\, Karlovice 421\, Karlovice\, 793 23\, Česká republika
CATEGORIES:Tvoření a hry
ATTACH;FMTTYPE=image/png:https://actaea.cz/wp-content/uploads/2024/02/OBRAZEK-TABOR.png
END:VEVENT
BEGIN:VEVENT
DTSTART;TZID=Europe/Prague:20240417T150000
DTEND;TZID=Europe/Prague:20240417T170000
DTSTAMP:20260423T005102
CREATED:20240320T145748Z
LAST-MODIFIED:20240410T125302Z
UID:10000900-1713366000-1713373200@actaea.cz
SUMMARY:Workshop k letnímu táboru - Jumanji další level - Expedice na ostrov Urafiky!
DESCRIPTION:Máte plány na prázdniny\, pokud ne\, přijďte k nám 16.4. do mlýna na Workshop o letním táboře! \nWorkshop a tvoření bude probíhat od 15 do 17 hodin. \nLetní tábor se bude konat v termínu od 13. 8. 2024 – 20. 8. 2024 a můžete se na něj své děti přihlašovat již teď. \nPro více informací klikněte ZDE! \nJako klasicky si u nás můžete dát dobrou kávu\, nebo drobné občerstvení! \nZákladní informace o táboru: \nPro děti od 7 do 15 let\nTermín: 13. 8. 2024 – 20. 8. 2024\nMísto: Karlovice v Jeseníkách\, Pocheňské louky\nPočet dětí: 40\nCena: 4.500 Kč\nPořadatel: Actaea\, z.s.\nStrava: zajištěna pětkrát denně\, z toho minimálně jedno jídlo teplé. Pitný režim v průběhu celého dne
URL:https://actaea.cz/akce/workshop-letni-tabor-expedice-na-ostrov-urafiky/2024-04-17/
LOCATION:VÍCE Ve mlýně\, Karlovice 421\, Karlovice\, 793 23\, Česká republika
CATEGORIES:Tvoření a hry
ATTACH;FMTTYPE=image/png:https://actaea.cz/wp-content/uploads/2024/02/OBRAZEK-TABOR.png
END:VEVENT
BEGIN:VEVENT
DTSTART;TZID=Europe/Prague:20240419T080000
DTEND;TZID=Europe/Prague:20240419T170000
DTSTAMP:20260423T005102
CREATED:20240112T110426Z
LAST-MODIFIED:20240112T110426Z
UID:10000014-1713513600-1713546000@actaea.cz
SUMMARY:Den Země - úklid obce se školou a obcí
DESCRIPTION:
URL:https://actaea.cz/akce/den-zeme-uklid-obce-se-skolou-a-obci/
LOCATION:VÍCE Ve mlýně\, Karlovice 421\, Karlovice\, 793 23\, Česká republika
END:VEVENT
BEGIN:VEVENT
DTSTART;TZID=Europe/Prague:20240419T150000
DTEND;TZID=Europe/Prague:20240419T170000
DTSTAMP:20260423T005102
CREATED:20240215T085021Z
LAST-MODIFIED:20240625T083118Z
UID:10000114-1713538800-1713546000@actaea.cz
SUMMARY:Máme otevřeno!
DESCRIPTION:Přijďte se v PÁTEK do mlýna podívat na výstavu Jeseníky všemi smysly\, nebo jen tak posedět a dát si u nás dobrou kávu a drobné občerstvení! \nMáme otevřeno vždy v: \n\nÚTERÝ\, STŘEDA\, PÁTEK: 15:00 – 17:00\nSOBOTU: 14:00 – 18:00
URL:https://actaea.cz/akce/mame-otevreno/2024-04-19/
LOCATION:VÍCE Ve mlýně\, Karlovice 421\, Karlovice\, 793 23\, Česká republika
CATEGORIES:Tvoření a hry,Výstavy
ATTACH;FMTTYPE=image/jpeg:https://actaea.cz/wp-content/uploads/2024/02/mlyn-1-Karel-Fiala.jpg
END:VEVENT
BEGIN:VEVENT
DTSTART;TZID=Europe/Prague:20240420T140000
DTEND;TZID=Europe/Prague:20240420T180000
DTSTAMP:20260423T005102
CREATED:20240215T085451Z
LAST-MODIFIED:20240625T082701Z
UID:10000376-1713621600-1713636000@actaea.cz
SUMMARY:Máme otevřeno!
DESCRIPTION:Přijďte se v SOBOTU do mlýna podívat na výstavu Jeseníky všemi smysly\, nebo jen tak posedět a dát si u nás dobrou kávu a drobné občerstvení! \nMáme otevřeno vždy v: \n\nPÁTEK: 15:00 – 17:00\nSOBOTU: 14:00 – 18:00
URL:https://actaea.cz/akce/mame-otevreno-2/2024-04-20/
LOCATION:VÍCE Ve mlýně\, Karlovice 421\, Karlovice\, 793 23\, Česká republika
CATEGORIES:Tvoření a hry,Výstavy
ATTACH;FMTTYPE=image/jpeg:https://actaea.cz/wp-content/uploads/2024/02/mlyn-2-Karel-Fiala.jpg
END:VEVENT
BEGIN:VEVENT
DTSTART;TZID=Europe/Prague:20240420T140000
DTEND;TZID=Europe/Prague:20240420T180000
DTSTAMP:20260423T005102
CREATED:20240320T151004Z
LAST-MODIFIED:20240320T151022Z
UID:10000901-1713621600-1713636000@actaea.cz
SUMMARY:Den Země Ve mlýně
DESCRIPTION:Přijďte k nám v sobotu 20.4. oslavit DEN ZEMĚ!🌎 \nMáme pro vás připraveno tvoření a spoustu dalších aktivit. \nOtevřeno bude od 14 do 18 hodin.💕 \nMůžete si u nás dát dobrou kávu\, nebo drobné občerstvení.
URL:https://actaea.cz/akce/den-zeme-ve-mlyne/
LOCATION:VÍCE Ve mlýně\, Karlovice 421\, Karlovice\, 793 23\, Česká republika
CATEGORIES:Tvoření a hry
ATTACH;FMTTYPE=image/jpeg:https://actaea.cz/wp-content/uploads/2024/03/zeme.jpg
END:VEVENT
BEGIN:VEVENT
DTSTART;TZID=Europe/Prague:20240423T150000
DTEND;TZID=Europe/Prague:20240423T170000
DTSTAMP:20260423T005102
CREATED:20240320T151431Z
LAST-MODIFIED:20240320T151518Z
UID:10000902-1713884400-1713891600@actaea.cz
SUMMARY:Tvoření - Výroba mýdel
DESCRIPTION:Přijďte si k nám do mlýna v úterý 23.4. vytvořit své vlastní mýdlo. \nZačínáme v 15 a končíme v 17 hodin! \nMůžete si u nás dát dobrou kávu\, nebo drobné občerstvení.💕
URL:https://actaea.cz/akce/tvoreni-vyroba-mydel/
LOCATION:VÍCE Ve mlýně\, Karlovice 421\, Karlovice\, 793 23\, Česká republika
CATEGORIES:Tvoření a hry
ATTACH;FMTTYPE=image/jpeg:https://actaea.cz/wp-content/uploads/2024/02/kytka-4-scaled.jpg
END:VEVENT
BEGIN:VEVENT
DTSTART;TZID=Europe/Prague:20240424T150000
DTEND;TZID=Europe/Prague:20240424T170000
DTSTAMP:20260423T005102
CREATED:20240320T151958Z
LAST-MODIFIED:20240423T135338Z
UID:10000903-1713970800-1713978000@actaea.cz
SUMMARY:Květinové tvoření
DESCRIPTION:Přijďte k nám ve středu 24.4 do mlýna na květinové tvoření. \nBudeme vyrábět ozdoby z dřevěných koleček\, květinové věnečky a náramky a nebo ozdoby z lepených květin! \nZačínáme v 15 hodin a končíme v 17 hodin. \nMůžete si u nás dát dobrou kávu\, nebo drobné občerstvení.
URL:https://actaea.cz/akce/kvetinove-tvoreni/
LOCATION:VÍCE Ve mlýně\, Karlovice 421\, Karlovice\, 793 23\, Česká republika
CATEGORIES:Tvoření a hry
ATTACH;FMTTYPE=image/jpeg:https://actaea.cz/wp-content/uploads/2024/04/KVETINOVE-TVORENI.jpeg
END:VEVENT
BEGIN:VEVENT
DTSTART;TZID=Europe/Prague:20240426T150000
DTEND;TZID=Europe/Prague:20240426T170000
DTSTAMP:20260423T005102
CREATED:20240215T085021Z
LAST-MODIFIED:20240625T083118Z
UID:10000115-1714143600-1714150800@actaea.cz
SUMMARY:Máme otevřeno!
DESCRIPTION:Přijďte se v PÁTEK do mlýna podívat na výstavu Jeseníky všemi smysly\, nebo jen tak posedět a dát si u nás dobrou kávu a drobné občerstvení! \nMáme otevřeno vždy v: \n\nÚTERÝ\, STŘEDA\, PÁTEK: 15:00 – 17:00\nSOBOTU: 14:00 – 18:00
URL:https://actaea.cz/akce/mame-otevreno/2024-04-26/
LOCATION:VÍCE Ve mlýně\, Karlovice 421\, Karlovice\, 793 23\, Česká republika
CATEGORIES:Tvoření a hry,Výstavy
ATTACH;FMTTYPE=image/jpeg:https://actaea.cz/wp-content/uploads/2024/02/mlyn-1-Karel-Fiala.jpg
END:VEVENT
BEGIN:VEVENT
DTSTART;TZID=Europe/Prague:20240427T140000
DTEND;TZID=Europe/Prague:20240427T180000
DTSTAMP:20260423T005102
CREATED:20240215T085451Z
LAST-MODIFIED:20240625T082701Z
UID:10000377-1714226400-1714240800@actaea.cz
SUMMARY:Máme otevřeno!
DESCRIPTION:Přijďte se v SOBOTU do mlýna podívat na výstavu Jeseníky všemi smysly\, nebo jen tak posedět a dát si u nás dobrou kávu a drobné občerstvení! \nMáme otevřeno vždy v: \n\nPÁTEK: 15:00 – 17:00\nSOBOTU: 14:00 – 18:00
URL:https://actaea.cz/akce/mame-otevreno-2/2024-04-27/
LOCATION:VÍCE Ve mlýně\, Karlovice 421\, Karlovice\, 793 23\, Česká republika
CATEGORIES:Tvoření a hry,Výstavy
ATTACH;FMTTYPE=image/jpeg:https://actaea.cz/wp-content/uploads/2024/02/mlyn-2-Karel-Fiala.jpg
END:VEVENT
END:VCALENDAR