BEGIN:VCALENDAR
VERSION:2.0
PRODID:-//Actaea - ECPv6.15.20//NONSGML v1.0//EN
CALSCALE:GREGORIAN
METHOD:PUBLISH
X-ORIGINAL-URL:https://actaea.cz
X-WR-CALDESC:Akce na Actaea
REFRESH-INTERVAL;VALUE=DURATION:PT1H
X-Robots-Tag:noindex
X-PUBLISHED-TTL:PT1H
BEGIN:VTIMEZONE
TZID:Europe/Prague
BEGIN:DAYLIGHT
TZOFFSETFROM:+0100
TZOFFSETTO:+0200
TZNAME:CEST
DTSTART:20230326T010000
END:DAYLIGHT
BEGIN:STANDARD
TZOFFSETFROM:+0200
TZOFFSETTO:+0100
TZNAME:CET
DTSTART:20231029T010000
END:STANDARD
BEGIN:DAYLIGHT
TZOFFSETFROM:+0100
TZOFFSETTO:+0200
TZNAME:CEST
DTSTART:20240331T010000
END:DAYLIGHT
BEGIN:STANDARD
TZOFFSETFROM:+0200
TZOFFSETTO:+0100
TZNAME:CET
DTSTART:20241027T010000
END:STANDARD
BEGIN:DAYLIGHT
TZOFFSETFROM:+0100
TZOFFSETTO:+0200
TZNAME:CEST
DTSTART:20250330T010000
END:DAYLIGHT
BEGIN:STANDARD
TZOFFSETFROM:+0200
TZOFFSETTO:+0100
TZNAME:CET
DTSTART:20251026T010000
END:STANDARD
END:VTIMEZONE
BEGIN:VEVENT
DTSTART;TZID=Europe/Prague:20240420T140000
DTEND;TZID=Europe/Prague:20240420T180000
DTSTAMP:20260423T005403
CREATED:20240320T151004Z
LAST-MODIFIED:20240320T151022Z
UID:10000901-1713621600-1713636000@actaea.cz
SUMMARY:Den Země Ve mlýně
DESCRIPTION:Přijďte k nám v sobotu 20.4. oslavit DEN ZEMĚ!🌎 \nMáme pro vás připraveno tvoření a spoustu dalších aktivit. \nOtevřeno bude od 14 do 18 hodin.💕 \nMůžete si u nás dát dobrou kávu\, nebo drobné občerstvení.
URL:https://actaea.cz/akce/den-zeme-ve-mlyne/
LOCATION:VÍCE Ve mlýně\, Karlovice 421\, Karlovice\, 793 23\, Česká republika
CATEGORIES:Tvoření a hry
ATTACH;FMTTYPE=image/jpeg:https://actaea.cz/wp-content/uploads/2024/03/zeme.jpg
END:VEVENT
BEGIN:VEVENT
DTSTART;TZID=Europe/Prague:20240423T150000
DTEND;TZID=Europe/Prague:20240423T170000
DTSTAMP:20260423T005403
CREATED:20240320T151431Z
LAST-MODIFIED:20240320T151518Z
UID:10000902-1713884400-1713891600@actaea.cz
SUMMARY:Tvoření - Výroba mýdel
DESCRIPTION:Přijďte si k nám do mlýna v úterý 23.4. vytvořit své vlastní mýdlo. \nZačínáme v 15 a končíme v 17 hodin! \nMůžete si u nás dát dobrou kávu\, nebo drobné občerstvení.💕
URL:https://actaea.cz/akce/tvoreni-vyroba-mydel/
LOCATION:VÍCE Ve mlýně\, Karlovice 421\, Karlovice\, 793 23\, Česká republika
CATEGORIES:Tvoření a hry
ATTACH;FMTTYPE=image/jpeg:https://actaea.cz/wp-content/uploads/2024/02/kytka-4-scaled.jpg
END:VEVENT
BEGIN:VEVENT
DTSTART;TZID=Europe/Prague:20240424T150000
DTEND;TZID=Europe/Prague:20240424T170000
DTSTAMP:20260423T005403
CREATED:20240320T151958Z
LAST-MODIFIED:20240423T135338Z
UID:10000903-1713970800-1713978000@actaea.cz
SUMMARY:Květinové tvoření
DESCRIPTION:Přijďte k nám ve středu 24.4 do mlýna na květinové tvoření. \nBudeme vyrábět ozdoby z dřevěných koleček\, květinové věnečky a náramky a nebo ozdoby z lepených květin! \nZačínáme v 15 hodin a končíme v 17 hodin. \nMůžete si u nás dát dobrou kávu\, nebo drobné občerstvení.
URL:https://actaea.cz/akce/kvetinove-tvoreni/
LOCATION:VÍCE Ve mlýně\, Karlovice 421\, Karlovice\, 793 23\, Česká republika
CATEGORIES:Tvoření a hry
ATTACH;FMTTYPE=image/jpeg:https://actaea.cz/wp-content/uploads/2024/04/KVETINOVE-TVORENI.jpeg
END:VEVENT
BEGIN:VEVENT
DTSTART;TZID=Europe/Prague:20240426T150000
DTEND;TZID=Europe/Prague:20240426T170000
DTSTAMP:20260423T005403
CREATED:20240215T085021Z
LAST-MODIFIED:20240625T083118Z
UID:10000115-1714143600-1714150800@actaea.cz
SUMMARY:Máme otevřeno!
DESCRIPTION:Přijďte se v PÁTEK do mlýna podívat na výstavu Jeseníky všemi smysly\, nebo jen tak posedět a dát si u nás dobrou kávu a drobné občerstvení! \nMáme otevřeno vždy v: \n\nÚTERÝ\, STŘEDA\, PÁTEK: 15:00 – 17:00\nSOBOTU: 14:00 – 18:00
URL:https://actaea.cz/akce/mame-otevreno/2024-04-26/
LOCATION:VÍCE Ve mlýně\, Karlovice 421\, Karlovice\, 793 23\, Česká republika
CATEGORIES:Tvoření a hry,Výstavy
ATTACH;FMTTYPE=image/jpeg:https://actaea.cz/wp-content/uploads/2024/02/mlyn-1-Karel-Fiala.jpg
END:VEVENT
BEGIN:VEVENT
DTSTART;TZID=Europe/Prague:20240427T140000
DTEND;TZID=Europe/Prague:20240427T180000
DTSTAMP:20260423T005403
CREATED:20240215T085451Z
LAST-MODIFIED:20240625T082701Z
UID:10000377-1714226400-1714240800@actaea.cz
SUMMARY:Máme otevřeno!
DESCRIPTION:Přijďte se v SOBOTU do mlýna podívat na výstavu Jeseníky všemi smysly\, nebo jen tak posedět a dát si u nás dobrou kávu a drobné občerstvení! \nMáme otevřeno vždy v: \n\nPÁTEK: 15:00 – 17:00\nSOBOTU: 14:00 – 18:00
URL:https://actaea.cz/akce/mame-otevreno-2/2024-04-27/
LOCATION:VÍCE Ve mlýně\, Karlovice 421\, Karlovice\, 793 23\, Česká republika
CATEGORIES:Tvoření a hry,Výstavy
ATTACH;FMTTYPE=image/jpeg:https://actaea.cz/wp-content/uploads/2024/02/mlyn-2-Karel-Fiala.jpg
END:VEVENT
BEGIN:VEVENT
DTSTART;TZID=Europe/Prague:20240430T150000
DTEND;TZID=Europe/Prague:20240430T170000
DTSTAMP:20260423T005403
CREATED:20240320T152955Z
LAST-MODIFIED:20240320T152955Z
UID:10000904-1714489200-1714496400@actaea.cz
SUMMARY:Vítání května Ve mlýně
DESCRIPTION:Pojďte společně s námi v úterý 30.4. a ve středu 1.5. přivítat květen do mlýna. \nMáme pro vás a vaše děti připravené tvoření s jarní tématikou.💕 \nBudeme tvořit papírové motýlky\, včelky a včelí úly! \nOtevřeno bude v úterý od 15 do 17 hodin. \nOtevřeno bude ve středu dopoledne od 9 do 12 hodin a odpoledne od 14 do 17 hodin.🐝 \nMůžete si u nás dát dobrou kávu\, nebo drobné občerstvení
URL:https://actaea.cz/akce/vitani-kvetna-ve-mlyne/2024-04-30/
LOCATION:VÍCE Ve mlýně\, Karlovice 421\, Karlovice\, 793 23\, Česká republika
CATEGORIES:Tvoření a hry
ATTACH;FMTTYPE=image/jpeg:https://actaea.cz/wp-content/uploads/2024/03/kveten-scaled.jpg
END:VEVENT
BEGIN:VEVENT
DTSTART;TZID=Europe/Prague:20240501T090000
DTEND;TZID=Europe/Prague:20240501T170000
DTSTAMP:20260423T005403
CREATED:20240320T152955Z
LAST-MODIFIED:20240320T152955Z
UID:10000905-1714554000-1714582800@actaea.cz
SUMMARY:Vítání května Ve mlýně
DESCRIPTION:Pojďte společně s námi v úterý 30.4. a ve středu 1.5. přivítat květen do mlýna. \nMáme pro vás a vaše děti připravené tvoření s jarní tématikou.💕 \nBudeme tvořit papírové motýlky\, včelky a včelí úly! \nOtevřeno bude v úterý od 15 do 17 hodin. \nOtevřeno bude ve středu dopoledne od 9 do 12 hodin a odpoledne od 14 do 17 hodin.🐝 \nMůžete si u nás dát dobrou kávu\, nebo drobné občerstvení
URL:https://actaea.cz/akce/vitani-kvetna-ve-mlyne/2024-05-01/
LOCATION:VÍCE Ve mlýně\, Karlovice 421\, Karlovice\, 793 23\, Česká republika
CATEGORIES:Tvoření a hry
ATTACH;FMTTYPE=image/jpeg:https://actaea.cz/wp-content/uploads/2024/03/kveten-scaled.jpg
END:VEVENT
BEGIN:VEVENT
DTSTART;TZID=Europe/Prague:20240503T150000
DTEND;TZID=Europe/Prague:20240503T170000
DTSTAMP:20260423T005403
CREATED:20240215T085021Z
LAST-MODIFIED:20240625T083118Z
UID:10000116-1714748400-1714755600@actaea.cz
SUMMARY:Máme otevřeno!
DESCRIPTION:Přijďte se v PÁTEK do mlýna podívat na výstavu Jeseníky všemi smysly\, nebo jen tak posedět a dát si u nás dobrou kávu a drobné občerstvení! \nMáme otevřeno vždy v: \n\nÚTERÝ\, STŘEDA\, PÁTEK: 15:00 – 17:00\nSOBOTU: 14:00 – 18:00
URL:https://actaea.cz/akce/mame-otevreno/2024-05-03/
LOCATION:VÍCE Ve mlýně\, Karlovice 421\, Karlovice\, 793 23\, Česká republika
CATEGORIES:Tvoření a hry,Výstavy
ATTACH;FMTTYPE=image/jpeg:https://actaea.cz/wp-content/uploads/2024/02/mlyn-1-Karel-Fiala.jpg
END:VEVENT
BEGIN:VEVENT
DTSTART;TZID=Europe/Prague:20240504T140000
DTEND;TZID=Europe/Prague:20240504T180000
DTSTAMP:20260423T005403
CREATED:20240215T085451Z
LAST-MODIFIED:20240625T082701Z
UID:10000378-1714831200-1714845600@actaea.cz
SUMMARY:Máme otevřeno!
DESCRIPTION:Přijďte se v SOBOTU do mlýna podívat na výstavu Jeseníky všemi smysly\, nebo jen tak posedět a dát si u nás dobrou kávu a drobné občerstvení! \nMáme otevřeno vždy v: \n\nPÁTEK: 15:00 – 17:00\nSOBOTU: 14:00 – 18:00
URL:https://actaea.cz/akce/mame-otevreno-2/2024-05-04/
LOCATION:VÍCE Ve mlýně\, Karlovice 421\, Karlovice\, 793 23\, Česká republika
CATEGORIES:Tvoření a hry,Výstavy
ATTACH;FMTTYPE=image/jpeg:https://actaea.cz/wp-content/uploads/2024/02/mlyn-2-Karel-Fiala.jpg
END:VEVENT
BEGIN:VEVENT
DTSTART;TZID=Europe/Prague:20240507T150000
DTEND;TZID=Europe/Prague:20240507T170000
DTSTAMP:20260423T005403
CREATED:20240401T193849Z
LAST-MODIFIED:20240625T083314Z
UID:10000635-1715094000-1715101200@actaea.cz
SUMMARY:Úterní tvoření Ve mlýně
DESCRIPTION:Tvoření pro děti i dospělé Ve mlýně! \nMůžete si u nás dát drobné občerstvení\, nebo si něco hezkého koupit
URL:https://actaea.cz/akce/uterni-tvoreni-ve-mlyne-2/2024-05-07/
LOCATION:VÍCE Ve mlýně\, Karlovice 421\, Karlovice\, 793 23\, Česká republika
ATTACH;FMTTYPE=image/jpeg:https://actaea.cz/wp-content/uploads/2024/02/tvoreni-1.jpg
END:VEVENT
BEGIN:VEVENT
DTSTART;VALUE=DATE:20240508
DTEND;VALUE=DATE:20240509
DTSTAMP:20260423T005403
CREATED:20240112T111423Z
LAST-MODIFIED:20240415T141231Z
UID:10000016-1715126400-1715212799@actaea.cz
SUMMARY:Vítání ptačího zpěvu v Karlově Studánce
DESCRIPTION:Přijďte na Vítání ptačího zpěvu do Karlovy Studánky! \nKde: Geologická expozice v Karlově Studánce \nKdy: středa 8. 5. 2024 \n      8:00 – začátek v horní části expozice \n    11:00 – předpokládaný konec \n  \nProgram: \n– krátká vycházka (cca 2 km) vhodná i pro rodiny s dětmi \n– určování ptáků podle zpěvu a pobytových znaků \n– zajímavosti o místní přírodě. \n– za příznivého počasí ukázka odchytu a kroužkování \n– doprovodný program pro děti \nLektor: Daniel Křenek \n\nPlakátek k akci.\n 
URL:https://actaea.cz/akce/vitani-ptaciho-zpevu-v-karlove-studance/
CATEGORIES:Výlety
ATTACH;FMTTYPE=image/jpeg:https://actaea.cz/wp-content/uploads/2024/01/Penkava.jpg
END:VEVENT
BEGIN:VEVENT
DTSTART;TZID=Europe/Prague:20240510T150000
DTEND;TZID=Europe/Prague:20240510T170000
DTSTAMP:20260423T005403
CREATED:20240215T085021Z
LAST-MODIFIED:20240625T083118Z
UID:10000117-1715353200-1715360400@actaea.cz
SUMMARY:Máme otevřeno!
DESCRIPTION:Přijďte se v PÁTEK do mlýna podívat na výstavu Jeseníky všemi smysly\, nebo jen tak posedět a dát si u nás dobrou kávu a drobné občerstvení! \nMáme otevřeno vždy v: \n\nÚTERÝ\, STŘEDA\, PÁTEK: 15:00 – 17:00\nSOBOTU: 14:00 – 18:00
URL:https://actaea.cz/akce/mame-otevreno/2024-05-10/
LOCATION:VÍCE Ve mlýně\, Karlovice 421\, Karlovice\, 793 23\, Česká republika
CATEGORIES:Tvoření a hry,Výstavy
ATTACH;FMTTYPE=image/jpeg:https://actaea.cz/wp-content/uploads/2024/02/mlyn-1-Karel-Fiala.jpg
END:VEVENT
BEGIN:VEVENT
DTSTART;TZID=Europe/Prague:20240511T140000
DTEND;TZID=Europe/Prague:20240511T180000
DTSTAMP:20260423T005403
CREATED:20240215T085451Z
LAST-MODIFIED:20240625T082701Z
UID:10000379-1715436000-1715450400@actaea.cz
SUMMARY:Máme otevřeno!
DESCRIPTION:Přijďte se v SOBOTU do mlýna podívat na výstavu Jeseníky všemi smysly\, nebo jen tak posedět a dát si u nás dobrou kávu a drobné občerstvení! \nMáme otevřeno vždy v: \n\nPÁTEK: 15:00 – 17:00\nSOBOTU: 14:00 – 18:00
URL:https://actaea.cz/akce/mame-otevreno-2/2024-05-11/
LOCATION:VÍCE Ve mlýně\, Karlovice 421\, Karlovice\, 793 23\, Česká republika
CATEGORIES:Tvoření a hry,Výstavy
ATTACH;FMTTYPE=image/jpeg:https://actaea.cz/wp-content/uploads/2024/02/mlyn-2-Karel-Fiala.jpg
END:VEVENT
BEGIN:VEVENT
DTSTART;TZID=Europe/Prague:20240514T150000
DTEND;TZID=Europe/Prague:20240514T170000
DTSTAMP:20260423T005403
CREATED:20240401T193849Z
LAST-MODIFIED:20240625T083314Z
UID:10000641-1715698800-1715706000@actaea.cz
SUMMARY:Úterní tvoření Ve mlýně
DESCRIPTION:Tvoření pro děti i dospělé Ve mlýně! \nMůžete si u nás dát drobné občerstvení\, nebo si něco hezkého koupit
URL:https://actaea.cz/akce/uterni-tvoreni-ve-mlyne-2/2024-05-14/
LOCATION:VÍCE Ve mlýně\, Karlovice 421\, Karlovice\, 793 23\, Česká republika
ATTACH;FMTTYPE=image/jpeg:https://actaea.cz/wp-content/uploads/2024/02/tvoreni-1.jpg
END:VEVENT
BEGIN:VEVENT
DTSTART;TZID=Europe/Prague:20240517T150000
DTEND;TZID=Europe/Prague:20240517T170000
DTSTAMP:20260423T005403
CREATED:20240215T085021Z
LAST-MODIFIED:20240625T083118Z
UID:10000118-1715958000-1715965200@actaea.cz
SUMMARY:Máme otevřeno!
DESCRIPTION:Přijďte se v PÁTEK do mlýna podívat na výstavu Jeseníky všemi smysly\, nebo jen tak posedět a dát si u nás dobrou kávu a drobné občerstvení! \nMáme otevřeno vždy v: \n\nÚTERÝ\, STŘEDA\, PÁTEK: 15:00 – 17:00\nSOBOTU: 14:00 – 18:00
URL:https://actaea.cz/akce/mame-otevreno/2024-05-17/
LOCATION:VÍCE Ve mlýně\, Karlovice 421\, Karlovice\, 793 23\, Česká republika
CATEGORIES:Tvoření a hry,Výstavy
ATTACH;FMTTYPE=image/jpeg:https://actaea.cz/wp-content/uploads/2024/02/mlyn-1-Karel-Fiala.jpg
END:VEVENT
BEGIN:VEVENT
DTSTART;TZID=Europe/Prague:20240518T140000
DTEND;TZID=Europe/Prague:20240518T180000
DTSTAMP:20260423T005403
CREATED:20240215T085451Z
LAST-MODIFIED:20240625T082701Z
UID:10000380-1716040800-1716055200@actaea.cz
SUMMARY:Máme otevřeno!
DESCRIPTION:Přijďte se v SOBOTU do mlýna podívat na výstavu Jeseníky všemi smysly\, nebo jen tak posedět a dát si u nás dobrou kávu a drobné občerstvení! \nMáme otevřeno vždy v: \n\nPÁTEK: 15:00 – 17:00\nSOBOTU: 14:00 – 18:00
URL:https://actaea.cz/akce/mame-otevreno-2/2024-05-18/
LOCATION:VÍCE Ve mlýně\, Karlovice 421\, Karlovice\, 793 23\, Česká republika
CATEGORIES:Tvoření a hry,Výstavy
ATTACH;FMTTYPE=image/jpeg:https://actaea.cz/wp-content/uploads/2024/02/mlyn-2-Karel-Fiala.jpg
END:VEVENT
BEGIN:VEVENT
DTSTART;TZID=Europe/Prague:20240518T170000
DTEND;TZID=Europe/Prague:20240518T180000
DTSTAMP:20260423T005403
CREATED:20240112T111648Z
LAST-MODIFIED:20240421T141359Z
UID:10000017-1716051600-1716055200@actaea.cz
SUMMARY:Autorské čtení Jesenická Maryška
DESCRIPTION:Přijďte v sobotu 18. 5. 2024 na autorské čtení spisovatelky Mirky Krčové Ve mlýně Karlovice. \nAkce začíná v 17 hodin. \nMůžete si u nás dát drobné občerstvení\, nebo dobrou kávu. \nOpět ve svém téměř rodném mlýně. Vyrostla v Kosárně v Karlovicích\, nyní žije v Bruntále. Psát začala v roce 2013 jako milovnice Jeseníků\,\nve kterých žije celý svůj život. Je v nich trvale a pevně zakořeněná. Kromě přírody\, kterou ráda opěvuje\, volí i témata z reálného života. \nČiní tak formou humornou a nevážnou. Jejím cílem je pobavit\, rozesmát\, anebo se alespoň na chvíli zastavit. \nNapsala dvě knihy\, které doveze s sebou.
URL:https://actaea.cz/akce/den-rodiny-stolni-hry/
LOCATION:VÍCE Ve mlýně\, Karlovice 421\, Karlovice\, 793 23\, Česká republika
CATEGORIES:Tvoření a hry
ATTACH;FMTTYPE=image/jpeg:https://actaea.cz/wp-content/uploads/2024/04/autorske-cteni.jpg
END:VEVENT
BEGIN:VEVENT
DTSTART;TZID=Europe/Prague:20240521T150000
DTEND;TZID=Europe/Prague:20240521T170000
DTSTAMP:20260423T005403
CREATED:20240401T193849Z
LAST-MODIFIED:20240625T083314Z
UID:10000642-1716303600-1716310800@actaea.cz
SUMMARY:Úterní tvoření Ve mlýně
DESCRIPTION:Tvoření pro děti i dospělé Ve mlýně! \nMůžete si u nás dát drobné občerstvení\, nebo si něco hezkého koupit
URL:https://actaea.cz/akce/uterni-tvoreni-ve-mlyne-2/2024-05-21/
LOCATION:VÍCE Ve mlýně\, Karlovice 421\, Karlovice\, 793 23\, Česká republika
ATTACH;FMTTYPE=image/jpeg:https://actaea.cz/wp-content/uploads/2024/02/tvoreni-1.jpg
END:VEVENT
BEGIN:VEVENT
DTSTART;TZID=Europe/Prague:20240524T150000
DTEND;TZID=Europe/Prague:20240524T170000
DTSTAMP:20260423T005403
CREATED:20240215T085021Z
LAST-MODIFIED:20240625T083118Z
UID:10000119-1716562800-1716570000@actaea.cz
SUMMARY:Máme otevřeno!
DESCRIPTION:Přijďte se v PÁTEK do mlýna podívat na výstavu Jeseníky všemi smysly\, nebo jen tak posedět a dát si u nás dobrou kávu a drobné občerstvení! \nMáme otevřeno vždy v: \n\nÚTERÝ\, STŘEDA\, PÁTEK: 15:00 – 17:00\nSOBOTU: 14:00 – 18:00
URL:https://actaea.cz/akce/mame-otevreno/2024-05-24/
LOCATION:VÍCE Ve mlýně\, Karlovice 421\, Karlovice\, 793 23\, Česká republika
CATEGORIES:Tvoření a hry,Výstavy
ATTACH;FMTTYPE=image/jpeg:https://actaea.cz/wp-content/uploads/2024/02/mlyn-1-Karel-Fiala.jpg
END:VEVENT
BEGIN:VEVENT
DTSTART;TZID=Europe/Prague:20240525T140000
DTEND;TZID=Europe/Prague:20240525T180000
DTSTAMP:20260423T005403
CREATED:20240215T085451Z
LAST-MODIFIED:20240625T082701Z
UID:10000381-1716645600-1716660000@actaea.cz
SUMMARY:Máme otevřeno!
DESCRIPTION:Přijďte se v SOBOTU do mlýna podívat na výstavu Jeseníky všemi smysly\, nebo jen tak posedět a dát si u nás dobrou kávu a drobné občerstvení! \nMáme otevřeno vždy v: \n\nPÁTEK: 15:00 – 17:00\nSOBOTU: 14:00 – 18:00
URL:https://actaea.cz/akce/mame-otevreno-2/2024-05-25/
LOCATION:VÍCE Ve mlýně\, Karlovice 421\, Karlovice\, 793 23\, Česká republika
CATEGORIES:Tvoření a hry,Výstavy
ATTACH;FMTTYPE=image/jpeg:https://actaea.cz/wp-content/uploads/2024/02/mlyn-2-Karel-Fiala.jpg
END:VEVENT
BEGIN:VEVENT
DTSTART;TZID=Europe/Prague:20240528T150000
DTEND;TZID=Europe/Prague:20240528T170000
DTSTAMP:20260423T005403
CREATED:20240401T193849Z
LAST-MODIFIED:20240625T083314Z
UID:10000643-1716908400-1716915600@actaea.cz
SUMMARY:Úterní tvoření Ve mlýně
DESCRIPTION:Tvoření pro děti i dospělé Ve mlýně! \nMůžete si u nás dát drobné občerstvení\, nebo si něco hezkého koupit
URL:https://actaea.cz/akce/uterni-tvoreni-ve-mlyne-2/2024-05-28/
LOCATION:VÍCE Ve mlýně\, Karlovice 421\, Karlovice\, 793 23\, Česká republika
ATTACH;FMTTYPE=image/jpeg:https://actaea.cz/wp-content/uploads/2024/02/tvoreni-1.jpg
END:VEVENT
BEGIN:VEVENT
DTSTART;TZID=Europe/Prague:20240531T150000
DTEND;TZID=Europe/Prague:20240531T170000
DTSTAMP:20260423T005403
CREATED:20240215T085021Z
LAST-MODIFIED:20240625T083118Z
UID:10000120-1717167600-1717174800@actaea.cz
SUMMARY:Máme otevřeno!
DESCRIPTION:Přijďte se v PÁTEK do mlýna podívat na výstavu Jeseníky všemi smysly\, nebo jen tak posedět a dát si u nás dobrou kávu a drobné občerstvení! \nMáme otevřeno vždy v: \n\nÚTERÝ\, STŘEDA\, PÁTEK: 15:00 – 17:00\nSOBOTU: 14:00 – 18:00
URL:https://actaea.cz/akce/mame-otevreno/2024-05-31/
LOCATION:VÍCE Ve mlýně\, Karlovice 421\, Karlovice\, 793 23\, Česká republika
CATEGORIES:Tvoření a hry,Výstavy
ATTACH;FMTTYPE=image/jpeg:https://actaea.cz/wp-content/uploads/2024/02/mlyn-1-Karel-Fiala.jpg
END:VEVENT
BEGIN:VEVENT
DTSTART;TZID=Europe/Prague:20240601T140000
DTEND;TZID=Europe/Prague:20240601T180000
DTSTAMP:20260423T005403
CREATED:20240215T085451Z
LAST-MODIFIED:20240625T082701Z
UID:10000382-1717250400-1717264800@actaea.cz
SUMMARY:Máme otevřeno!
DESCRIPTION:Přijďte se v SOBOTU do mlýna podívat na výstavu Jeseníky všemi smysly\, nebo jen tak posedět a dát si u nás dobrou kávu a drobné občerstvení! \nMáme otevřeno vždy v: \n\nPÁTEK: 15:00 – 17:00\nSOBOTU: 14:00 – 18:00
URL:https://actaea.cz/akce/mame-otevreno-2/2024-06-01/
LOCATION:VÍCE Ve mlýně\, Karlovice 421\, Karlovice\, 793 23\, Česká republika
CATEGORIES:Tvoření a hry,Výstavy
ATTACH;FMTTYPE=image/jpeg:https://actaea.cz/wp-content/uploads/2024/02/mlyn-2-Karel-Fiala.jpg
END:VEVENT
BEGIN:VEVENT
DTSTART;TZID=Europe/Prague:20240604T140000
DTEND;TZID=Europe/Prague:20240604T170000
DTSTAMP:20260423T005403
CREATED:20240521T131036Z
LAST-MODIFIED:20240521T131036Z
UID:10000916-1717509600-1717520400@actaea.cz
SUMMARY:Den životního prostředí Ve mlýně
DESCRIPTION:Akce proběhne v úterý 4.6. a ve středu 5.6.\, vždy od 14 do 17 hodin.
URL:https://actaea.cz/akce/den-zivotniho-prostredi-ve-mlyne/2024-06-04/
LOCATION:VÍCE Ve mlýně\, Karlovice 421\, Karlovice\, 793 23\, Česká republika
CATEGORIES:Tvoření a hry
ATTACH;FMTTYPE=image/jpeg:https://actaea.cz/wp-content/uploads/2024/05/CERVEN-VE-MLYNE_page-0001-1.jpg
END:VEVENT
BEGIN:VEVENT
DTSTART;TZID=Europe/Prague:20240604T150000
DTEND;TZID=Europe/Prague:20240604T170000
DTSTAMP:20260423T005403
CREATED:20240401T193849Z
LAST-MODIFIED:20240625T083314Z
UID:10000644-1717513200-1717520400@actaea.cz
SUMMARY:Úterní tvoření Ve mlýně
DESCRIPTION:Tvoření pro děti i dospělé Ve mlýně! \nMůžete si u nás dát drobné občerstvení\, nebo si něco hezkého koupit
URL:https://actaea.cz/akce/uterni-tvoreni-ve-mlyne-2/2024-06-04/
LOCATION:VÍCE Ve mlýně\, Karlovice 421\, Karlovice\, 793 23\, Česká republika
ATTACH;FMTTYPE=image/jpeg:https://actaea.cz/wp-content/uploads/2024/02/tvoreni-1.jpg
END:VEVENT
BEGIN:VEVENT
DTSTART;TZID=Europe/Prague:20240605T140000
DTEND;TZID=Europe/Prague:20240605T170000
DTSTAMP:20260423T005403
CREATED:20240521T131036Z
LAST-MODIFIED:20240521T131036Z
UID:10000917-1717596000-1717606800@actaea.cz
SUMMARY:Den životního prostředí Ve mlýně
DESCRIPTION:Akce proběhne v úterý 4.6. a ve středu 5.6.\, vždy od 14 do 17 hodin.
URL:https://actaea.cz/akce/den-zivotniho-prostredi-ve-mlyne/2024-06-05/
LOCATION:VÍCE Ve mlýně\, Karlovice 421\, Karlovice\, 793 23\, Česká republika
CATEGORIES:Tvoření a hry
ATTACH;FMTTYPE=image/jpeg:https://actaea.cz/wp-content/uploads/2024/05/CERVEN-VE-MLYNE_page-0001-1.jpg
END:VEVENT
BEGIN:VEVENT
DTSTART;TZID=Europe/Prague:20240607T150000
DTEND;TZID=Europe/Prague:20240607T170000
DTSTAMP:20260423T005403
CREATED:20240215T085021Z
LAST-MODIFIED:20240625T083118Z
UID:10000121-1717772400-1717779600@actaea.cz
SUMMARY:Máme otevřeno!
DESCRIPTION:Přijďte se v PÁTEK do mlýna podívat na výstavu Jeseníky všemi smysly\, nebo jen tak posedět a dát si u nás dobrou kávu a drobné občerstvení! \nMáme otevřeno vždy v: \n\nÚTERÝ\, STŘEDA\, PÁTEK: 15:00 – 17:00\nSOBOTU: 14:00 – 18:00
URL:https://actaea.cz/akce/mame-otevreno/2024-06-07/
LOCATION:VÍCE Ve mlýně\, Karlovice 421\, Karlovice\, 793 23\, Česká republika
CATEGORIES:Tvoření a hry,Výstavy
ATTACH;FMTTYPE=image/jpeg:https://actaea.cz/wp-content/uploads/2024/02/mlyn-1-Karel-Fiala.jpg
END:VEVENT
BEGIN:VEVENT
DTSTART;TZID=Europe/Prague:20240608T140000
DTEND;TZID=Europe/Prague:20240608T180000
DTSTAMP:20260423T005403
CREATED:20240215T085451Z
LAST-MODIFIED:20240625T082701Z
UID:10000383-1717855200-1717869600@actaea.cz
SUMMARY:Máme otevřeno!
DESCRIPTION:Přijďte se v SOBOTU do mlýna podívat na výstavu Jeseníky všemi smysly\, nebo jen tak posedět a dát si u nás dobrou kávu a drobné občerstvení! \nMáme otevřeno vždy v: \n\nPÁTEK: 15:00 – 17:00\nSOBOTU: 14:00 – 18:00
URL:https://actaea.cz/akce/mame-otevreno-2/2024-06-08/
LOCATION:VÍCE Ve mlýně\, Karlovice 421\, Karlovice\, 793 23\, Česká republika
CATEGORIES:Tvoření a hry,Výstavy
ATTACH;FMTTYPE=image/jpeg:https://actaea.cz/wp-content/uploads/2024/02/mlyn-2-Karel-Fiala.jpg
END:VEVENT
BEGIN:VEVENT
DTSTART;TZID=Europe/Prague:20240611T150000
DTEND;TZID=Europe/Prague:20240611T170000
DTSTAMP:20260423T005403
CREATED:20240611T110302Z
LAST-MODIFIED:20240611T110338Z
UID:10000645-1718118000-1718125200@actaea.cz
SUMMARY:DNES ZAVŘENO
DESCRIPTION:Vážení návštěvníci dnešní tvoření Ve mlýně se bohužel nekoná z důvodu programu pro školy\, který bude Ve mlýně probíhat. \nDěkujeme za pochopení a budeme se na vás těšit ve středu.
URL:https://actaea.cz/akce/uterni-tvoreni-ve-mlyne-2-2/
LOCATION:VÍCE Ve mlýně\, Karlovice 421\, Karlovice\, 793 23\, Česká republika
ATTACH;FMTTYPE=image/jpeg:https://actaea.cz/wp-content/uploads/2024/02/tvoreni-1.jpg
END:VEVENT
BEGIN:VEVENT
DTSTART;TZID=Europe/Prague:20240612T140000
DTEND;TZID=Europe/Prague:20240612T170000
DTSTAMP:20260423T005403
CREATED:20240521T131234Z
LAST-MODIFIED:20240521T131900Z
UID:10000918-1718200800-1718211600@actaea.cz
SUMMARY:Jesenické tvoření Ve mlýně
DESCRIPTION:Přijďte ve středu 12.6. do mlýna na jesenické tvoření. \nAkce bude probíhat od 14 do 17 hodin.
URL:https://actaea.cz/akce/jesenicke-tvoreni-ve-mlyne/
LOCATION:VÍCE Ve mlýně\, Karlovice 421\, Karlovice\, 793 23\, Česká republika
CATEGORIES:Tvoření a hry
ATTACH;FMTTYPE=image/jpeg:https://actaea.cz/wp-content/uploads/2024/05/CERVEN-VE-MLYNE_page-0001-1.jpg
END:VEVENT
END:VCALENDAR