BEGIN:VCALENDAR
VERSION:2.0
PRODID:-//Actaea - ECPv6.15.20//NONSGML v1.0//EN
CALSCALE:GREGORIAN
METHOD:PUBLISH
X-WR-CALNAME:Actaea
X-ORIGINAL-URL:https://actaea.cz
X-WR-CALDESC:Akce na Actaea
REFRESH-INTERVAL;VALUE=DURATION:PT1H
X-Robots-Tag:noindex
X-PUBLISHED-TTL:PT1H
BEGIN:VTIMEZONE
TZID:Europe/Prague
BEGIN:DAYLIGHT
TZOFFSETFROM:+0100
TZOFFSETTO:+0200
TZNAME:CEST
DTSTART:20230326T010000
END:DAYLIGHT
BEGIN:STANDARD
TZOFFSETFROM:+0200
TZOFFSETTO:+0100
TZNAME:CET
DTSTART:20231029T010000
END:STANDARD
BEGIN:DAYLIGHT
TZOFFSETFROM:+0100
TZOFFSETTO:+0200
TZNAME:CEST
DTSTART:20240331T010000
END:DAYLIGHT
BEGIN:STANDARD
TZOFFSETFROM:+0200
TZOFFSETTO:+0100
TZNAME:CET
DTSTART:20241027T010000
END:STANDARD
BEGIN:DAYLIGHT
TZOFFSETFROM:+0100
TZOFFSETTO:+0200
TZNAME:CEST
DTSTART:20250330T010000
END:DAYLIGHT
BEGIN:STANDARD
TZOFFSETFROM:+0200
TZOFFSETTO:+0100
TZNAME:CET
DTSTART:20251026T010000
END:STANDARD
END:VTIMEZONE
BEGIN:VEVENT
DTSTART;TZID=Europe/Prague:20240313T140000
DTEND;TZID=Europe/Prague:20240313T180000
DTSTAMP:20260423T004934
CREATED:20240207T161819Z
LAST-MODIFIED:20240207T201747Z
UID:10000097-1710338400-1710352800@actaea.cz
SUMMARY:PŘÍRODA SE PROBOUZÍ - Zvířátka a jejich mláďata
DESCRIPTION:Zvířatka a jejich mláďata – Přijďte do mlýna zjistit\, která zvířátka se na jaře rodí a vytvořit si něco hezkého!\nTvoření –jarní přáníčka\, závěsné ozdoby se zvířátky a mnoho dalšího…
URL:https://actaea.cz/akce/priroda-se-probouzi-zviratka-a-jejich-mladata/
LOCATION:VÍCE Ve mlýně\, Karlovice 421\, Karlovice\, 793 23\, Česká republika
CATEGORIES:Tvoření a hry
ATTACH;FMTTYPE=image/jpeg:https://actaea.cz/wp-content/uploads/2024/02/zajic.jpg
END:VEVENT
BEGIN:VEVENT
DTSTART;TZID=Europe/Prague:20240312T150000
DTEND;TZID=Europe/Prague:20240312T170000
DTSTAMP:20260423T004934
CREATED:20240215T090223Z
LAST-MODIFIED:20240301T122840Z
UID:10000632-1710255600-1710262800@actaea.cz
SUMMARY:Úterní tvoření Ve mlýně
DESCRIPTION:Tvoření pro děti i dospělé Ve mlýně! \nMůžete si u nás dát drobné občerstvení\, nebo si něco hezkého koupit
URL:https://actaea.cz/akce/uterni-tvoreni-ve-mlyne/2024-03-12/
LOCATION:VÍCE Ve mlýně\, Karlovice 421\, Karlovice\, 793 23\, Česká republika
ATTACH;FMTTYPE=image/jpeg:https://actaea.cz/wp-content/uploads/2024/02/tvoreni-1.jpg
END:VEVENT
BEGIN:VEVENT
DTSTART;TZID=Europe/Prague:20240309T140000
DTEND;TZID=Europe/Prague:20240309T180000
DTSTAMP:20260423T004934
CREATED:20240215T085451Z
LAST-MODIFIED:20240625T082701Z
UID:10000370-1709992800-1710007200@actaea.cz
SUMMARY:Máme otevřeno!
DESCRIPTION:Přijďte se v SOBOTU do mlýna podívat na výstavu Jeseníky všemi smysly\, nebo jen tak posedět a dát si u nás dobrou kávu a drobné občerstvení! \nMáme otevřeno vždy v: \n\nPÁTEK: 15:00 – 17:00\nSOBOTU: 14:00 – 18:00
URL:https://actaea.cz/akce/mame-otevreno-2/2024-03-09/
LOCATION:VÍCE Ve mlýně\, Karlovice 421\, Karlovice\, 793 23\, Česká republika
CATEGORIES:Tvoření a hry,Výstavy
ATTACH;FMTTYPE=image/jpeg:https://actaea.cz/wp-content/uploads/2024/02/mlyn-2-Karel-Fiala.jpg
END:VEVENT
BEGIN:VEVENT
DTSTART;TZID=Europe/Prague:20240308T150000
DTEND;TZID=Europe/Prague:20240308T170000
DTSTAMP:20260423T004934
CREATED:20240215T085021Z
LAST-MODIFIED:20240625T083118Z
UID:10000108-1709910000-1709917200@actaea.cz
SUMMARY:Máme otevřeno!
DESCRIPTION:Přijďte se v PÁTEK do mlýna podívat na výstavu Jeseníky všemi smysly\, nebo jen tak posedět a dát si u nás dobrou kávu a drobné občerstvení! \nMáme otevřeno vždy v: \n\nÚTERÝ\, STŘEDA\, PÁTEK: 15:00 – 17:00\nSOBOTU: 14:00 – 18:00
URL:https://actaea.cz/akce/mame-otevreno/2024-03-08/
LOCATION:VÍCE Ve mlýně\, Karlovice 421\, Karlovice\, 793 23\, Česká republika
CATEGORIES:Tvoření a hry,Výstavy
ATTACH;FMTTYPE=image/jpeg:https://actaea.cz/wp-content/uploads/2024/02/mlyn-1-Karel-Fiala.jpg
END:VEVENT
BEGIN:VEVENT
DTSTART;TZID=Europe/Prague:20240306T140000
DTEND;TZID=Europe/Prague:20240306T180000
DTSTAMP:20260423T004934
CREATED:20240207T160640Z
LAST-MODIFIED:20240401T193715Z
UID:10000096-1709733600-1709748000@actaea.cz
SUMMARY:PŘÍRODA SE PROBOUZÍ - První jarní rostliny
DESCRIPTION:První jarní rostliny – Přijďte do mlýna poznat jaro! Ukázka nasbíraných rostlin s krátkými popisky\, stůl s encyklopediemi/knihami o rostlinách a poznávačka. To všechno vás čeká!\nTvoření – herbáře\, skládané květinky\, věnce\, košíky.
URL:https://actaea.cz/akce/priroda-se-probouzi/
LOCATION:VÍCE Ve mlýně\, Karlovice 421\, Karlovice\, 793 23\, Česká republika
CATEGORIES:Tvoření a hry
ATTACH;FMTTYPE=image/jpeg:https://actaea.cz/wp-content/uploads/2024/02/kytka-2-scaled.jpg
END:VEVENT
BEGIN:VEVENT
DTSTART;TZID=Europe/Prague:20240305T150000
DTEND;TZID=Europe/Prague:20240305T170000
DTSTAMP:20260423T004934
CREATED:20240215T090223Z
LAST-MODIFIED:20240301T122840Z
UID:10000631-1709650800-1709658000@actaea.cz
SUMMARY:Úterní tvoření Ve mlýně
DESCRIPTION:Tvoření pro děti i dospělé Ve mlýně! \nMůžete si u nás dát drobné občerstvení\, nebo si něco hezkého koupit
URL:https://actaea.cz/akce/uterni-tvoreni-ve-mlyne/2024-03-05/
LOCATION:VÍCE Ve mlýně\, Karlovice 421\, Karlovice\, 793 23\, Česká republika
ATTACH;FMTTYPE=image/jpeg:https://actaea.cz/wp-content/uploads/2024/02/tvoreni-1.jpg
END:VEVENT
BEGIN:VEVENT
DTSTART;TZID=Europe/Prague:20240302T140000
DTEND;TZID=Europe/Prague:20240302T180000
DTSTAMP:20260423T004934
CREATED:20240215T085451Z
LAST-MODIFIED:20240625T082701Z
UID:10000369-1709388000-1709402400@actaea.cz
SUMMARY:Máme otevřeno!
DESCRIPTION:Přijďte se v SOBOTU do mlýna podívat na výstavu Jeseníky všemi smysly\, nebo jen tak posedět a dát si u nás dobrou kávu a drobné občerstvení! \nMáme otevřeno vždy v: \n\nPÁTEK: 15:00 – 17:00\nSOBOTU: 14:00 – 18:00
URL:https://actaea.cz/akce/mame-otevreno-2/2024-03-02/
LOCATION:VÍCE Ve mlýně\, Karlovice 421\, Karlovice\, 793 23\, Česká republika
CATEGORIES:Tvoření a hry,Výstavy
ATTACH;FMTTYPE=image/jpeg:https://actaea.cz/wp-content/uploads/2024/02/mlyn-2-Karel-Fiala.jpg
END:VEVENT
BEGIN:VEVENT
DTSTART;TZID=Europe/Prague:20240301T150000
DTEND;TZID=Europe/Prague:20240301T170000
DTSTAMP:20260423T004934
CREATED:20240215T085021Z
LAST-MODIFIED:20240625T083118Z
UID:10000107-1709305200-1709312400@actaea.cz
SUMMARY:Máme otevřeno!
DESCRIPTION:Přijďte se v PÁTEK do mlýna podívat na výstavu Jeseníky všemi smysly\, nebo jen tak posedět a dát si u nás dobrou kávu a drobné občerstvení! \nMáme otevřeno vždy v: \n\nÚTERÝ\, STŘEDA\, PÁTEK: 15:00 – 17:00\nSOBOTU: 14:00 – 18:00
URL:https://actaea.cz/akce/mame-otevreno/2024-03-01/
LOCATION:VÍCE Ve mlýně\, Karlovice 421\, Karlovice\, 793 23\, Česká republika
CATEGORIES:Tvoření a hry,Výstavy
ATTACH;FMTTYPE=image/jpeg:https://actaea.cz/wp-content/uploads/2024/02/mlyn-1-Karel-Fiala.jpg
END:VEVENT
BEGIN:VEVENT
DTSTART;TZID=Europe/Prague:20240228T150000
DTEND;TZID=Europe/Prague:20240228T170000
DTSTAMP:20260423T004934
CREATED:20240207T201205Z
LAST-MODIFIED:20240227T200255Z
UID:10000104-1709132400-1709139600@actaea.cz
SUMMARY:Poslední zimní tvoření 2
DESCRIPTION:Tvoření pro děti i dospělé Ve mlýně! \nMůžete si u nás dát drobné občerstvení\, nebo si něco hezkého koupit!
URL:https://actaea.cz/akce/posledni-zimni-tvoreni-2/
LOCATION:VÍCE Ve mlýně\, Karlovice 421\, Karlovice\, 793 23\, Česká republika
CATEGORIES:Tvoření a hry
ATTACH;FMTTYPE=image/jpeg:https://actaea.cz/wp-content/uploads/2024/02/schneeflocken-weihnachten-textur.jpg
END:VEVENT
BEGIN:VEVENT
DTSTART;TZID=Europe/Prague:20240227T150000
DTEND;TZID=Europe/Prague:20240227T170000
DTSTAMP:20260423T004934
CREATED:20240215T090223Z
LAST-MODIFIED:20240301T122840Z
UID:10000630-1709046000-1709053200@actaea.cz
SUMMARY:Úterní tvoření Ve mlýně
DESCRIPTION:Tvoření pro děti i dospělé Ve mlýně! \nMůžete si u nás dát drobné občerstvení\, nebo si něco hezkého koupit
URL:https://actaea.cz/akce/uterni-tvoreni-ve-mlyne/2024-02-27/
LOCATION:VÍCE Ve mlýně\, Karlovice 421\, Karlovice\, 793 23\, Česká republika
ATTACH;FMTTYPE=image/jpeg:https://actaea.cz/wp-content/uploads/2024/02/tvoreni-1.jpg
END:VEVENT
BEGIN:VEVENT
DTSTART;TZID=Europe/Prague:20240224T140000
DTEND;TZID=Europe/Prague:20240224T180000
DTSTAMP:20260423T004934
CREATED:20240215T085451Z
LAST-MODIFIED:20240625T082701Z
UID:10000368-1708783200-1708797600@actaea.cz
SUMMARY:Máme otevřeno!
DESCRIPTION:Přijďte se v SOBOTU do mlýna podívat na výstavu Jeseníky všemi smysly\, nebo jen tak posedět a dát si u nás dobrou kávu a drobné občerstvení! \nMáme otevřeno vždy v: \n\nPÁTEK: 15:00 – 17:00\nSOBOTU: 14:00 – 18:00
URL:https://actaea.cz/akce/mame-otevreno-2/2024-02-24/
LOCATION:VÍCE Ve mlýně\, Karlovice 421\, Karlovice\, 793 23\, Česká republika
CATEGORIES:Tvoření a hry,Výstavy
ATTACH;FMTTYPE=image/jpeg:https://actaea.cz/wp-content/uploads/2024/02/mlyn-2-Karel-Fiala.jpg
END:VEVENT
BEGIN:VEVENT
DTSTART;TZID=Europe/Prague:20240223T150000
DTEND;TZID=Europe/Prague:20240223T170000
DTSTAMP:20260423T004934
CREATED:20240215T085021Z
LAST-MODIFIED:20240625T083118Z
UID:10000106-1708700400-1708707600@actaea.cz
SUMMARY:Máme otevřeno!
DESCRIPTION:Přijďte se v PÁTEK do mlýna podívat na výstavu Jeseníky všemi smysly\, nebo jen tak posedět a dát si u nás dobrou kávu a drobné občerstvení! \nMáme otevřeno vždy v: \n\nÚTERÝ\, STŘEDA\, PÁTEK: 15:00 – 17:00\nSOBOTU: 14:00 – 18:00
URL:https://actaea.cz/akce/mame-otevreno/2024-02-23/
LOCATION:VÍCE Ve mlýně\, Karlovice 421\, Karlovice\, 793 23\, Česká republika
CATEGORIES:Tvoření a hry,Výstavy
ATTACH;FMTTYPE=image/jpeg:https://actaea.cz/wp-content/uploads/2024/02/mlyn-1-Karel-Fiala.jpg
END:VEVENT
BEGIN:VEVENT
DTSTART;TZID=Europe/Prague:20240221T150000
DTEND;TZID=Europe/Prague:20240221T170000
DTSTAMP:20260423T004934
CREATED:20240207T201119Z
LAST-MODIFIED:20240227T200535Z
UID:10000103-1708527600-1708534800@actaea.cz
SUMMARY:Poslední zimní tvoření
DESCRIPTION:Tvoření pro děti i dospělé Ve mlýně! \nMůžete si u nás dát drobné občerstvení\, nebo si něco hezkého koupit!
URL:https://actaea.cz/akce/posledni-zimni-tvoreni/
LOCATION:VÍCE Ve mlýně\, Karlovice 421\, Karlovice\, 793 23\, Česká republika
CATEGORIES:Tvoření a hry
ATTACH;FMTTYPE=image/jpeg:https://actaea.cz/wp-content/uploads/2024/02/schneeflocken-weihnachten-textur.jpg
END:VEVENT
BEGIN:VEVENT
DTSTART;TZID=Europe/Prague:20240220T150000
DTEND;TZID=Europe/Prague:20240220T170000
DTSTAMP:20260423T004934
CREATED:20240215T090223Z
LAST-MODIFIED:20240301T122840Z
UID:10000629-1708441200-1708448400@actaea.cz
SUMMARY:Úterní tvoření Ve mlýně
DESCRIPTION:Tvoření pro děti i dospělé Ve mlýně! \nMůžete si u nás dát drobné občerstvení\, nebo si něco hezkého koupit
URL:https://actaea.cz/akce/uterni-tvoreni-ve-mlyne/2024-02-20/
LOCATION:VÍCE Ve mlýně\, Karlovice 421\, Karlovice\, 793 23\, Česká republika
ATTACH;FMTTYPE=image/jpeg:https://actaea.cz/wp-content/uploads/2024/02/tvoreni-1.jpg
END:VEVENT
BEGIN:VEVENT
DTSTART;TZID=Europe/Prague:20240217T140000
DTEND;TZID=Europe/Prague:20240217T180000
DTSTAMP:20260423T004934
CREATED:20240215T085451Z
LAST-MODIFIED:20240625T082701Z
UID:10000367-1708178400-1708192800@actaea.cz
SUMMARY:Máme otevřeno!
DESCRIPTION:Přijďte se v SOBOTU do mlýna podívat na výstavu Jeseníky všemi smysly\, nebo jen tak posedět a dát si u nás dobrou kávu a drobné občerstvení! \nMáme otevřeno vždy v: \n\nPÁTEK: 15:00 – 17:00\nSOBOTU: 14:00 – 18:00
URL:https://actaea.cz/akce/mame-otevreno-2/2024-02-17/
LOCATION:VÍCE Ve mlýně\, Karlovice 421\, Karlovice\, 793 23\, Česká republika
CATEGORIES:Tvoření a hry,Výstavy
ATTACH;FMTTYPE=image/jpeg:https://actaea.cz/wp-content/uploads/2024/02/mlyn-2-Karel-Fiala.jpg
END:VEVENT
BEGIN:VEVENT
DTSTART;TZID=Europe/Prague:20240216T150000
DTEND;TZID=Europe/Prague:20240216T170000
DTSTAMP:20260423T004934
CREATED:20240215T085021Z
LAST-MODIFIED:20240625T083118Z
UID:10000105-1708095600-1708102800@actaea.cz
SUMMARY:Máme otevřeno!
DESCRIPTION:Přijďte se v PÁTEK do mlýna podívat na výstavu Jeseníky všemi smysly\, nebo jen tak posedět a dát si u nás dobrou kávu a drobné občerstvení! \nMáme otevřeno vždy v: \n\nÚTERÝ\, STŘEDA\, PÁTEK: 15:00 – 17:00\nSOBOTU: 14:00 – 18:00
URL:https://actaea.cz/akce/mame-otevreno/2024-02-16/
LOCATION:VÍCE Ve mlýně\, Karlovice 421\, Karlovice\, 793 23\, Česká republika
CATEGORIES:Tvoření a hry,Výstavy
ATTACH;FMTTYPE=image/jpeg:https://actaea.cz/wp-content/uploads/2024/02/mlyn-1-Karel-Fiala.jpg
END:VEVENT
BEGIN:VEVENT
DTSTART;TZID=Europe/Prague:20240214T150000
DTEND;TZID=Europe/Prague:20240214T170000
DTSTAMP:20260423T004934
CREATED:20240207T200807Z
LAST-MODIFIED:20240207T201313Z
UID:10000102-1707922800-1707930000@actaea.cz
SUMMARY:Valentýnské tvoření
DESCRIPTION:Tvoření pro děti i dospělé ve mlýně! Přijďte si vytvořit valentýnku! \nMůžete si u nás dát drobné občerstvení\, nebo si něco hezkého koupit! Pro dospělé máme taky skleničku dobrého vína.
URL:https://actaea.cz/akce/valentynske-tvoreni/
LOCATION:VÍCE Ve mlýně\, Karlovice 421\, Karlovice\, 793 23\, Česká republika
CATEGORIES:Tvoření a hry
ATTACH;FMTTYPE=image/jpeg:https://actaea.cz/wp-content/uploads/2024/02/images.jpg
END:VEVENT
BEGIN:VEVENT
DTSTART;TZID=Europe/Prague:20240213T150000
DTEND;TZID=Europe/Prague:20240213T170000
DTSTAMP:20260423T004934
CREATED:20240215T090223Z
LAST-MODIFIED:20240301T122840Z
UID:10000628-1707836400-1707843600@actaea.cz
SUMMARY:Úterní tvoření Ve mlýně
DESCRIPTION:Tvoření pro děti i dospělé Ve mlýně! \nMůžete si u nás dát drobné občerstvení\, nebo si něco hezkého koupit
URL:https://actaea.cz/akce/uterni-tvoreni-ve-mlyne/2024-02-13/
LOCATION:VÍCE Ve mlýně\, Karlovice 421\, Karlovice\, 793 23\, Česká republika
ATTACH;FMTTYPE=image/jpeg:https://actaea.cz/wp-content/uploads/2024/02/tvoreni-1.jpg
END:VEVENT
BEGIN:VEVENT
DTSTART;TZID=Europe/Prague:20240207T150000
DTEND;TZID=Europe/Prague:20240207T170000
DTSTAMP:20260423T004934
CREATED:20240207T200424Z
LAST-MODIFIED:20240207T201249Z
UID:10000101-1707318000-1707325200@actaea.cz
SUMMARY:Masopust
DESCRIPTION:Tvoření pro děti i dospělé ve mlýně! \nMůžete si u nás dát drobné občerstvení\, nebo si něco hezkého koupit!
URL:https://actaea.cz/akce/masopust/
LOCATION:VÍCE Ve mlýně\, Karlovice 421\, Karlovice\, 793 23\, Česká republika
CATEGORIES:Tvoření a hry
ATTACH;FMTTYPE=image/jpeg:https://actaea.cz/wp-content/uploads/2024/02/programy-vevnitr-mlyn-28-scaled.jpg
END:VEVENT
BEGIN:VEVENT
DTSTART;TZID=Europe/Prague:20240202T090000
DTEND;TZID=Europe/Prague:20240202T170000
DTSTAMP:20260423T004934
CREATED:20240112T102022Z
LAST-MODIFIED:20240112T102820Z
UID:10000008-1706864400-1706893200@actaea.cz
SUMMARY:Celodenní program Ve mlýně
DESCRIPTION:Dopoledne plné her – turnaj v pexesu a bingu. \nOdpolední posezení nejen pro rodiče s dětmi.
URL:https://actaea.cz/akce/celodenni-program-ve-mlyne/
CATEGORIES:Tvoření a hry
ATTACH;FMTTYPE=image/jpeg:https://actaea.cz/wp-content/uploads/2021/08/IMG_4692.jpg
END:VEVENT
BEGIN:VEVENT
DTSTART;TZID=Europe/Prague:20240201T150000
DTEND;TZID=Europe/Prague:20240201T170000
DTSTAMP:20260423T004934
CREATED:20240112T101350Z
LAST-MODIFIED:20240215T091925Z
UID:10000007-1706799600-1706806800@actaea.cz
SUMMARY:Výstava Jeseníky všemi smysly
DESCRIPTION:Hry a posezení. \nOtevřeno v PÁTEK 15-17 hod.\, v SOBOTU 14-18 hod.
URL:https://actaea.cz/akce/vystava-jeseniky-vsemi-smysly/
LOCATION:VÍCE Ve mlýně\, Karlovice 421\, Karlovice\, 793 23\, Česká republika
CATEGORIES:Výstavy
ATTACH;FMTTYPE=image/jpeg:https://actaea.cz/wp-content/uploads/2021/08/IMG_4562-scaled.jpg
END:VEVENT
BEGIN:VEVENT
DTSTART;TZID=Europe/Prague:20240119T180000
DTEND;TZID=Europe/Prague:20240119T200000
DTSTAMP:20260423T004934
CREATED:20240207T184455Z
LAST-MODIFIED:20240207T184455Z
UID:10000100-1705687200-1705694400@actaea.cz
SUMMARY:Koncert Jiřího Mecy na historické kytary
DESCRIPTION:Koncert Jiřího Mecy na historické kytary se uskuteční 19.1.2024 od 18 hodin u nás ve mlýně! \nVstupné je 100 korun. Těšíme se na Vás!
URL:https://actaea.cz/akce/koncert-jiriho-mecy-na-historicke-kytary/
LOCATION:VÍCE Ve mlýně\, Karlovice 421\, Karlovice\, 793 23\, Česká republika
ATTACH;FMTTYPE=image/jpeg:https://actaea.cz/wp-content/uploads/2024/02/MECA-KONCERT-PLAKAT.jpg
END:VEVENT
END:VCALENDAR